{"text_format":"1","workbook":"xlsx","n_sheets":2,"sheets":["Árlista"," "],"not_rendered":{"charts":0,"images":0,"macros":1,"external_links":0,"defined_names":5,"comments":0,"pivot_tables":0},"unopened":[],"bounds":{"document_bytes":16777216,"sheet_cells":100000,"rows_first":2000,"rows_last":500,"rows_between":2000,"halvings":0,"cell_chars":16384,"cell_head_chars":4096},"cells_cut":0,"cells_raw":0,"read":"whole","date_system":"1900"}

{"sheet":"Árlista","index":0,"n_rows":1636,"n_cols":12,"rows_kept":1636,"cut":false,"hidden":false,"merged":[[234,1,234,6],[7,1,7,6],[8,1,8,6],[47,1,47,6],[69,1,69,6],[87,1,87,6],[105,1,105,6],[133,1,133,6],[165,1,165,6],[166,1,166,6],[209,1,209,6],[222,1,222,6],[858,1,858,6],[235,1,235,6],[283,1,283,6],[474,1,474,6],[496,1,496,6],[536,1,536,6],[550,1,550,6],[583,1,583,6],[616,1,616,6],[710,1,710,6],[719,1,719,6],[735,1,735,6],[1187,1,1187,6],[1240,1,1240,6],[1362,1,1362,6],[1425,1,1425,6],[895,1,895,6],[942,1,942,6],[1056,1,1056,6],[1073,1,1073,6],[1097,1,1097,6],[1116,1,1116,6],[1613,1,1613,6],[218,3,218,5],[226,3,226,5],[347,3,347,5],[228,3,228,5],[586,3,586,5],[1426,1,1426,6],[1440,1,1440,6],[1465,1,1465,6],[1505,1,1505,6],[1543,1,1543,6],[1612,1,1612,6],[1218,3,1218,5],[1159,1,1159,6],[1,6,1,8],[1,9,1,11],[4,0,4,11],[0,0,0,3],[0,4,0,5],[0,6,0,8],[0,9,0,11],[1,0,1,3],[1,4,1,5],[2,0,2,5],[2,6,2,8],[2,9,2,11],[3,0,3,5],[3,6,3,8],[3,9,3,11]]}
["Megrendelő Neve:"]
["Elszállítás Dátuma:",null,null,null,null,null,"Vásárlás Nettó Értéke:",null,null,{"$f":"SUM(L11:L1636)","v":0}]
["Az árváltoztatás jogát fenntartjuk! Rendelését elküldheti e-mailben a",null,null,null,null,null,"rendeles@irritrade.hu",null,null,"címre."]
["A termékekről bővebben a ",null,null,null,null,null,"www.irritrade.hu",null,null,"oldalon vagy a termék nevére kattintva olvashat."]
["Szűrési Lehetőségek"]
["ÚJ",null,"Termékkategória",null,"Gyártó","Megnevezés","Nettó ár","Mennyiség","Egység","Csom. Egy.","Rendelésre","Nettó Ár Összesen"]
[]
[null,"VEZÉRLŐ AUTOMATIKÁK ÖNTÖZŐRENDSZEREKHEZ"]
[null,"HÁLÓZATI (230V-OS) VEZÉRLŐK"]
[]
[null,null,"HÁLÓZATI VEZÉRLŐ","ELC401IE","HUNTER","ECO LOGIC, 4 zónás vezérlő, BELTÉRI",{"$f":"VLOOKUP(D11,' '!$1:$1048576,3,0)","v":14170},null,"db",8,null,{"$f":"G11*H11","v":0}]
[null,null,"HÁLÓZATI VEZÉRLŐ","ELC601IE","HUNTER","ECO LOGIC, 6 zónás vezérlő, BELTÉRI",{"$f":"VLOOKUP(D12,' '!$1:$1048576,3,0)","v":16094},null,"db",8,null,{"$f":"G12*H12","v":0}]
[]
[null,null,"HÁLÓZATI VEZÉRLŐ","XC-401-iE","HUNTER","X-CORE, 4 zónás vezérlő, BELTÉRI",{"$f":"VLOOKUP(D14,' '!$1:$1048576,3,0)","v":23970},null,"db",10,null,{"$f":"G14*H14","v":0}]
[null,null,"HÁLÓZATI VEZÉRLŐ","XC-601-iE","HUNTER","X-CORE, 6 zónás vezérlő, BELTÉRI",{"$f":"VLOOKUP(D15,' '!$1:$1048576,3,0)","v":26963},null,"db",10,null,{"$f":"G15*H15","v":0}]
[null,null,"HÁLÓZATI VEZÉRLŐ","XC-801-iE","HUNTER","X-CORE, 8 zónás vezérlő, BELTÉRI",{"$f":"VLOOKUP(D16,' '!$1:$1048576,3,0)","v":34456},null,"db",10,null,{"$f":"G16*H16","v":0}]
[]
[null,null,"HÁLÓZATI VEZÉRLŐ","XC-401-E","HUNTER","X-CORE, 4 zónás vezérlő, KÜLTÉRI",{"$f":"VLOOKUP(D18,' '!$1:$1048576,3,0)","v":34848},null,"db",10,null,{"$f":"G18*H18","v":0}]
[null,null,"HÁLÓZATI VEZÉRLŐ","XC-601-E","HUNTER","X-CORE, 6 zónás vezérlő, KÜLTÉRI",{"$f":"VLOOKUP(D19,' '!$1:$1048576,3,0)","v":40527},null,"db",10,null,{"$f":"G19*H19","v":0}]
[null,null,"HÁLÓZATI VEZÉRLŐ","XC-801-E","HUNTER","X-CORE, 8 zónás vezérlő, KÜLTÉRI",{"$f":"VLOOKUP(D20,' '!$1:$1048576,3,0)","v":48950},null,"db",10,null,{"$f":"G20*H20","v":0}]
[]
[null,null,"HÁLÓZATI VEZÉRLŐ","PC-401i-E","HUNTER","PRO-C moduláris vezérlő, 4-16 zónáig, BELTÉRI",{"$f":"VLOOKUP(D22,' '!$1:$1048576,3,0)","v":43454},null,"db",8,null,{"$f":"G22*H22","v":0}]
[null,null,"HÁLÓZATI VEZÉRLŐ","PC-401-E","HUNTER","PRO-C moduláris vezérlő, 4-16 zónáig, KÜLTÉRI",{"$f":"VLOOKUP(D23,' '!$1:$1048576,3,0)","v":56522},null,"db",8,null,{"$f":"G23*H23","v":0}]
[]
[null,null,"HÁLÓZATI VEZÉRLŐ","PCC601E","HUNTER","PRO-C CONVENTIONAL 6 zónás FIX vezérlő, KÜLTÉRI",{"$f":"G19","v":40527},null,"db",8,"Rendelésre!",{"$f":"G25*H25","v":0}]
[null,null,"HÁLÓZATI VEZÉRLŐ","PCC1201E","HUNTER","PRO-C CONVENTIONAL 12 zónás FIX vezérlő, KÜLTÉRI",{"$f":"VLOOKUP(D26,' '!$1:$1048576,3,0)","v":91032},null,"db",8,"Rendelésre!",{"$f":"G26*H26","v":0}]
[]
[null,null,"HÁLÓZATI VEZÉRLŐ","IC600PL","HUNTER","I-CORE moduláris vezérlő, 6-30 zónáig, MŰANYAG HÁZAS",{"$f":"VLOOKUP(D28,' '!$1:$1048576,3,0)","v":129900},null,"db",1,"Rendelésre!",{"$f":"G28*H28","v":0}]
[null,null,"HÁLÓZATI VEZÉRLŐ","IC600M","HUNTER","I-CORE moduláris vezérlő, 6-42 zónáig, FÉMHÁZAS",{"$f":"VLOOKUP(D29,' '!$1:$1048576,3,0)","v":258030},null,"db",1,"Rendelésre!",{"$f":"G29*H29","v":0}]
[]
[null,null,"HÁLÓZATI VEZÉRLŐ","F44082","RAIN BIRD","ESP-LXME 8 moduláris vezérlő, 8-48 zónáig, MŰANYAG HÁZAS",{"$f":"VLOOKUP(D31,' '!$1:$1048576,3,0)","v":119594},null,"db",1,"Rendelésre!",{"$f":"G31*H31","v":0}]
[null,null,"HÁLÓZATI VEZÉRLŐ","F44122","RAIN BIRD","ESP-LXME 12 moduláris vezérlő, 12-48 zónáig, MŰANYAG HÁZAS",{"$f":"VLOOKUP(D32,' '!$1:$1048576,3,0)","v":191243},null,"db",1,"Rendelésre!",{"$f":"G32*H32","v":0}]
[]
["ÚJ",null,"HÁLÓZATI VEZÉRLŐ","200.4180410","RAIN","C-Dial, 4 zónás vezérlő, BELTÉRI",{"$f":"VLOOKUP(D34,' '!$1:$1048576,3,0)","v":11863},null,"db",1,null,{"$f":"G34*H34","v":0}]
["ÚJ",null,"HÁLÓZATI VEZÉRLŐ","200.4180610","RAIN","C-Dial, 6 zónás vezérlő, BELTÉRI",{"$f":"VLOOKUP(D35,' '!$1:$1048576,3,0)","v":13486},null,"db",1,null,{"$f":"G35*H35","v":0}]
[]
["ÚJ",null,"HÁLÓZATI VEZÉRLŐ","200.4080410","RAIN","I-Dial, 4 zónás vezérlő, BELTÉRI",{"$f":"VLOOKUP(D37,' '!$1:$1048576,3,0)","v":18622},null,"db",1,null,{"$f":"G37*H37","v":0}]
["ÚJ",null,"HÁLÓZATI VEZÉRLŐ","200.4080610","RAIN","I-Dial, 6 zónás vezérlő, BELTÉRI",{"$f":"VLOOKUP(D38,' '!$1:$1048576,3,0)","v":20676},null,"db",1,null,{"$f":"G38*H38","v":0}]
["ÚJ",null,"HÁLÓZATI VEZÉRLŐ","200.4080810","RAIN","I-Dial, 8 zónás vezérlő, BELTÉRI",{"$f":"VLOOKUP(D39,' '!$1:$1048576,3,0)","v":25959},null,"db",1,null,{"$f":"G39*H39","v":0}]
[]
["ÚJ",null,"HÁLÓZATI VEZÉRLŐ","200.4083410","RAIN","I-Dial, 4 zónás vezérlő, KÜLTÉRI",{"$f":"VLOOKUP(D41,' '!$1:$1048576,3,0)","v":27181},null,"db",1,null,{"$f":"G41*H41","v":0}]
["ÚJ",null,"HÁLÓZATI VEZÉRLŐ","200.4083610","RAIN","I-Dial, 6 zónás vezérlő, KÜLTÉRI",{"$f":"VLOOKUP(D42,' '!$1:$1048576,3,0)","v":29872},null,"db",1,null,{"$f":"G42*H42","v":0}]
["ÚJ",null,"HÁLÓZATI VEZÉRLŐ","200.4083810","RAIN","I-Dial, 8 zónás vezérlő, KÜLTÉRI",{"$f":"VLOOKUP(D43,' '!$1:$1048576,3,0)","v":37453},null,"db",1,null,{"$f":"G43*H43","v":0}]
[]
[null,null,"HÁLÓZATI VEZÉRLŐ","TMC-212ID","TORO","TMC-212 vezérlő, 4-12 zónáig bővíthető, BELTÉRI",{"$f":"VLOOKUP(D45,' '!$1:$1048576,3,0)","v":44920},null,"db",1,"Rendelésre!",{"$f":"G45*H45","v":0}]
[null,null,"HÁLÓZATI VEZÉRLŐ","TMC-212OD","TORO","TMC-212 vezérlő, 4-12 zónáig bővíthető, KÜLTÉRI",{"$f":"VLOOKUP(D46,' '!$1:$1048576,3,0)","v":71991},null,"db",1,"Rendelésre!",{"$f":"G46*H46","v":0}]
[]
[null,"TÁVOLI ELÉRÉSŰ, WIFI KÉPES VEZÉRLŐK"]
[]
["ÚJ",null,"WIFI KÉPES VEZÉRLŐ","HC-601i-E","HUNTER","HC, BELTÉRI, 6 zónás vezérlő, Wi-Fi képes",{"$f":"VLOOKUP(D50,' '!$1:$1048576,3,0)","v":72352},null,"db",1,null,{"$f":"G50*H50","v":0}]
["ÚJ",null,"WIFI KÉPES VEZÉRLŐ","HC-1201i-E","HUNTER","HC, BELTÉRI, 12 zónás vezérlő, Wi-Fi képes",{"$f":"VLOOKUP(D51,' '!$1:$1048576,3,0)","v":84281},null,"db",1,null,{"$f":"G51*H51","v":0}]
["ÚJ",null,"WIFI KÉPES VEZÉRLŐ","HC-1200M","HUNTER","HC, 12 zónás bővítő modul",{"$f":"VLOOKUP(D52,' '!$1:$1048576,3,0)","v":45383},null,"db",1,null,{"$f":"G52*H52","v":0}]
[]
["ÚJ",null,"WIFI KÉPES VEZÉRLŐ","PHC-601E","HUNTER","PRO-HC, KÜLTÉRI, 6 zónás Wi-Fi képes vezérlő",{"$f":"VLOOKUP(D54,' '!$1:$1048576,3,0)","v":84281},null,"db",1,null,{"$f":"G54*H54","v":0}]
["ÚJ",null,"WIFI KÉPES VEZÉRLŐ","PHC-1201E","HUNTER","PRO-HC, KÜLTÉRI, 12 zónás Wi-Fi képes vezérlő",{"$f":"VLOOKUP(D55,' '!$1:$1048576,3,0)","v":103470},null,"db",1,null,{"$f":"G55*H55","v":0}]
["ÚJ",null,"WIFI KÉPES VEZÉRLŐ","PHC-2401E","HUNTER","PRO-HC, KÜLTÉRI, 24 zónás Wi-Fi képes vezérlő",{"$f":"VLOOKUP(D56,' '!$1:$1048576,3,0)","v":181267},null,"db",1,"Rendelésre!",{"$f":"G56*H56","v":0}]
[]
["ÚJ",null,"WIFI KÉPES VEZÉRLŐ","HCPLANENTHUSIAST","HUNTER","HC, kiterjesztett előfizetés kártya 1 évre",{"$f":"VLOOKUP(D58,' '!$1:$1048576,3,0)","v":15239},null,"db",1,"Rendelésre!",{"$f":"G58*H58","v":0}]
[]
["ÚJ",null,"WIFI KÉPES VEZÉRLŐ","RZXe4i","RAIN BIRD","ESP-RZX, 6 zónás vezérlő, BELTÉRI, LNK ready",{"$f":"VLOOKUP(D60,' '!$1:$1048576,3,0)","v":23388},null,"db",1,null,{"$f":"G60*H60","v":0}]
["ÚJ",null,"WIFI KÉPES VEZÉRLŐ","RZXe6i","RAIN BIRD","ESP-RZX, 6 zónás vezérlő, BELTÉRI, LNK ready",{"$f":"VLOOKUP(D61,' '!$1:$1048576,3,0)","v":25562},null,"db",1,null,{"$f":"G61*H61","v":0}]
["ÚJ",null,"WIFI KÉPES VEZÉRLŐ","RZXe8i","RAIN BIRD","ESP-RZX, 8 zónás vezérlő, BELTÉRI, LNK ready",{"$f":"VLOOKUP(D62,' '!$1:$1048576,3,0)","v":30866},null,"db",1,null,{"$f":"G62*H62","v":0}]
[]
["ÚJ",null,"WIFI KÉPES VEZÉRLŐ","RZXe4","RAIN BIRD","ESP-RZX, 4 zónás vezérlő, KÜLTÉRI, LNK ready",{"$f":"VLOOKUP(D64,' '!$1:$1048576,3,0)","v":33032},null,"db",1,null,{"$f":"G64*H64","v":0}]
["ÚJ",null,"WIFI KÉPES VEZÉRLŐ","RZXe6","RAIN BIRD","ESP-RZX, 6 zónás vezérlő, KÜLTÉRI, LNK ready",{"$f":"VLOOKUP(D65,' '!$1:$1048576,3,0)","v":37841},null,"db",1,null,{"$f":"G65*H65","v":0}]
["ÚJ",null,"WIFI KÉPES VEZÉRLŐ","RZXe8","RAIN BIRD","ESP-RZX, 8 zónás vezérlő, KÜLTÉRI, LNK ready",{"$f":"VLOOKUP(D66,' '!$1:$1048576,3,0)","v":49854},null,"db",1,null,{"$f":"G66*H66","v":0}]
[]
["ÚJ",null,"WIFI KÉPES VEZÉRLŐ","ESP4MEWIFI","RAIN BIRD","ESP-Me moduláris vezérlő, 4-22 zónáig, KÜLTÉRI, LNK ready",{"$f":"VLOOKUP(D68,' '!$1:$1048576,3,0)","v":62288},null,"db",1,null,{"$f":"G68*H68","v":0}]
[]
[null,"ELEMES VEZÉRLŐK"]
[]
[null,null,"ELEMES VEZÉRLŐ","NODE100VALVEB","HUNTER","NODE-100, 1 zónás, elemes vezérlő + PGV 100 BB, 9V",{"$f":"VLOOKUP(D72,' '!$1:$1048576,3,0)","v":35505},null,"db",1,null,{"$f":"G72*H72","v":0}]
[null,null,"ELEMES VEZÉRLŐ","NODE100LS","HUNTER","NODE-100 elemes vezérlő, 1 zónás, 9V",{"$f":"VLOOKUP(D73,' '!$1:$1048576,3,0)","v":25584},null,"db",1,null,{"$f":"G73*H73","v":0}]
[null,null,"ELEMES VEZÉRLŐ","NODE200","HUNTER","NODE-200 elemes vezérlő, 2 zónás, 9V",{"$f":"VLOOKUP(D74,' '!$1:$1048576,3,0)","v":42320},null,"db",1,null,{"$f":"G74*H74","v":0}]
[null,null,"ELEMES VEZÉRLŐ","NODE400","HUNTER","NODE-400 elemes vezérlő, 4 zónás, 9V",{"$f":"VLOOKUP(D75,' '!$1:$1048576,3,0)","v":49916},null,"db",1,null,{"$f":"G75*H75","v":0}]
[null,null,"ELEMES VEZÉRLŐ","NODE600","HUNTER","NODE-600 elemes vezérlő, 6 zónás, 9V",{"$f":"VLOOKUP(D76,' '!$1:$1048576,3,0)","v":58313},null,"db",1,null,{"$f":"G76*H76","v":0}]
[]
["ÚJ",null,"ELEMES VEZÉRLŐ","WPXDVKIT","RAIN BIRD","WPX-DV kit, elemes vezérlő + DV BB 1\" szelep, 1 zóna, 9V",{"$f":"VLOOKUP(D78,' '!$1:$1048576,3,0)","v":27931},null,"db",1,null,{"$f":"G78*H78","v":0}]
["ÚJ",null,"ELEMES VEZÉRLŐ","WPX1","RAIN BIRD","WPX1 elemes vezérlő, 1 zónás, 9V",{"$f":"VLOOKUP(D79,' '!$1:$1048576,3,0)","v":25160},null,"db",1,null,0]
["ÚJ",null,"ELEMES VEZÉRLŐ","WPX2","RAIN BIRD","WPX2 elemes vezérlő, 2 zónás, 9V",{"$f":"VLOOKUP(D80,' '!$1:$1048576,3,0)","v":43399},null,"db",1,null,0]
["ÚJ",null,"ELEMES VEZÉRLŐ","WPX4","RAIN BIRD","WPX4 elemes vezérlő, 4 zónás, 9V",{"$f":"VLOOKUP(D81,' '!$1:$1048576,3,0)","v":47440},null,"db",1,null,0]
["ÚJ",null,"ELEMES VEZÉRLŐ","WPX6","RAIN BIRD","WPX6 elemes vezérlő, 6 zónás, 9V",{"$f":"VLOOKUP(D82,' '!$1:$1048576,3,0)","v":52610},null,"db",1,null,0]
[null,null,"ELEMES VEZÉRLŐ","WP8","RAIN BIRD","WP-8 elemes vezérlő, 8 zónás, 9V",{"$f":"VLOOKUP(D83,' '!$1:$1048576,3,0)","v":57205},null,"db",1,null,0]
[]
["ÚJ",null,"ELEMES VEZÉRLŐ","200.4064562","RAIN","AMICO PRO, 1 körös elemes vezérlő + RN150 1\" KH szelep",{"$f":"VLOOKUP(D85,' '!$1:$1048576,3,0)","v":24829},null,"db",1,null,{"$f":"G85*H85","v":0}]
["ÚJ",null,"ELEMES VEZÉRLŐ","200.4064200","RAIN","AMICO PRO, 2 körös elemes vezérlő",{"$f":"VLOOKUP(D86,' '!$1:$1048576,3,0)","v":26829},null,"db",1,null,{"$f":"G86*H86","v":0}]
[]
[null,"CSAPRA SZERELHETŐ VEZÉRLŐK"]
[]
[null,null,"CSAPRA SZERELHETŐ VEZÉRLŐ","1ZEHTMR","RAIN BIRD","1ZEHTMR, kerti csapra szerelhető vezérlő, 1 zónás",{"$f":"VLOOKUP(D90,' '!$1:$1048576,3,0)","v":17151},null,"db",1,null,{"$f":"G90*H90","v":0}]
[]
["ÚJ",null,"CSAPRA SZERELHETŐ VEZÉRLŐ","200.6800100","RAIN","CLICK, kerti csapra szerelhető vezérlő, 1 zónás",{"$f":"VLOOKUP(D92,' '!$1:$1048576,3,0)","v":7892},null,"db",1,null,{"$f":"G92*H92","v":0}]
["ÚJ",null,"CSAPRA SZERELHETŐ VEZÉRLŐ","200.6800200","RAIN","CLICK +, kerti csapra szerelhető vezérlő, 1 zónás",{"$f":"VLOOKUP(D93,' '!$1:$1048576,3,0)","v":9746},null,"db",1,null,{"$f":"G93*H93","v":0}]
["ÚJ",null,"CSAPRA SZERELHETŐ VEZÉRLŐ","200.6800300","RAIN","CLICK BLUETOOTH, kerti csapra szerelhető vezérlő, 1 zónás",{"$f":"VLOOKUP(D94,' '!$1:$1048576,3,0)","v":11316},null,"db",1,null,{"$f":"G94*H94","v":0}]
["ÚJ",null,"CSAPRA SZERELHETŐ VEZÉRLŐ","200.6800400","RAIN","CLICK MIST, kerti csapra szerelhető vezérlő, 1 zónás",{"$f":"VLOOKUP(D95,' '!$1:$1048576,3,0)","v":7892},null,"db",1,null,{"$f":"G95*H95","v":0}]
[]
["ÚJ",null,"CSAPRA SZERELHETŐ VEZÉRLŐ","200.4094700","RAIN","AMICO +, kerti csapra szerelhető vezérlő, 1 zónás",{"$f":"VLOOKUP(D97,' '!$1:$1048576,3,0)","v":11139},null,"db",1,null,{"$f":"G97*H97","v":0}]
["ÚJ",null,"CSAPRA SZERELHETŐ VEZÉRLŐ","200.4044502","RAIN","AMICO 2+, kerti csapra szerelhető vezérlő, 2 zónás",{"$f":"VLOOKUP(D98,' '!$1:$1048576,3,0)","v":17745},null,"db",1,null,{"$f":"G98*H98","v":0}]
[]
[null,null,"CSAPRA SZERELHETŐ VEZÉRLŐ","OR94206","ORBIT","HT-6, kerti csapra szerelhető vezérlő, 1 zónás",{"$f":"VLOOKUP(D100,' '!$1:$1048576,3,0)","v":18473},null,"db",1,"Rendelésre!",{"$f":"G100*H100","v":0}]
[null,null,"CSAPRA SZERELHETŐ VEZÉRLŐ","OR94148","ORBIT","HT-6, kerti csapra szerelhető vezérlő, 2 zónás",{"$f":"VLOOKUP(D101,' '!$1:$1048576,3,0)","v":19960},null,"db",1,"Rendelésre!",{"$f":"G101*H101","v":0}]
[null,null,"CSAPRA SZERELHETŐ VEZÉRLŐ","OR94000","ORBIT","Orbit BUDDY III, csapra szerelhető vezérlő, 2 auto + 1 manuális zónás",{"$f":"VLOOKUP(D102,' '!$1:$1048576,3,0)","v":28192},null,"db",1,null,{"$f":"G102*H102","v":0}]
[]
["ÚJ",null,"CSAPRA SZERELHETŐ VEZÉRLŐ","TTT-985371091","TORO","ETT, kerti csapra szerelhető vezérlő, 1 zónás",{"$f":"VLOOKUP(D104,' '!$1:$1048576,3,0)","v":18155},null,"db",1,"Rendelésre!",{"$f":"G104*H104","v":0}]
[]
[null,"VEZÉRLŐ TARTOZÉKOK"]
[]
[null,null,"HÁLÓZATI VEZÉRLŐ","PCM-300","HUNTER","PRO-C, PCM-300, 3 zónás bővítő modul",{"$f":"VLOOKUP(D108,' '!$1:$1048576,3,0)","v":11189},null,"db",20,null,{"$f":"G108*H108","v":0}]
[null,null,"HÁLÓZATI VEZÉRLŐ","PCM-900","HUNTER","PRO-C, PCM-900, 9 zónás bővítő modul",{"$f":"VLOOKUP(D109,' '!$1:$1048576,3,0)","v":43635},null,"db",20,null,{"$f":"G109*H109","v":0}]
[]
[null,null,"HÁLÓZATI VEZÉRLŐ","ICM0600","HUNTER","I-CORE, ICM-600, 6 zónás bővítőmodul",{"$f":"VLOOKUP(D111,' '!$1:$1048576,3,0)","v":30940},null,"db",1,"Rendelésre!",{"$f":"G111*H111","v":0}]
[]
[null,null,"VEZÉRLŐ TARTOZÉK","ESPSM3","RAIN BIRD","ESP-Me, ESPSM3, 3 zónás bővítőmodul",{"$f":"VLOOKUP(D113,' '!$1:$1048576,3,0)","v":9730},null,"db",1,null,0]
[null,null,"VEZÉRLŐ TARTOZÉK","ESPSM6","RAIN BIRD","ESP-Me, ESPSM6, 6 zónás bővítőmodul",{"$f":"VLOOKUP(D114,' '!$1:$1048576,3,0)","v":19914},null,"db",1,null,0]
[]
["ÚJ",null,"VEZÉRLŐ TARTOZÉK","LNKWIFI","RAIN BIRD","ESP LNK WiFi modul",{"$f":"VLOOKUP(D116,' '!$1:$1048576,3,0)","v":23148},null,"db",1,null,{"$f":"G116*H116","v":0}]
[]
[null,null,"VEZÉRLŐ TARTOZÉK","ESP-LX mod","RAIN BIRD","ESP-LXM(E) 8 zónás modul",{"$f":"VLOOKUP(D118,' '!$1:$1048576,3,0)","v":40616},null,"db",1,"Rendelésre!",0]
[null,null,"VEZÉRLŐ TARTOZÉK","ESP-LX mod12","RAIN BIRD","ESP-LXM(E) 12 zónás modul",{"$f":"VLOOKUP(D119,' '!$1:$1048576,3,0)","v":54621},null,"db",1,"Rendelésre!",0]
[]
[null,null,"VEZÉRLŐ TARTOZÉK","PSR-22","HUNTER","PSR-22 szivattyúinditó relé, 3.7 kW egyfázisú teljesítményig",{"$f":"VLOOKUP(D121,' '!$1:$1048576,3,0)","v":26618},null,"db",1,null,0]
[null,null,"VEZÉRLŐ TARTOZÉK","PSR-52","HUNTER","PSR-52 szivattyúinditó relé, 5.6 kW egyfázisú teljesítményig",{"$f":"VLOOKUP(D122,' '!$1:$1048576,3,0)","v":29874},null,"db",1,"Rendelésre!",0]
[]
[null,null,"VEZÉRLŐ TARTOZÉK","ROAM-KIT","HUNTER","ROAM távirányító Hunter vezérlőkhöz",{"$f":"VLOOKUP(D124,' '!$1:$1048576,3,0)","v":65470},null,"db",1,"Rendelésre!",{"$f":"G124*H124","v":0}]
[null,null,"VEZÉRLŐ TARTOZÉK","ROAMXL-KIT","HUNTER","ROAM XL ipari távirányító Hunter vezérlőkhöz",{"$f":"VLOOKUP(D125,' '!$1:$1048576,3,0)","v":226054},null,"db",1,"Rendelésre!",{"$f":"G125*H125","v":0}]
[]
[null,null,"VEZÉRLŐ TARTOZÉK","545700","HUNTER","Trafó H Pro-C, XC vezérlőhöz beltéri",{"$f":"VLOOKUP(D127,' '!$1:$1048576,3,0)","v":10160},null,"db",1,null,{"$f":"G127*H127","v":0}]
[null,null,"VEZÉRLŐ TARTOZÉK","545800","HUNTER","Trafó H Pro-C,XC vezérlőhöz kültéri",{"$f":"VLOOKUP(D128,' '!$1:$1048576,3,0)","v":10160},null,"db",1,null,{"$f":"G128*H128","v":0}]
[]
[null,null,"VEZÉRLŐ TARTOZÉK","TSZ M-20 7-12",null,"Tömszelence, M-20, IP68, X-Core / Pro-C / PSR / ESP",{"$f":"VLOOKUP(D130,' '!$1:$1048576,3,0)","v":175},null,"db",1,null,{"$f":"G130*H130","v":0}]
[null,null,"VEZÉRLŐ TARTOZÉK","TSZ M-25 7-17",null,"Tömszelence, M-25, IP68, Pro-C / ESP",{"$f":"VLOOKUP(D131,' '!$1:$1048576,3,0)","v":480},null,"db",1,null,{"$f":"G131*H131","v":0}]
[null,null,"VEZÉRLŐ TARTOZÉK","TSZ M-32 7-17",null,"Tömszelence, M-32, IP68, I-CORE",{"$f":"VLOOKUP(D132,' '!$1:$1048576,3,0)","v":522},null,"db",1,null,{"$f":"G132*H132","v":0}]
[]
[null,"ÉRZÉKELŐK"]
[]
[null,null,"ÉRZÉKELŐ","miniclick","HUNTER","Mini-Clik esőérzékelő",{"$f":"VLOOKUP(D136,' '!$1:$1048576,3,0)","v":10718},null,"db",24,"Rendelésre!",{"$f":"G136*H136","v":0}]
[]
[null,null,"ÉRZÉKELŐ","RAINCLIK","HUNTER","Rain-Clik esőérzékelő",{"$f":"VLOOKUP(D138,' '!$1:$1048576,3,0)","v":8613},null,"db",24,null,{"$f":"G138*H138","v":0}]
[null,null,"ÉRZÉKELŐ","SGM","HUNTER","Rain Clik-hez eresz rögzítő adapter SGM",{"$f":"VLOOKUP(D139,' '!$1:$1048576,3,0)","v":1087},null,"db",1,null,{"$f":"G139*H139","v":0}]
[null,null,"ÉRZÉKELŐ",505900,"HUNTER","Rain Clik-hez duzzadókorong",{"$f":"VLOOKUP(D140,' '!$1:$1048576,3,0)","v":2161},null,"db",1,null,{"$f":"G140*H140","v":0}]
[]
[null,null,"ÉRZÉKELŐ","RSD-BEX","RAIN BIRD","RSD-BEX esőérzékelő",{"$f":"VLOOKUP(D142,' '!$1:$1048576,3,0)","v":10274},null,"db",1,null,{"$f":"G142*H142","v":0}]
[null,null,"ÉRZÉKELŐ","850-74","TORO","TRS esőérzékelő",{"$f":"VLOOKUP(D143,' '!$1:$1048576,3,0)","v":12324},null,"db",1,null,{"$f":"G143*H143","v":0}]
[null,null,"ÉRZÉKELŐ","210.5005300","ORBIT","RX esőérzékelő",{"$f":"VLOOKUP(D144,' '!$1:$1048576,3,0)","v":6755},null,"db",1,null,{"$f":"G144*H144","v":0}]
[]
[null,null,"ÉRZÉKELŐ","HRC WL","HUNTER","Rain-Clik esőérzékelő, VEZETÉK NÉLKÜLI",{"$f":"VLOOKUP(D146,' '!$1:$1048576,3,0)","v":27009},null,"db",1,null,{"$f":"G146*H146","v":0}]
[null,null,"ÉRZÉKELŐ","WR2-RFC","RAIN BIRD","Vezeték nélküli WR2 eső- és fagyérzékelő",{"$f":"VLOOKUP(D147,' '!$1:$1048576,3,0)","v":39421},null,"db",1,null,{"$f":"G147*H147","v":0}]
[]
[null,null,"ÉRZÉKELŐ","H MWS","HUNTER","Mini meteorológiai állomás, 2 érzékelős (eső, szél)",65650,null,"db",1,"Rendelésre!",{"$f":"G149*H149","v":0}]
[null,null,"ÉRZÉKELŐ","H MWS-FR","HUNTER","Mini meteorológiai állomás, 3 érzékelős (eső, szél, fagy)",{"$f":"VLOOKUP(D150,' '!$1:$1048576,3,0)","v":87238},null,"db",1,"Rendelésre!",{"$f":"G150*H150","v":0}]
[]
[null,null,"ÉRZÉKELŐ","64392","HUNTER","Soil Clik talajnedvesség érzékelő",{"$f":"VLOOKUP(D152,' '!$1:$1048576,3,0)","v":41458},null,"db",1,null,{"$f":"G152*H152","v":0}]
[null,null,"ÉRZÉKELŐ","SMRT-Y","RAIN BIRD","SMRT-Y talajnedvesség érzékelő",{"$f":"VLOOKUP(D153,' '!$1:$1048576,3,0)","v":72678},null,"db",1,"Rendelésre!",{"$f":"G153*H153","v":0}]
[]
[null,null,"ÉRZÉKELŐ","SOLARSYNC","HUNTER","SolarSync ET érzékelő, PRO-C és ICC vezérlőhöz",{"$f":"VLOOKUP(D155,' '!$1:$1048576,3,0)","v":41325},null,"db",1,null,{"$f":"G155*H155","v":0}]
[null,null,"ÉRZÉKELŐ","SOLARSYNCSEN","HUNTER","SolarSync ET érzékelő, MODUL NÉLKÜL",{"$f":"VLOOKUP(D156,' '!$1:$1048576,3,0)","v":33675},null,"db",1,null,{"$f":"G156*H156","v":0}]
[null,null,"ÉRZÉKELŐ","WSSSEN","HUNTER","SolarSync ET érzékelő, VEZETÉK-, MODUL NÉLKÜL",{"$f":"VLOOKUP(D157,' '!$1:$1048576,3,0)","v":64283},null,"db",1,null,{"$f":"G157*H157","v":0}]
[]
[null,null,"ÉRZÉKELŐ","ET-SYSTEM","HUNTER","ET Sytem fejlett ET érzékelő PRO-C és PCC vezérlőkhöz",{"$f":"VLOOKUP(D159,' '!$1:$1048576,3,0)","v":148448},null,"db",1,"Rendelésre!",{"$f":"G159*H159","v":0}]
[null,null,"ÉRZÉKELŐ","ET-WIND","HUNTER","ET Sytem, szélérzékelő kiegészítés",{"$f":"VLOOKUP(D160,' '!$1:$1048576,3,0)","v":148448},null,"db",1,"Rendelésre!",{"$f":"G160*H160","v":0}]
[]
[null,null,"ÉRZÉKELŐ","FREEZE","HUNTER","Freeze-Clik fagyérzékelő",{"$f":"VLOOKUP(D162,' '!$1:$1048576,3,0)","v":18125},null,"db",1,"Rendelésre!",{"$f":"G162*H162","v":0}]
[]
[null,null,"ÉRZÉKELŐ","Wind-Clik","HUNTER","Wind-Clik szélérzékelő",{"$f":"VLOOKUP(D164,' '!$1:$1048576,3,0)","v":48978},null,"db",1,"Rendelésre!",{"$f":"G164*H164","v":0}]
[]
[null,"SZELEPEK"]
[null,"MÁGNESSZELEPEK"]
[]
[null,null,"MÁGNESSZELEP","PGV 100BB","HUNTER","PGV 24V mágnesszelep, 1\" BB",{"$f":"VLOOKUP(D169,' '!$1:$1048576,3,0)","v":6311},null,"db",20,null,{"$f":"G169*H169","v":0}]
[null,null,"MÁGNESSZELEP","PGV 100","HUNTER","PGV 24V mágnesszelep, 1\" KK",{"$f":"VLOOKUP(D170,' '!$1:$1048576,3,0)","v":5332},null,"db",20,null,0]
[null,null,"MÁGNESSZELEP","PGV 101","HUNTER","PGV 24V mágnesszelep, 1\" KK, átf. szab.",{"$f":"VLOOKUP(D171,' '!$1:$1048576,3,0)","v":5891},null,"db",20,null,0]
[null,null,"MÁGNESSZELEP","PGV100JTMMB","HUNTER","PGV 24V mágnesszelep, JAR TOP, 1\" KK",{"$f":"VLOOKUP(D172,' '!$1:$1048576,3,0)","v":6695},null,"db",20,"Rendelésre!",0]
[null,null,"MÁGNESSZELEP","PGV-151B","HUNTER","PGV 24V mágnesszelep, 6/4\" BB, átf. szab.",{"$f":"VLOOKUP(D173,' '!$1:$1048576,3,0)","v":16562},null,"db",8,"Rendelésre!",0]
[null,null,"MÁGNESSZELEP","PGV-201B","HUNTER","PGV 24V mágnesszelep, 2\" BB, átf. szab.",{"$f":"VLOOKUP(D174,' '!$1:$1048576,3,0)","v":23698},null,"db",8,"Rendelésre!",0]
[null,null,"MÁGNESSZELEP","PGV100DC","HUNTER","PGV 9V mágnesszelep, 1\" KK",{"$f":"VLOOKUP(D175,' '!$1:$1048576,3,0)","v":12890},null,"db",20,null,0]
[null,null,"MÁGNESSZELEP","PGV201DC","HUNTER","PGV 9V mágnesszelep, 2\" BB",{"$f":"VLOOKUP(D176,' '!$1:$1048576,3,0)","v":38941},null,"db",8,"Rendelésre!",0]
[]
[null,null,"MÁGNESSZELEP","H ICV-151","HUNTER","ICV mágnesszelep, 6/4\" BB 24V",{"$f":"VLOOKUP(D178,' '!$1:$1048576,3,0)","v":23837},null,"db",8,"Rendelésre!",{"$f":"G178*H178","v":0}]
[]
[null,null,"MÁGNESSZELEP","100-HV-MM","RAIN BIRD","HV-100 24V mágnesszelep, 1\" KK",{"$f":"VLOOKUP(D180,' '!$1:$1048576,3,0)","v":5015},null,"db",20,null,{"$f":"G180*H180","v":0}]
[null,null,"MÁGNESSZELEP","100-HVF-FF","RAIN BIRD","HV-100 24V mágnesszelep, 1\" BB, átf. szab.",{"$f":"VLOOKUP(D181,' '!$1:$1048576,3,0)","v":6494},null,"db",20,null,{"$f":"G181*H181","v":0}]
[]
[null,null,"MÁGNESSZELEP","100-DV-MM","RAIN BIRD","DV-100 mágnesszelep 1\" KK 24V",{"$f":"VLOOKUP(D183,' '!$1:$1048576,3,0)","v":7880},null,"db",20,null,{"$f":"G183*H183","v":0}]
[null,null,"MÁGNESSZELEP","100-DV-MM 9V","RAIN BIRD","DV-100 mágnesszelep 1\" KK 9V",{"$f":"VLOOKUP(D184,' '!$1:$1048576,3,0)","v":13020},null,"db",20,null,{"$f":"G184*H184","v":0}]
[null,null,"MÁGNESSZELEP","100-DV-FF 24V","RAIN BIRD","DV-100 mágnesszelep 1\" BB",{"$f":"VLOOKUP(D185,' '!$1:$1048576,3,0)","v":7650},null,"db",20,null,{"$f":"G185*H185","v":0}]
[null,null,"MÁGNESSZELEP","101-DV-FF","RAIN BIRD","DVF-100 mágnesszelep 1\" BB átfolyás szabályozóval",{"$f":"VLOOKUP(D186,' '!$1:$1048576,3,0)","v":10210},null,"db",20,null,{"$f":"G186*H186","v":0}]
[]
[null,null,"MÁGNESSZELEP","150-PGA","RAIN BIRD","PGA 150 mágnesszelep 6/4\" BB 24V",{"$f":"VLOOKUP(D188,' '!$1:$1048576,3,0)","v":17376},null,"db",8,"Rendelésre!",{"$f":"G188*H188","v":0}]
[null,null,"MÁGNESSZELEP","200-PGA","RAIN BIRD","PGA 200 mágnesszelep 2\" BB 24V",{"$f":"VLOOKUP(D189,' '!$1:$1048576,3,0)","v":30818},null,"db",4,"Rendelésre!",{"$f":"G189*H189","v":0}]
[]
[null,null,"MÁGNESSZELEP","100-PEB","RAIN BIRD","100-PEB mágnesszelep 1\" BM 24V","Érdeklődjön!",null,"db",10,"Rendelésre!","Érdeklődjön!"]
[null,null,"MÁGNESSZELEP","150-PEB","RAIN BIRD","150-PEB mágnesszelep 6/4\" BM 24V","Érdeklődjön!",null,"db",8,"Rendelésre!","Érdeklődjön!"]
[null,null,"MÁGNESSZELEP","200-PEB","RAIN BIRD","200-PEB mágnesszelep 2\" BM","Érdeklődjön!",null,"db",8,"Rendelésre!","Érdeklődjön!"]
[null,null,"MÁGNESSZELEP","300-PEB","RAIN BIRD","300-BPE mágnesszelep, bronz+müa tető, átf.szab. 3\" BM 24V","Érdeklődjön!",null,"db",1,"Rendelésre!","Érdeklődjön!"]
[null,null,"MÁGNESSZELEP","300-PEB","RAIN BIRD","300-BPES mágn, bronz+müa tető, átf.szab., öntisztító 3\" BM 24V","Érdeklődjön!",null,"db",1,"Rendelésre!","Érdeklődjön!"]
[]
[null,null,"MÁGNESSZELEP","PRS-DIAL","RAIN BIRD","PRS-DIAL nyomásszabályozó (PGA, PEB)",{"$f":"VLOOKUP(D197,' '!$1:$1048576,3,0)","v":21957},null,"db",1,null,{"$f":"G197*H197","v":0}]
[]
[null,null,"MÁGNESSZELEP","100.4400711","RAIN","Rain RN150 mágnesszelep, 3/4\" KK, 24V",{"$f":"VLOOKUP(D199,' '!$1:$1048576,3,0)","v":3432},null,"db",24,null,{"$f":"G199*H199","v":0}]
[null,null,"MÁGNESSZELEP","100.4400911","RAIN","Rain RN150 mágnesszelep, 1\" KK 24V",{"$f":"VLOOKUP(D200,' '!$1:$1048576,3,0)","v":3392},null,"db",24,null,{"$f":"G200*H200","v":0}]
[]
[null,null,"MÁGNESSZELEP","100.1560916","RAIN","Rain RN155 átf. szab. mágnesszelep, 1\" KM x HOLL 24V",{"$f":"VLOOKUP(D202,' '!$1:$1048576,3,0)","v":4271},null,"db",24,null,{"$f":"G202*H202","v":0}]
[null,null,"MÁGNESSZELEP","100.1560911","RAIN","Rain RN155 átf. szab. mágnesszelep, 1\" KK 24V",{"$f":"VLOOKUP(D203,' '!$1:$1048576,3,0)","v":4130},null,"db",24,null,{"$f":"G203*H203","v":0}]
[]
[null,null,"MÁGNESSZELEP","100.5701511","RAIN","Rain RN160 mágnesszelep, 6/4\" BB 24V",{"$f":"VLOOKUP(D205,' '!$1:$1048576,3,0)","v":10279},null,"db",24,null,{"$f":"G205*H205","v":0}]
[]
[null,null,"MÁGNESSZELEP","264-06-03","TORO","264-es mágnesszelep, 3/4\" KK, 24VAC",{"$f":"VLOOKUP(D207,' '!$1:$1048576,3,0)","v":10407},null,"db",20,null,{"$f":"G207*H207","v":0}]
[null,null,"MÁGNESSZELEP","EZFLO+","TORO","Ez-Flo Plus mágnesszelep, 1\" KK 24V",{"$f":"VLOOKUP(D208,' '!$1:$1048576,3,0)","v":7451},null,"db",20,null,{"$f":"G208*H208","v":0}]
[]
[null,"SZOLENOIDOK"]
[]
[null,null,"SZOLENOID","HUNTER-SOL","HUNTER","Szolenoid PGV, ICV, IBV mágnesszelephez 24V",{"$f":"VLOOKUP(D212,' '!$1:$1048576,3,0)","v":4055},null,"db",1,null,{"$f":"G212*H212","v":0}]
[null,null,"SZOLENOID","458200","HUNTER","Szolenoid PGV, ICV, IBV mágnesszelephez 9V",{"$f":"VLOOKUP(D213,' '!$1:$1048576,3,0)","v":9000},null,"db",1,null,{"$f":"G213*H213","v":0}]
[]
[null,null,"SZOLENOID","DV-SOL-24V","RAIN BIRD","Szolenoid DV mágnesszelephez 24V",{"$f":"VLOOKUP(D215,' '!$1:$1048576,3,0)","v":4598},null,"db",1,null,{"$f":"G215*H215","v":0}]
[null,null,"SZOLENOID","DV-SOL-9V","RAIN BIRD","Szolenoid DV mágnesszelephez 9V",{"$f":"VLOOKUP(D216,' '!$1:$1048576,3,0)","v":7453},null,"db",1,null,{"$f":"G216*H216","v":0}]
[]
["ÚJ",null,"SZOLENOID","PGA-SOL-24V","RAIN BIRD","Szolenoid PGA mágnesszelephez 24V",{"$f":"VLOOKUP(D218,' '!$1:$1048576,3,0)","v":4598},null,"db",1,null,{"$f":"G218*H218","v":0}]
[]
[null,null,"SZOLENOID","101.1001101","RAIN","Szolenoid RAIN mágnesszelephez 24V",{"$f":"VLOOKUP(D220,' '!$1:$1048576,3,0)","v":3021},null,"db",1,null,{"$f":"G220*H220","v":0}]
[null,null,"SZOLENOID","101.3507000","RAIN","Szolenoid RAIN mágnesszelephez 9V",{"$f":"VLOOKUP(D221,' '!$1:$1048576,3,0)","v":3357},null,"db",1,null,{"$f":"G221*H221","v":0}]
[]
[null,"AUTOMATA ÜRÍTŐ-, LÉGBESZÍVÓ SZELEPEK"]
[]
[null,null,"AUTÓMATA ÜRÍTŐSZELEP","16A-FDV","RAIN BIRD","Automata ürítőszelep KM 1/2\"",{"$f":"VLOOKUP(D225,' '!$1:$1048576,3,0)","v":2057},null,"db",50,null,{"$f":"G225*H225","v":0}]
["ÚJ",null,"AUTÓMATA ÜRÍTŐSZELEP",8006410376,null,"Automata ürítőszelep KM 3/4\"",{"$f":"VLOOKUP(D226,' '!$1:$1048576,3,0)","v":1176},null,"db","25",null,{"$f":"G226*H226","v":0}]
[]
["ÚJ",null,"AUTÓMATA ÜRÍTŐSZELEP","IVFL250","IRRITEC","Automata ürítőszelep BM 3/4\", csepegtető csőre",{"$f":"VLOOKUP(D228,' '!$1:$1048576,3,0)","v":174},null,"db",50,null,{"$f":"G228*H228","v":0}]
[]
["ÚJ",null,"AUTÓMATA ÜRÍTŐSZELEP",8006410194,null,"Automata ürítőszelep 16 mm, csepegtető csőre",{"$f":"VLOOKUP(D230,' '!$1:$1048576,3,0)","v":380},null,"db",50,null,{"$f":"G230*H230","v":0}]
[]
["ÚJ",null,"LÉGBESZÍVÓ SZELEP","08006410383",null,"Légbeszívó szelep, KM 1/2\"",{"$f":"VLOOKUP(D232,' '!$1:$1048576,3,0)","v":323},null,"m",50,null,{"$f":"G232*H232","v":0}]
["ÚJ",null,"LÉGBESZÍVÓ SZELEP","XBER12","RAIN BIRD","Légbeszívó szelep, KM 1/2\"",{"$f":"VLOOKUP(D233,' '!$1:$1048576,3,0)","v":1060},null,"m",25,null,{"$f":"G233*H233","v":0}]
[]
[null,"SPRAY SZÓRÓFEJEK"]
[null,"SPRAY SZÓRÓFEJ HÁZAK"]
[]
[null,null,"SPRAY SZÓRÓFEJ HÁZ","PSU-04","HUNTER","PS 04 Ultra szórófejház",{"$f":"VLOOKUP(D238,' '!$1:$1048576,3,0)","v":855},null,"db",100,null,{"$f":"G238*H238","v":0}]
[]
[null,null,"SPRAY SZÓRÓFEJ HÁZ","PSU0410A","HUNTER","PS 04 Ultra 10A Hunter szórófej fúvókával",{"$f":"VLOOKUP(D240,' '!$1:$1048576,3,0)","v":1360},null,"db",50,"Rendelésre!",{"$f":"G240*H240","v":0}]
[null,null,"SPRAY SZÓRÓFEJ HÁZ","PSU0412A","HUNTER","PS 04 Ultra 12A Hunter szórófej fúvókával",{"$f":"VLOOKUP(D241,' '!$1:$1048576,3,0)","v":1360},null,"db",50,"Rendelésre!",{"$f":"G241*H241","v":0}]
[null,null,"SPRAY SZÓRÓFEJ HÁZ","PSU0415A","HUNTER","PS 04 Ultra 15A Hunter szórófej fúvókával",{"$f":"VLOOKUP(D242,' '!$1:$1048576,3,0)","v":1360},null,"db",50,"Rendelésre!",{"$f":"G242*H242","v":0}]
[null,null,"SPRAY SZÓRÓFEJ HÁZ","PSU0417A","HUNTER","PS 04 Ultra 17A Hunter szórófej fúvókával",{"$f":"VLOOKUP(D243,' '!$1:$1048576,3,0)","v":1360},null,"db",50,"Rendelésre!",{"$f":"G243*H243","v":0}]
[]
[null,null,"SPRAY SZÓRÓFEJ HÁZ","ECO041090","HUNTER","Eco Rotator MP 1000 90-210",{"$f":"VLOOKUP(D245,' '!$1:$1048576,3,0)","v":3380},null,"db",50,"Rendelésre!",{"$f":"G245*H245","v":0}]
[null,null,"SPRAY SZÓRÓFEJ HÁZ","ECO042090","HUNTER","Eco Rotator MP 2000 90-210",{"$f":"VLOOKUP(D246,' '!$1:$1048576,3,0)","v":3380},null,"db",50,"Rendelésre!",{"$f":"G246*H246","v":0}]
[null,null,"SPRAY SZÓRÓFEJ HÁZ","ECO043090","HUNTER","Eco Rotator MP 3000 90-210",{"$f":"VLOOKUP(D247,' '!$1:$1048576,3,0)","v":3380},null,"db",50,"Rendelésre!",{"$f":"G247*H247","v":0}]
[]
[null,null,"SPRAY SZÓRÓFEJ HÁZ","PROS-00","HUNTER","PROS-00, shrub adapter, BM 1/2\"",{"$f":"VLOOKUP(D249,' '!$1:$1048576,3,0)","v":330},null,"db",25,null,{"$f":"G249*H249","v":0}]
[null,null,"SPRAY SZÓRÓFEJ HÁZ","PROS-02","HUNTER","Pro-Spray szórófej HÁZ, 5 cm kiemelkedés",{"$f":"VLOOKUP(D250,' '!$1:$1048576,3,0)","v":940},null,"db",50,null,{"$f":"G250*H250","v":0}]
[null,null,"SPRAY SZÓRÓFEJ HÁZ","PROS-03","HUNTER","Pro-Spray szórófej HÁZ, 7,5cm kiemelkedés",{"$f":"VLOOKUP(D251,' '!$1:$1048576,3,0)","v":940},null,"db",50,"Rendelésre!",{"$f":"G251*H251","v":0}]
[null,null,"SPRAY SZÓRÓFEJ HÁZ","PROS-04","HUNTER","Pro-Spray szórófej HÁZ, 10 cm kiemelkedés",{"$f":"VLOOKUP(D252,' '!$1:$1048576,3,0)","v":890},null,"db",50,null,{"$f":"G252*H252","v":0}]
[null,null,"SPRAY SZÓRÓFEJ HÁZ","PROS-12","HUNTER","Pro-Spray szórófej HÁZ, 30 cm kiemelkedés",{"$f":"VLOOKUP(D253,' '!$1:$1048576,3,0)","v":4828},null,"db",25,null,{"$f":"G253*H253","v":0}]
[]
[null,null,"SPRAY SZÓRÓFEJ HÁZ","PROS-04-PRS30-CV","HUNTER","Pro-Spray PRS-30-CV szórófej HÁZ, 10 cm, 2.1bar",{"$f":"VLOOKUP(D255,' '!$1:$1048576,3,0)","v":2823},null,"db",50,"Rendelésre!",{"$f":"G255*H255","v":0}]
[null,null,"SPRAY SZÓRÓFEJ HÁZ","PROS-04-PRS40-CV","HUNTER","Pro-Spray PRS-40-CV szórófej HÁZ, 10 cm, 2.8bar",{"$f":"VLOOKUP(D256,' '!$1:$1048576,3,0)","v":2498},null,"db",50,"Rendelésre!",{"$f":"G256*H256","v":0}]
[]
[null,null,"SPRAY SZÓRÓFEJ HÁZ","US-400","RAIN BIRD","UniSpray szórófejház,10cm kiem",{"$f":"VLOOKUP(D258,' '!$1:$1048576,3,0)","v":610},null,"db",50,null,{"$f":"G258*H258","v":0}]
[]
[null,null,"SPRAY SZÓRÓFEJ HÁZ","US-410","RAIN BIRD","UniSpray szórófejház,10cm kiem + 10 VAN fúvóka",{"$f":"VLOOKUP(D260,' '!$1:$1048576,3,0)","v":906},null,"db",50,"Rendelésre!",{"$f":"G260*H260","v":0}]
[null,null,"SPRAY SZÓRÓFEJ HÁZ","US-412","RAIN BIRD","UniSpray szórófejház,10cm kiem + 12 VAN fúvóka",{"$f":"VLOOKUP(D261,' '!$1:$1048576,3,0)","v":906},null,"db",50,"Rendelésre!",{"$f":"G261*H261","v":0}]
[null,null,"SPRAY SZÓRÓFEJ HÁZ","US-415","RAIN BIRD","UniSpray szórófejház,10cm kiem + 15 VAN fúvóka",{"$f":"VLOOKUP(D262,' '!$1:$1048576,3,0)","v":906},null,"db",50,"Rendelésre!",{"$f":"G262*H262","v":0}]
[null,null,"SPRAY SZÓRÓFEJ HÁZ","US-418","RAIN BIRD","UniSpray szórófejház,10cm kiem + 18 VAN fúvóka",{"$f":"VLOOKUP(D263,' '!$1:$1048576,3,0)","v":906},null,"db",50,"Rendelésre!",{"$f":"G263*H263","v":0}]
[]
[null,null,"SPRAY SZÓRÓFEJ HÁZ","RPA8S","RAIN BIRD","1800-S, nemkiemelkedő (shrub)adapter,1/2",{"$f":"VLOOKUP(D265,' '!$1:$1048576,3,0)","v":376},null,"db","25",null,{"$f":"G265*H265","v":0}]
[null,null,"SPRAY SZÓRÓFEJ HÁZ","1803","RAIN BIRD","1803-as szórófej HÁZ, 7.5 cm kiem.",{"$f":"VLOOKUP(D266,' '!$1:$1048576,3,0)","v":1073},null,"db",75,null,{"$f":"G266*H266","v":0}]
[null,null,"SPRAY SZÓRÓFEJ HÁZ","1804","RAIN BIRD","1804-es szórófej HÁZ, 10 cm kiemelkedés",{"$f":"VLOOKUP(D267,' '!$1:$1048576,3,0)","v":753},null,"db",75,null,{"$f":"G267*H267","v":0}]
[null,null,"SPRAY SZÓRÓFEJ HÁZ","1812","RAIN BIRD","1812-es szórófej HÁZ, 30 cm kiemelkedés",{"$f":"VLOOKUP(D268,' '!$1:$1048576,3,0)","v":4589},null,"db",50,null,{"$f":"G268*H268","v":0}]
[]
[null,null,"SPRAY SZÓRÓFEJ HÁZ","1804-SAM","RAIN BIRD","1804-es szórófej HÁZ, 10 cm kiemelkedés, visszfolyásgátlóval",{"$f":"VLOOKUP(D270,' '!$1:$1048576,3,0)","v":1836},null,"db",75,null,{"$f":"G270*H270","v":0}]
[null,null,"SPRAY SZÓRÓFEJ HÁZ","1812-SAM","RAIN BIRD","1812-es szórófej HÁZ, 30 cm kiemelkedés, visszfolyásgátlóval",{"$f":"VLOOKUP(D271,' '!$1:$1048576,3,0)","v":3134},null,"db",50,"Rendelésre!",{"$f":"G271*H271","v":0}]
[]
["ÚJ",null,"SPRAY SZÓRÓFEJ HÁZ","280.1300400","RAIN","S020 szórófej HÁZ, 10 cm kiemelkedés",{"$f":"VLOOKUP(D273,' '!$1:$1048576,3,0)","v":490},null,"db",50,null,{"$f":"G273*H273","v":0}]
[]
[null,null,"SPRAY SZÓRÓFEJ HÁZ","9-6807","TORO","570S, nem kiemelkedő (shrub)adapter,1/2\"",{"$f":"VLOOKUP(D275,' '!$1:$1048576,3,0)","v":272},null,"db",100,"Rendelésre!",{"$f":"G275*H275","v":0}]
[null,null,"SPRAY SZÓRÓFEJ HÁZ","89-5807","TORO","570Z 2P szórófej, 5cm kiemelkedés",{"$f":"VLOOKUP(D276,' '!$1:$1048576,3,0)","v":1074},null,"db",100,null,{"$f":"G276*H276","v":0}]
[null,null,"SPRAY SZÓRÓFEJ HÁZ","89-3977","TORO","570Z 3P szórófej, 7.5cm kiemelkedés",{"$f":"VLOOKUP(D277,' '!$1:$1048576,3,0)","v":1225},null,"db",100,null,{"$f":"G277*H277","v":0}]
[null,null,"SPRAY SZÓRÓFEJ HÁZ","89-3978","TORO","570Z 4P szórófej, 10cm kiemelkedés",{"$f":"VLOOKUP(D278,' '!$1:$1048576,3,0)","v":1006},null,"db",50,null,{"$f":"G278*H278","v":0}]
[null,null,"SPRAY SZÓRÓFEJ HÁZ","89-3982","TORO","570Z 12P szórófej, 30cm kiemelkedés",{"$f":"VLOOKUP(D279,' '!$1:$1048576,3,0)","v":5632},null,"db",25,"Rendelésre!",{"$f":"G279*H279","v":0}]
[]
[null,null,"SPRAY SZÓRÓFEJ HÁZ","89-4722","TORO","570Z 3P COM szórófej, 7.5cm kiem., VFG",{"$f":"VLOOKUP(D281,' '!$1:$1048576,3,0)","v":1810},null,"db",100,null,{"$f":"G281*H281","v":0}]
[null,null,"SPRAY SZÓRÓFEJ HÁZ","89-4723","TORO","570Z 4P COM szórófej, 10cm kiem., VFG",{"$f":"VLOOKUP(D282,' '!$1:$1048576,3,0)","v":2414},null,"db",50,null,{"$f":"G282*H282","v":0}]
[]
[null,"SPRAY FÚVÓKÁK"]
[]
[null,null,"ÁLLÍTHATÓ SPRAY FÚVÓKA","H 4A","HUNTER","4'A   állítható szórásképű fúvóka (R=1.2m; 0-360°)",{"$f":"VLOOKUP(D286,' '!$1:$1048576,3,0)","v":530},null,"db",25,null,{"$f":"G286*H286","v":0}]
[null,null,"ÁLLÍTHATÓ SPRAY FÚVÓKA","H 6A","HUNTER","6'A   állítható szórásképű fúvóka (R=1.8m; 0-360°)",{"$f":"VLOOKUP(D287,' '!$1:$1048576,3,0)","v":530},null,"db",25,null,0]
[null,null,"ÁLLÍTHATÓ SPRAY FÚVÓKA","H 8A","HUNTER","8'A   állítható szórásképű fúvóka (R=2.4m; 0-360°)",{"$f":"VLOOKUP(D288,' '!$1:$1048576,3,0)","v":530},null,"db",25,null,0]
[null,null,"ÁLLÍTHATÓ SPRAY FÚVÓKA","H 10A","HUNTER","10'A állítható szórásképű fúvóka (R=3.0m; 0-360°)",{"$f":"VLOOKUP(D289,' '!$1:$1048576,3,0)","v":530},null,"db",25,null,0]
[null,null,"ÁLLÍTHATÓ SPRAY FÚVÓKA","H 12A","HUNTER","12'A állítható szórásképű fúvóka (R=3.6m; 0-360°)",{"$f":"VLOOKUP(D290,' '!$1:$1048576,3,0)","v":530},null,"db",25,null,0]
[null,null,"ÁLLÍTHATÓ SPRAY FÚVÓKA","H 15A","HUNTER","15'A állítható szórásképű fúvóka (R=4.5m; 0-360°)",{"$f":"VLOOKUP(D291,' '!$1:$1048576,3,0)","v":530},null,"db",25,null,0]
[null,null,"ÁLLÍTHATÓ SPRAY FÚVÓKA","H 17A","HUNTER","17'A állítható szórásképű fúvóka (R=5.2m; 0-360°)",{"$f":"VLOOKUP(D292,' '!$1:$1048576,3,0)","v":530},null,"db",25,null,0]
[]
[null,null,"FIX SPRAY FÚVÓKA","H 5Q","HUNTER","5'Q fix szórásképű fúvóka (R=1.2m; 90°)",{"$f":"VLOOKUP(D294,' '!$1:$1048576,3,0)","v":530},null,"db",25,null,{"$f":"G294*H294","v":0}]
[null,null,"FIX SPRAY FÚVÓKA","H 5H","HUNTER","5'H fix szórásképű fúvóka (R=1.2m; 180°)",{"$f":"VLOOKUP(D295,' '!$1:$1048576,3,0)","v":530},null,"db",25,null,{"$f":"G295*H295","v":0}]
[null,null,"FIX SPRAY FÚVÓKA","H 5F","HUNTER","5'F fix szórásképű fúvóka (R=1.2m; 360°)",{"$f":"VLOOKUP(D296,' '!$1:$1048576,3,0)","v":530},null,"db",25,null,{"$f":"G296*H296","v":0}]
[null,null,"FIX SPRAY FÚVÓKA","H 8Q","HUNTER","8'Q fix szórásképű fúvóka (R=2.4m; 90°)",{"$f":"VLOOKUP(D297,' '!$1:$1048576,3,0)","v":530},null,"db",25,null,{"$f":"G297*H297","v":0}]
[null,null,"FIX SPRAY FÚVÓKA","H 8T","HUNTER","8'T fix szórásképű fúvóka (R=2.4m; 120°)",{"$f":"G297","v":530},null,"db",25,"Rendelésre!",0]
[null,null,"FIX SPRAY FÚVÓKA","H 8H","HUNTER","8'H fix szórásképű fúvóka (R=2.4m; 180°)",{"$f":"VLOOKUP(D299,' '!$1:$1048576,3,0)","v":530},null,"db",25,null,0]
[null,null,"FIX SPRAY FÚVÓKA","H 8F","HUNTER","8'F fix szórásképű fúvóka (R=2.4m; 360°)",{"$f":"VLOOKUP(D300,' '!$1:$1048576,3,0)","v":530},null,"db",25,null,0]
[null,null,"FIX SPRAY FÚVÓKA","H-10-Q","HUNTER","10'Q fix szórásképű fúvóka (R=3.0m; 90°)",{"$f":"VLOOKUP(D301,' '!$1:$1048576,3,0)","v":530},null,"db",25,null,0]
[null,null,"FIX SPRAY FÚVÓKA","H 10T","HUNTER","10'T fix szórásképű fúvóka (R=3.0m; 120°)",{"$f":"G301","v":530},null,"db",25,"Rendelésre!",0]
[null,null,"FIX SPRAY FÚVÓKA","H 10H","HUNTER","10'H fix szórásképű fúvóka (R=3.0m; 180°)",{"$f":"VLOOKUP(D303,' '!$1:$1048576,3,0)","v":530},null,"db",25,null,0]
[null,null,"FIX SPRAY FÚVÓKA","H10F","HUNTER","10'F fix szórásképű fúvóka (R=3.0m; 360°)",{"$f":"VLOOKUP(D304,' '!$1:$1048576,3,0)","v":530},null,"db",25,null,0]
[null,null,"FIX SPRAY FÚVÓKA","H 12Q","HUNTER","12'Q fix szórásképű fúvóka (R=3.6m; 90°)",{"$f":"VLOOKUP(D305,' '!$1:$1048576,3,0)","v":530},null,"db",25,null,0]
[null,null,"FIX SPRAY FÚVÓKA","H 12T","HUNTER","12'T fix szórásképű fúvóka (R=3.6m; 120°)",{"$f":"G305","v":530},null,"db",25,"Rendelésre!",0]
[null,null,"FIX SPRAY FÚVÓKA","H 12H","HUNTER","12'H fix szórásképű fúvóka (R=3.6m; 180°)",{"$f":"VLOOKUP(D307,' '!$1:$1048576,3,0)","v":530},null,"db",25,null,0]
[null,null,"FIX SPRAY FÚVÓKA","H 12TT","HUNTER","12'TT fix szórásképű fúvóka (R=3.6m; 240°)",{"$f":"G307","v":530},null,"db",25,"Rendelésre!",0]
[null,null,"FIX SPRAY FÚVÓKA","H 12TQ","HUNTER","12'TQ fix szórásképű fúvóka (R=3.6m; 270°)",{"$f":"G307","v":530},null,"db",25,"Rendelésre!",0]
[null,null,"FIX SPRAY FÚVÓKA","H12F","HUNTER","12'F fix szórásképű fúvóka (R=3.6m; 360°)",{"$f":"VLOOKUP(D310,' '!$1:$1048576,3,0)","v":530},null,"db",25,null,0]
[null,null,"FIX SPRAY FÚVÓKA","H 15Q","HUNTER","15'Q fix szórásképű fúvóka (R=4.5m; 90°)",{"$f":"VLOOKUP(D311,' '!$1:$1048576,3,0)","v":530},null,"db",25,null,0]
[null,null,"FIX SPRAY FÚVÓKA","H 15T","HUNTER","15'T fix szórásképű fúvóka (R=4.5m; 120°)",{"$f":"G311","v":530},null,"db",25,"Rendelésre!",0]
[null,null,"FIX SPRAY FÚVÓKA","H 15H","HUNTER","15'H fix szórásképű fúvóka (R=4.5m; 180°)",{"$f":"VLOOKUP(D313,' '!$1:$1048576,3,0)","v":530},null,"db",25,null,0]
[null,null,"FIX SPRAY FÚVÓKA","H 15TT","HUNTER","15'TT fix szórásképű fúvóka (R=4.5m; 240°)",{"$f":"G313","v":530},null,"db",25,"Rendelésre!",0]
[null,null,"FIX SPRAY FÚVÓKA","H 15TQ","HUNTER","15'TQ fix szórásképű fúvóka (R=4.5m; 270°)",{"$f":"G313","v":530},null,"db",25,"Rendelésre!",0]
[null,null,"FIX SPRAY FÚVÓKA","H 15F","HUNTER","15'F fix szórásképű fúvóka (R=4.5m; 360°)",{"$f":"VLOOKUP(D316,' '!$1:$1048576,3,0)","v":530},null,"db",25,null,0]
[null,null,"FIX SPRAY FÚVÓKA","H 17Q","HUNTER","17'Q fix szórásképű fúvóka (R=5.2m; 90°)",{"$f":"VLOOKUP(D317,' '!$1:$1048576,3,0)","v":530},null,"db",25,null,0]
[null,null,"FIX SPRAY FÚVÓKA","H 17H","HUNTER","17'H fix szórásképű fúvóka (R=5.2m; 180°)",{"$f":"VLOOKUP(D318,' '!$1:$1048576,3,0)","v":530},null,"db",25,null,{"$f":"G318*H318","v":0}]
[]
[null,null,"SÁVSZÓRÓ SPRAY FÚVÓKA","H LCS-515","HUNTER","LCS-515 sávszóró fúvóka (SZ1.5m x H4.5m)",{"$f":"VLOOKUP(D320,' '!$1:$1048576,3,0)","v":530},null,"db",25,null,{"$f":"G320*H320","v":0}]
[null,null,"SÁVSZÓRÓ SPRAY FÚVÓKA","H RCS-515","HUNTER","RCS-515 sávszóró fúvóka (SZ1.5m x H4.5m)",{"$f":"VLOOKUP(D321,' '!$1:$1048576,3,0)","v":530},null,"db",25,null,{"$f":"G321*H321","v":0}]
[null,null,"SÁVSZÓRÓ SPRAY FÚVÓKA","H SS-530","HUNTER","SS-530 sávszóró fúvóka (SZ1.5m x H9.0m)",{"$f":"VLOOKUP(D322,' '!$1:$1048576,3,0)","v":530},null,"db",25,null,{"$f":"G322*H322","v":0}]
[null,null,"SÁVSZÓRÓ SPRAY FÚVÓKA","SS918","HUNTER","SS-918 sávszóró fúvóka (SZ2.7m x H5.5m)",{"$f":"VLOOKUP(D323,' '!$1:$1048576,3,0)","v":530},null,"db",25,null,{"$f":"G323*H323","v":0}]
[null,null,"SÁVSZÓRÓ SPRAY FÚVÓKA","CS-530","HUNTER","CS-530 sávszóró fúvóka (SZ2.7m x H5.5m)",{"$f":"VLOOKUP(D324,' '!$1:$1048576,3,0)","v":530},null,"db",25,null,{"$f":"G324*H324","v":0}]
[]
[null,null,"RÖVID SUGARÚ SPRAY FÚVÓKA","H 2Q","HUNTER","2'Q rövid sugarú fúvóka (R=0.6m; 90°)",{"$f":"VLOOKUP(D326,' '!$1:$1048576,3,0)","v":530},null,"db",25,"Rendelésre!",{"$f":"G326*H326","v":0}]
[null,null,"RÖVID SUGARÚ SPRAY FÚVÓKA","H 2H","HUNTER","2'H rövid sugarú fúvóka (R=0.6m; 180°)",{"$f":"VLOOKUP(D327,' '!$1:$1048576,3,0)","v":530},null,"db",25,"Rendelésre!",0]
[null,null,"RÖVID SUGARÚ SPRAY FÚVÓKA","H 4Q","HUNTER","4'Q rövid sugarú fúvóka (R=1.2m; 90°)",{"$f":"VLOOKUP(D328,' '!$1:$1048576,3,0)","v":530},null,"db",25,"Rendelésre!",0]
[null,null,"RÖVID SUGARÚ SPRAY FÚVÓKA","H 4H","HUNTER","4'H rövid sugarú fúvóka (R=1.2m; 180°)",{"$f":"VLOOKUP(D329,' '!$1:$1048576,3,0)","v":530},null,"db",25,"Rendelésre!",0]
[null,null,"RÖVID SUGARÚ SPRAY FÚVÓKA","H 6Q","HUNTER","6'Q rövid sugarú fúvóka (R=1.8m; 90°)",{"$f":"VLOOKUP(D330,' '!$1:$1048576,3,0)","v":530},null,"db",25,"Rendelésre!",0]
[null,null,"RÖVID SUGARÚ SPRAY FÚVÓKA","H 6H","HUNTER","6'H rövid sugarú fúvóka (R=1.8m; 180°)",{"$f":"VLOOKUP(D331,' '!$1:$1048576,3,0)","v":530},null,"db",25,"Rendelésre!",0]
[]
[null,null,"BOKORÖNTÖZŐ SPRAY FÚVÓKA","H S-8A","HUNTER","S-8'A sugaras bokoröntöző fúvóka (R=2.1-2.7m; 0-360°)",{"$f":"VLOOKUP(D333,' '!$1:$1048576,3,0)","v":530},null,"db",25,null,{"$f":"G333*H333","v":0}]
[null,null,"BOKORÖNTÖZŐ SPRAY FÚVÓKA","H S-16A","HUNTER","S-16'A sugaras bokoröntöző fúvóka (R=4.6-5.5m; 0-360°)",{"$f":"VLOOKUP(D334,' '!$1:$1048576,3,0)","v":530},null,"db",25,null,{"$f":"G334*H334","v":0}]
[]
[null,null,"TŐÖNTÖZŐ SPRAY FÚVÓKA","H PCB-10","HUNTER","PCB 10 tőöntöző fúvóka",{"$f":"VLOOKUP(D336,' '!$1:$1048576,3,0)","v":1635},null,"db",25,null,{"$f":"G336*H336","v":0}]
[null,null,"TŐÖNTÖZŐ SPRAY FÚVÓKA","H PCB-20","HUNTER","PCB 20 tőöntöző fúvóka",{"$f":"VLOOKUP(D337,' '!$1:$1048576,3,0)","v":1635},null,"db",25,null,{"$f":"G337*H337","v":0}]
[null,null,"TŐÖNTÖZŐ SPRAY FÚVÓKA","H PCB-25","HUNTER","PCB 25 tőöntöző fúvóka",{"$f":"VLOOKUP(D338,' '!$1:$1048576,3,0)","v":1635},null,"db",25,null,{"$f":"G338*H338","v":0}]
[null,null,"TŐÖNTÖZŐ SPRAY FÚVÓKA","H PCB-50","HUNTER","PCB 50 tőöntöző fúvóka",{"$f":"VLOOKUP(D339,' '!$1:$1048576,3,0)","v":1635},null,"db",25,null,{"$f":"G339*H339","v":0}]
[null,null,"TŐÖNTÖZŐ SPRAY FÚVÓKA","H AFB","HUNTER","AFB állítható vízhozamú tőöntöző fúvóka, BM 1/2\"",{"$f":"VLOOKUP(D340,' '!$1:$1048576,3,0)","v":1250},null,"db",25,"Rendelésre!",{"$f":"G340*H340","v":0}]
[]
[null,null,"TŐÖNTÖZŐ SPRAY FÚVÓKA","H PCN-10","HUNTER","PCN 10 tőöntöző fúvóka",{"$f":"VLOOKUP(D342,' '!$1:$1048576,3,0)","v":780},null,"db",25,null,{"$f":"G342*H342","v":0}]
[null,null,"TŐÖNTÖZŐ SPRAY FÚVÓKA","H PCN-20","HUNTER","PCN 20 tőöntöző fúvóka",{"$f":"VLOOKUP(D343,' '!$1:$1048576,3,0)","v":780},null,"db",25,null,{"$f":"G343*H343","v":0}]
[null,null,"TŐÖNTÖZŐ SPRAY FÚVÓKA","H PCN-25","HUNTER","PCN 25 tőöntöző fúvóka",{"$f":"VLOOKUP(D344,' '!$1:$1048576,3,0)","v":780},null,"db",25,null,{"$f":"G344*H344","v":0}]
[null,null,"TŐÖNTÖZŐ SPRAY FÚVÓKA","H PCN-50","HUNTER","PCN 50 tőöntöző fúvóka ",{"$f":"VLOOKUP(D345,' '!$1:$1048576,3,0)","v":780},null,"db",25,null,{"$f":"G345*H345","v":0}]
[]
[null,null,"FIX SPRAY FÚVÓKA","H MN_180","HUNTER","MS-H 180°-os mikroszóró fúvóka",{"$f":"VLOOKUP(D347,' '!$1:$1048576,3,0)","v":1163},null,"db",25,null,{"$f":"G347*H347","v":0}]
[]
[null,null,"ÁLLÍTHATÓ SPRAY FÚVÓKA","4-VAN","RAIN BIRD","4 VAN állítható szórásképű fúvóka (R=1.2m; 0-360°)",{"$f":"VLOOKUP(D349,' '!$1:$1048576,3,0)","v":570},null,"db",25,null,{"$f":"G349*H349","v":0}]
[null,null,"ÁLLÍTHATÓ SPRAY FÚVÓKA","6-VAN","RAIN BIRD","6 VAN állítható szórásképű fúvóka (R=1.8m; 0-360°)",{"$f":"VLOOKUP(D350,' '!$1:$1048576,3,0)","v":570},null,"db",25,null,0]
[null,null,"ÁLLÍTHATÓ SPRAY FÚVÓKA","8-VAN","RAIN BIRD","8 VAN állítható szórásképű fúvóka (R=2.4m; 0-360°)",{"$f":"VLOOKUP(D351,' '!$1:$1048576,3,0)","v":570},null,"db",25,null,0]
[null,null,"ÁLLÍTHATÓ SPRAY FÚVÓKA","10-VAN","RAIN BIRD","10 VAN állítható szórásképű fúvóka (R=3.0m; 0-360°)",{"$f":"VLOOKUP(D352,' '!$1:$1048576,3,0)","v":570},null,"db",25,null,0]
[null,null,"ÁLLÍTHATÓ SPRAY FÚVÓKA","12-VAN","RAIN BIRD","12 VAN állítható szórásképű fúvóka (R=3.6m; 0-360°)",{"$f":"VLOOKUP(D353,' '!$1:$1048576,3,0)","v":570},null,"db",25,null,0]
[null,null,"ÁLLÍTHATÓ SPRAY FÚVÓKA","15-VAN","RAIN BIRD","15 VAN állítható szórásképű fúvóka (R=4.5m; 0-360°)",{"$f":"VLOOKUP(D354,' '!$1:$1048576,3,0)","v":570},null,"db",25,null,0]
[null,null,"ÁLLÍTHATÓ SPRAY FÚVÓKA","18-VAN","RAIN BIRD","18 VAN állítható szórásképű fúvóka (R=5.5m; 0-360°)",{"$f":"VLOOKUP(D355,' '!$1:$1048576,3,0)","v":570},null,"db",25,null,0]
[]
[null,null,"ÁLLÍTHATÓ SPRAY FÚVÓKA","8-HE VAN","RAIN BIRD","8 HE VAN állítható szórásképű fúvóka (R=2.4m; 0-360°)",{"$f":"VLOOKUP(D357,' '!$1:$1048576,3,0)","v":625},null,"db",25,null,{"$f":"G357*H357","v":0}]
[null,null,"ÁLLÍTHATÓ SPRAY FÚVÓKA","10-HE VAN","RAIN BIRD","10 HE VAN állítható szórásképű fúvóka (R=3.0m; 0-360°)",{"$f":"VLOOKUP(D358,' '!$1:$1048576,3,0)","v":625},null,"db",25,null,{"$f":"G358*H358","v":0}]
[null,null,"ÁLLÍTHATÓ SPRAY FÚVÓKA","12-HE VAN","RAIN BIRD","12 HE VAN állítható szórásképű fúvóka (R=3.6m; 0-360°)",{"$f":"VLOOKUP(D359,' '!$1:$1048576,3,0)","v":625},null,"db",25,null,{"$f":"G359*H359","v":0}]
[null,null,"ÁLLÍTHATÓ SPRAY FÚVÓKA","15-HE VAN","RAIN BIRD","15 HE VAN állítható szórásképű fúvóka (R=4.5m; 0-360°)",{"$f":"VLOOKUP(D360,' '!$1:$1048576,3,0)","v":625},null,"db",25,null,{"$f":"G360*H360","v":0}]
[]
[null,null,"FIX SPRAY FÚVÓKA","R5-Q","RAIN BIRD","5'Q fix szórásképű fúvóka (R=1.5m; 90°)",{"$f":"VLOOKUP(D362,' '!$1:$1048576,3,0)","v":600},null,"db",25,null,{"$f":"G362*H362","v":0}]
[null,null,"FIX SPRAY FÚVÓKA","R5-H","RAIN BIRD","5'H fix szórásképű fúvóka (R=1.5m; 180°)",{"$f":"VLOOKUP(D363,' '!$1:$1048576,3,0)","v":600},null,"db",25,null,{"$f":"G363*H363","v":0}]
[null,null,"FIX SPRAY FÚVÓKA","R5-F","RAIN BIRD","5'F fix szórásképű fúvóka (R=1.5m; 360°)",{"$f":"VLOOKUP(D364,' '!$1:$1048576,3,0)","v":600},null,"db",25,null,0]
[null,null,"FIX SPRAY FÚVÓKA","R8-Q","RAIN BIRD","8'Q fix szórásképű fúvóka (R=2.4m; 90°)",{"$f":"VLOOKUP(D365,' '!$1:$1048576,3,0)","v":600},null,"db",25,null,0]
[null,null,"FIX SPRAY FÚVÓKA","R8-H","RAIN BIRD","8'H fix szórásképű fúvóka (R=2.4m; 180°)",{"$f":"VLOOKUP(D366,' '!$1:$1048576,3,0)","v":600},null,"db",25,null,0]
[null,null,"FIX SPRAY FÚVÓKA","R8-F","RAIN BIRD","8'F fix szórásképű fúvóka (R=2.4m; 360°)",{"$f":"VLOOKUP(D367,' '!$1:$1048576,3,0)","v":600},null,"db",25,null,0]
[null,null,"FIX SPRAY FÚVÓKA","R10-Q","RAIN BIRD","10'Q fix szórásképű fúvóka (R=3.0m; 90°)",{"$f":"VLOOKUP(D368,' '!$1:$1048576,3,0)","v":600},null,"db",25,null,0]
[null,null,"FIX SPRAY FÚVÓKA","R10-T","RAIN BIRD","10'T fix szórásképű fúvóka (R=3.0m; 120°)",{"$f":"VLOOKUP(D369,' '!$1:$1048576,3,0)","v":600},null,"db",25,null,0]
[null,null,"FIX SPRAY FÚVÓKA","R10-H","RAIN BIRD","10'H fix szórásképű fúvóka (R=3.0m; 180°)",{"$f":"VLOOKUP(D370,' '!$1:$1048576,3,0)","v":600},null,"db",25,null,0]
[null,null,"FIX SPRAY FÚVÓKA","R10-F","RAIN BIRD","10'F fix szórásképű fúvóka (R=3.0m; 360°)",{"$f":"VLOOKUP(D371,' '!$1:$1048576,3,0)","v":600},null,"db",25,null,0]
[null,null,"FIX SPRAY FÚVÓKA","R12-Q","RAIN BIRD","12'Q fix szórásképű fúvóka (R=3.6m; 90°)",{"$f":"VLOOKUP(D372,' '!$1:$1048576,3,0)","v":600},null,"db",25,null,0]
[null,null,"FIX SPRAY FÚVÓKA","R12-T","RAIN BIRD","12'T fix szórásképű fúvóka (R=3.6m; 120°)",{"$f":"VLOOKUP(D373,' '!$1:$1048576,3,0)","v":600},null,"db",25,null,0]
[null,null,"FIX SPRAY FÚVÓKA","R12-H","RAIN BIRD","12'H fix szórásképű fúvóka (R=3.6m; 180°)",{"$f":"VLOOKUP(D374,' '!$1:$1048576,3,0)","v":600},null,"db",25,null,0]
[null,null,"FIX SPRAY FÚVÓKA","R12-TT","RAIN BIRD","12'TT fix szórásképű fúvóka (R=3.6m; 240°)",{"$f":"VLOOKUP(D375,' '!$1:$1048576,3,0)","v":600},null,"db",25,null,0]
[null,null,"FIX SPRAY FÚVÓKA","R12/TQ","RAIN BIRD","12'TQ fix szórásképű fúvóka (R=3.6m; 270°)",{"$f":"VLOOKUP(D376,' '!$1:$1048576,3,0)","v":600},null,"db",25,null,0]
[null,null,"FIX SPRAY FÚVÓKA","R12-F","RAIN BIRD","12'F fix szórásképű fúvóka (R=3.6m; 360°)",{"$f":"VLOOKUP(D377,' '!$1:$1048576,3,0)","v":600},null,"db",25,null,0]
[null,null,"FIX SPRAY FÚVÓKA","R15-Q","RAIN BIRD","15'Q fix szórásképű fúvóka (R=4.5m; 90°)",{"$f":"VLOOKUP(D378,' '!$1:$1048576,3,0)","v":600},null,"db",25,null,0]
[null,null,"FIX SPRAY FÚVÓKA","R15/T","RAIN BIRD","15'T fix szórásképű fúvóka (R=4.5m; 120°)",{"$f":"VLOOKUP(D379,' '!$1:$1048576,3,0)","v":600},null,"db",25,null,0]
[null,null,"FIX SPRAY FÚVÓKA","R15-H","RAIN BIRD","15'H fix szórásképű fúvóka (R=4.5m; 180°)",{"$f":"VLOOKUP(D380,' '!$1:$1048576,3,0)","v":600},null,"db",25,null,0]
[null,null,"FIX SPRAY FÚVÓKA","R15-TT","RAIN BIRD","15'TTfix szórásképű fúvóka (R=4.5m; 240°)",{"$f":"VLOOKUP(D381,' '!$1:$1048576,3,0)","v":600},null,"db",25,null,0]
[null,null,"FIX SPRAY FÚVÓKA","R15/TQ","RAIN BIRD","15'TQ fix szórásképű fúvóka (R=4.5m; 270°)",{"$f":"VLOOKUP(D382,' '!$1:$1048576,3,0)","v":600},null,"db",25,null,0]
[null,null,"FIX SPRAY FÚVÓKA","R15-F","RAIN BIRD","15'F fix szórásképű fúvóka (R=4.5m; 360°)",{"$f":"VLOOKUP(D383,' '!$1:$1048576,3,0)","v":600},null,"db",25,null,0]
[]
[null,null,"SÁVSZÓRÓ SPRAY FÚVÓKA","A47047","RAIN BIRD","9'SST sávszóró fúvóka (SZ2.7m x H5.5m)",{"$f":"VLOOKUP(D385,' '!$1:$1048576,3,0)","v":600},null,"db",25,null,0]
[null,null,"SÁVSZÓRÓ SPRAY FÚVÓKA","R15-CST","RAIN BIRD","15'CST sávszóró fúvóka (SZ1.2m x H9.2m)",{"$f":"VLOOKUP(D386,' '!$1:$1048576,3,0)","v":600},null,"db",25,null,0]
[null,null,"SÁVSZÓRÓ SPRAY FÚVÓKA","R15-EST","RAIN BIRD","15'EST sávszóró fúvóka (SZ1.2m x H4.6m)",{"$f":"VLOOKUP(D387,' '!$1:$1048576,3,0)","v":600},null,"db",25,null,0]
[null,null,"SÁVSZÓRÓ SPRAY FÚVÓKA","R15-SST","RAIN BIRD","15'SST sávszóró fúvóka (SZ1.2m x H9.2m)",{"$f":"VLOOKUP(D388,' '!$1:$1048576,3,0)","v":600},null,"db",25,null,0]
[null,null,"SÁVSZÓRÓ SPRAY FÚVÓKA","R15-RCS","RAIN BIRD","15'RCS sávszóró fúvóka (SZ1.2m x H4.6m)",{"$f":"VLOOKUP(D389,' '!$1:$1048576,3,0)","v":600},null,"db",25,null,0]
[null,null,"SÁVSZÓRÓ SPRAY FÚVÓKA","R15-LCS","RAIN BIRD","15'LCS sávszóró fúvóka (SZ1.2m x H4.6m)",{"$f":"VLOOKUP(D390,' '!$1:$1048576,3,0)","v":600},null,"db",25,null,0]
[]
[null,null,"FIX SPRAY FÚVÓKA","RB-15SQ","RAIN BIRD","15'SQ négyzetszóró fúvóka (SZ6.4m x H6.4m)",{"$f":"VLOOKUP(D392,' '!$1:$1048576,3,0)","v":600},null,"db",25,null,0]
[]
[null,null,"TŐÖNTÖZŐ SPRAY FÚVÓKA","R5-Q-B","RAIN BIRD","5'Q-B sugaras tőöntöző fúvóka (R=1.5m)",{"$f":"VLOOKUP(D394,' '!$1:$1048576,3,0)","v":600},null,"db",25,null,0]
[null,null,"TŐÖNTÖZŐ SPRAY FÚVÓKA","R5-H-B","RAIN BIRD","5'H-B sugaras tőöntöző fúvóka (R=1.5m)",{"$f":"VLOOKUP(D395,' '!$1:$1048576,3,0)","v":600},null,"db",25,null,0]
[null,null,"TŐÖNTÖZŐ SPRAY FÚVÓKA","R5-H-B","RAIN BIRD","5'F-B sugaras tőöntöző fúvóka (R=1.5m)",{"$f":"VLOOKUP(D396,' '!$1:$1048576,3,0)","v":600},null,"db",25,null,0]
[null,null,"TŐÖNTÖZŐ SPRAY FÚVÓKA","5-CST-B","RAIN BIRD","5'CST-B sugaras tőöntöző fúvóka (R=1.5m)",{"$f":"VLOOKUP(D397,' '!$1:$1048576,3,0)","v":530},null,"db",25,null,0]
[null,null,"BOKORÖNTÖZŐ SPRAY FÚVÓKA","R16Q-SLA","RAIN BIRD","16Q SLA  sugaras bokoröntöző fúvóka (R=4.9m)",{"$f":"VLOOKUP(D398,' '!$1:$1048576,3,0)","v":600},null,"db",25,"Rendelésre!",0]
[null,null,"BOKORÖNTÖZŐ SPRAY FÚVÓKA","R16H-SLA","RAIN BIRD","16H SLA  sugaras bokoröntöző fúvóka (R=4.9m)",{"$f":"VLOOKUP(D399,' '!$1:$1048576,3,0)","v":600},null,"db",25,"Rendelésre!",0]
[null,null,"BOKORÖNTÖZŐ SPRAY FÚVÓKA","R16-F-SLA","RAIN BIRD","16F SLA  sugaras bokoröntöző fúvóka (R=4.9m)",{"$f":"VLOOKUP(D400,' '!$1:$1048576,3,0)","v":600},null,"db",25,"Rendelésre!",0]
[null,null,"BOKORÖNTÖZŐ SPRAY FÚVÓKA","R22-Q-SS","RAIN BIRD","22'Q SS  sugaras bokoröntöző fúvóka (R=6.1m)",{"$f":"VLOOKUP(D401,' '!$1:$1048576,3,0)","v":600},null,"db",25,"Rendelésre!",0]
[null,null,"BOKORÖNTÖZŐ SPRAY FÚVÓKA","R22-H-SS","RAIN BIRD","22'H SS  sugaras bokoröntöző fúvóka (R=6.1m)",{"$f":"VLOOKUP(D402,' '!$1:$1048576,3,0)","v":600},null,"db",25,"Rendelésre!",0]
[null,null,"BOKORÖNTÖZŐ SPRAY FÚVÓKA","R22-F-SS","RAIN BIRD","22'F SS  sugaras bokoröntöző fúvóka (R=6.1m)",{"$f":"VLOOKUP(D403,' '!$1:$1048576,3,0)","v":600},null,"db",25,"Rendelésre!",0]
[]
[null,null,"KÖZELÖNTÖZŐ SPRAY FÚVÓKA","U8Q","RAIN BIRD","U-8'Q közelöntöző fúvóka (R=2.4m; 90°)",{"$f":"VLOOKUP(D405,' '!$1:$1048576,3,0)","v":700},null,"db",25,null,{"$f":"G405*H405","v":0}]
[null,null,"KÖZELÖNTÖZŐ SPRAY FÚVÓKA","U8H","RAIN BIRD","U-8'H közelöntöző fúvóka (R=2.4m; 180°)",{"$f":"VLOOKUP(D406,' '!$1:$1048576,3,0)","v":700},null,"db",25,null,0]
[null,null,"KÖZELÖNTÖZŐ SPRAY FÚVÓKA","RU8-F","RAIN BIRD","U-8'F közelöntöző fúvóka (R=2.4m; 360°)",{"$f":"VLOOKUP(D407,' '!$1:$1048576,3,0)","v":700},null,"db",25,null,0]
[null,null,"KÖZELÖNTÖZŐ SPRAY FÚVÓKA","U10Q","RAIN BIRD","U-10'Q közelöntöző fúvóka (R=3.0m; 90°)",{"$f":"VLOOKUP(D408,' '!$1:$1048576,3,0)","v":700},null,"db",25,null,0]
[null,null,"KÖZELÖNTÖZŐ SPRAY FÚVÓKA","U10H","RAIN BIRD","U-10'H közelöntöző fúvóka (R=3.0m; 180°)",{"$f":"VLOOKUP(D409,' '!$1:$1048576,3,0)","v":700},null,"db",25,null,0]
[null,null,"KÖZELÖNTÖZŐ SPRAY FÚVÓKA","U10F","RAIN BIRD","U-10'F közelöntöző fúvóka (R=3.0m; 360°)",{"$f":"VLOOKUP(D410,' '!$1:$1048576,3,0)","v":700},null,"db",25,null,0]
[null,null,"KÖZELÖNTÖZŐ SPRAY FÚVÓKA","RU12-Q","RAIN BIRD","U-12'Q közelöntöző fúvóka (R=3.6m; 90°)",{"$f":"VLOOKUP(D411,' '!$1:$1048576,3,0)","v":700},null,"db",25,null,0]
[null,null,"KÖZELÖNTÖZŐ SPRAY FÚVÓKA","RU12-H","RAIN BIRD","U-12'H közelöntöző fúvóka (R=3.6m; 180°)",{"$f":"VLOOKUP(D412,' '!$1:$1048576,3,0)","v":700},null,"db",25,null,0]
[null,null,"KÖZELÖNTÖZŐ SPRAY FÚVÓKA","RU12-F","RAIN BIRD","U-12'F közelöntöző fúvóka (R=3.6m; 360°)",{"$f":"VLOOKUP(D413,' '!$1:$1048576,3,0)","v":700},null,"db",25,null,0]
[null,null,"KÖZELÖNTÖZŐ SPRAY FÚVÓKA","RU15-Q","RAIN BIRD","U-15'Q közelöntöző fúvóka (R=4.5m; 90°)",{"$f":"VLOOKUP(D414,' '!$1:$1048576,3,0)","v":700},null,"db",25,null,0]
[null,null,"KÖZELÖNTÖZŐ SPRAY FÚVÓKA","RU15-H","RAIN BIRD","U-15'H közelöntöző fúvóka (R=4.5m; 180°)",{"$f":"VLOOKUP(D415,' '!$1:$1048576,3,0)","v":700},null,"db",25,null,0]
[null,null,"KÖZELÖNTÖZŐ SPRAY FÚVÓKA","RU15-F","RAIN BIRD","U-15'F közelöntöző fúvóka (R=4.5m; 360°)",{"$f":"VLOOKUP(D416,' '!$1:$1048576,3,0)","v":700},null,"db",25,null,0]
[]
[null,null,"FIX SPRAY FÚVÓKA","89-1488","TORO","5'Q-PC fix szórásképű fúvóka (R=1.5m; 90°)",{"$f":"VLOOKUP(D418,' '!$1:$1048576,3,0)","v":598},null,"db",25,null,{"$f":"G418*H418","v":0}]
[null,null,"FIX SPRAY FÚVÓKA","89-1485","TORO","5'T-PC fix szórásképű fúvóka (R=1.5m; 120°)",{"$f":"VLOOKUP(D419,' '!$1:$1048576,3,0)","v":598},null,"db",25,null,0]
[null,null,"FIX SPRAY FÚVÓKA","89-1482","TORO","5'H-PC fix szórásképű fúvóka (R=1.5m; 180°)",{"$f":"VLOOKUP(D420,' '!$1:$1048576,3,0)","v":598},null,"db",25,null,0]
[null,null,"FIX SPRAY FÚVÓKA","89-1479","TORO","5'TT-PC fix szórásképű fúvóka (R=1.5m; 240°)",{"$f":"VLOOKUP(D421,' '!$1:$1048576,3,0)","v":598},null,"db",25,null,0]
[null,null,"FIX SPRAY FÚVÓKA","89-1476","TORO","5'TQ-PC fix szórásképű fúvóka (R=1.5m; 270°)",{"$f":"VLOOKUP(D422,' '!$1:$1048576,3,0)","v":598},null,"db",25,null,0]
[null,null,"FIX SPRAY FÚVÓKA","89-1473","TORO","5'F-PC fix szórásképű fúvóka (R=1.5m; 360°)",{"$f":"VLOOKUP(D423,' '!$1:$1048576,3,0)","v":598},null,"db",25,null,0]
[null,null,"FIX SPRAY FÚVÓKA","89-1470","TORO","8'Q-PC fix szórásképű fúvóka (R=2.4m; 90°)",{"$f":"VLOOKUP(D424,' '!$1:$1048576,3,0)","v":598},null,"db",25,null,0]
[null,null,"FIX SPRAY FÚVÓKA","89-1467","TORO","8'T-PC fix szórásképű fúvóka (R=2.4m; 120°)",{"$f":"VLOOKUP(D425,' '!$1:$1048576,3,0)","v":598},null,"db",25,null,0]
[null,null,"FIX SPRAY FÚVÓKA","89-1464","TORO","8'H-PC fix szórásképű fúvóka (R=2.4m; 180°)",{"$f":"VLOOKUP(D426,' '!$1:$1048576,3,0)","v":598},null,"db",25,null,0]
[null,null,"FIX SPRAY FÚVÓKA","89-1461","TORO","8'TT-PC fix szórásképű fúvóka (R=2.4m; 240°)",{"$f":"VLOOKUP(D427,' '!$1:$1048576,3,0)","v":598},null,"db",25,null,0]
[null,null,"FIX SPRAY FÚVÓKA","89-1458","TORO","8'TQ-PC fix szórásképű fúvóka (R=2.4m; 270°)",{"$f":"VLOOKUP(D428,' '!$1:$1048576,3,0)","v":598},null,"db",25,null,0]
[null,null,"FIX SPRAY FÚVÓKA","89-1455","TORO","8'F-PC fix szórásképű fúvóka (R=2.4m; 360°)",{"$f":"VLOOKUP(D429,' '!$1:$1048576,3,0)","v":598},null,"db",25,null,0]
[null,null,"FIX SPRAY FÚVÓKA","89-1452","TORO","10'Q-PC fix szórásképű fúvóka (R=3.0m; 90°)",{"$f":"VLOOKUP(D430,' '!$1:$1048576,3,0)","v":598},null,"db",25,null,0]
[null,null,"FIX SPRAY FÚVÓKA","89-1449","TORO","10'T-PC fix szórásképű fúvóka (R=3.0m; 120°)",{"$f":"VLOOKUP(D431,' '!$1:$1048576,3,0)","v":598},null,"db",25,null,0]
[null,null,"FIX SPRAY FÚVÓKA","89-1446","TORO","10'H-PC fix szórásképű fúvóka (R=3.0m; 180°)",{"$f":"VLOOKUP(D432,' '!$1:$1048576,3,0)","v":598},null,"db",25,null,0]
[null,null,"FIX SPRAY FÚVÓKA","89-1443","TORO","10'TT-PC fix szórásképű fúvóka (R=3.0m; 240°)",{"$f":"VLOOKUP(D433,' '!$1:$1048576,3,0)","v":598},null,"db",25,null,0]
[null,null,"FIX SPRAY FÚVÓKA","89-1440","TORO","10'TQ-PC fix szórásképű fúvóka (R=3.0m; 270°)",{"$f":"VLOOKUP(D434,' '!$1:$1048576,3,0)","v":598},null,"db",25,null,0]
[null,null,"FIX SPRAY FÚVÓKA","89-1437","TORO","10'F-PC fix szórásképű fúvóka (R=3.0m; 360°)",{"$f":"VLOOKUP(D435,' '!$1:$1048576,3,0)","v":598},null,"db",25,null,0]
[null,null,"FIX SPRAY FÚVÓKA","89-1434","TORO","12'Q-PC fix szórásképű fúvóka (R=3.4m; 90°)",{"$f":"VLOOKUP(D436,' '!$1:$1048576,3,0)","v":598},null,"db",25,null,0]
[null,null,"FIX SPRAY FÚVÓKA","89-1431","TORO","12'T-PC fix szórásképű fúvóka (R=3.4m; 120°)",{"$f":"VLOOKUP(D437,' '!$1:$1048576,3,0)","v":598},null,"db",25,null,0]
[null,null,"FIX SPRAY FÚVÓKA","89-1428","TORO","12'H-PCfix szórásképű fúvóka (R=3.4m; 180°)",{"$f":"VLOOKUP(D438,' '!$1:$1048576,3,0)","v":598},null,"db",25,null,0]
[null,null,"FIX SPRAY FÚVÓKA","89-1425","TORO","12'TT-PC fix szórásképű fúvóka (R=3.4m; 240°)",{"$f":"VLOOKUP(D439,' '!$1:$1048576,3,0)","v":598},null,"db",25,null,0]
[null,null,"FIX SPRAY FÚVÓKA","89-1422","TORO","12'TQ-PC fix szórásképű fúvóka (R=3.4m; 270°)",{"$f":"VLOOKUP(D440,' '!$1:$1048576,3,0)","v":598},null,"db",25,null,0]
[null,null,"FIX SPRAY FÚVÓKA","89-1419","TORO","12'F-PC fix szórásképű fúvóka (R=3.4m; 360°)",{"$f":"VLOOKUP(D441,' '!$1:$1048576,3,0)","v":598},null,"db",25,null,0]
[null,null,"FIX SPRAY FÚVÓKA","89-1416","TORO","15'Q-PCfix szórásképű fúvóka (R=4.6m; 90°)",{"$f":"VLOOKUP(D442,' '!$1:$1048576,3,0)","v":598},null,"db",25,null,0]
[null,null,"FIX SPRAY FÚVÓKA","89-1413","TORO","15'T-PC fix szórásképű fúvóka (R=4.6m; 120°)",{"$f":"VLOOKUP(D443,' '!$1:$1048576,3,0)","v":598},null,"db",25,null,0]
[null,null,"FIX SPRAY FÚVÓKA","89-1410","TORO","15'H-PC fix szórásképű fúvóka (R=4.6m; 180°)",{"$f":"VLOOKUP(D444,' '!$1:$1048576,3,0)","v":598},null,"db",25,null,0]
[null,null,"FIX SPRAY FÚVÓKA","89-1407","TORO","15'TT-PC fix szórásképű fúvóka (R=4.6m; 240°)",{"$f":"VLOOKUP(D445,' '!$1:$1048576,3,0)","v":598},null,"db",25,null,0]
[null,null,"FIX SPRAY FÚVÓKA","89-1404","TORO","15'TQ-PC fix szórásképű fúvóka (R=4.6m; 270°)",{"$f":"VLOOKUP(D446,' '!$1:$1048576,3,0)","v":598},null,"db",25,null,0]
[null,null,"FIX SPRAY FÚVÓKA","89-1401","TORO","15'F-PC fix szórásképű fúvóka (R=4.6m; 360°)",{"$f":"VLOOKUP(D447,' '!$1:$1048576,3,0)","v":598},null,"db",25,null,0]
[]
[null,null,"ÁLLÍTHATÓ SPRAY FÚVÓKA","8-TVAN","TORO","8 TVAN állítható szórásképű fúvóka (R=2.4m; 0-360°)",{"$f":"VLOOKUP(D449,' '!$1:$1048576,3,0)","v":670},null,"db",25,null,{"$f":"G449*H449","v":0}]
[null,null,"ÁLLÍTHATÓ SPRAY FÚVÓKA","10-TVAN","TORO","10 TVAN állítható szórásképű fúvóka (R=3.0m; 0-360°)",{"$f":"VLOOKUP(D450,' '!$1:$1048576,3,0)","v":670},null,"db",25,null,{"$f":"G450*H450","v":0}]
[null,null,"ÁLLÍTHATÓ SPRAY FÚVÓKA","12-TVAN","TORO","12 TVAN állítható szórásképű fúvóka (R=3.7m; 0-360°)",{"$f":"VLOOKUP(D451,' '!$1:$1048576,3,0)","v":670},null,"db",25,null,{"$f":"G451*H451","v":0}]
[null,null,"ÁLLÍTHATÓ SPRAY FÚVÓKA","15-TVAN","TORO","15 TVAN állítható szórásképű fúvóka (R=4.6m; 0-360°)",{"$f":"VLOOKUP(D452,' '!$1:$1048576,3,0)","v":670},null,"db",25,null,{"$f":"G452*H452","v":0}]
[null,null,"ÁLLÍTHATÓ SPRAY FÚVÓKA","17-TVAN","TORO","17 TVAN állítható szórásképű fúvóka (R=5.2m; 0-360°)",{"$f":"VLOOKUP(D453,' '!$1:$1048576,3,0)","v":670},null,"db",25,null,{"$f":"G453*H453","v":0}]
[]
[null,null,"SÁVSZÓRÓ SPRAY FÚVÓKA","K-15HL","TORO","15-HL fix+sávszóró fúvóka (R=4.6m; SZ1.5m x H9.8m; 180°)",{"$f":"VLOOKUP(D455,' '!$1:$1048576,3,0)","v":598},null,"db",25,null,{"$f":"G455*H455","v":0}]
[]
[null,null,"SÁVSZÓRÓ SPRAY FÚVÓKA","89-1512","TORO","2 SST-PC sávszóró fúvóka (SZ0.6m x H1.8m)",{"$f":"VLOOKUP(D457,' '!$1:$1048576,3,0)","v":598},null,"db",25,null,{"$f":"G457*H457","v":0}]
[null,null,"SÁVSZÓRÓ SPRAY FÚVÓKA","89-1497","TORO","4 CST-PC sávszóró fúvóka (SZ1.2m x H9.1m)",{"$f":"VLOOKUP(D458,' '!$1:$1048576,3,0)","v":598},null,"db",25,null,0]
[null,null,"SÁVSZÓRÓ SPRAY FÚVÓKA","89-1500","TORO","4 EST-PC sávszóró fúvóka (SZ1.2m x H4.6m)",{"$f":"VLOOKUP(D459,' '!$1:$1048576,3,0)","v":598},null,"db",25,null,0]
[null,null,"SÁVSZÓRÓ SPRAY FÚVÓKA","89-1503","TORO","4 SST-PC sávszóró fúvóka (SZ1.2m x H9.1m)",{"$f":"VLOOKUP(D460,' '!$1:$1048576,3,0)","v":598},null,"db",25,null,0]
[null,null,"SÁVSZÓRÓ SPRAY FÚVÓKA","89-1509","TORO","4S SST-PC sávszóró fúvóka (SZ1.2m x H5.5m)",{"$f":"VLOOKUP(D461,' '!$1:$1048576,3,0)","v":598},null,"db",25,null,0]
[null,null,"SÁVSZÓRÓ SPRAY FÚVÓKA","89-1506","TORO","9 SST-PC sávszóró fúvóka (SZ2.7m x H5.5m)",{"$f":"VLOOKUP(D462,' '!$1:$1048576,3,0)","v":598},null,"db",25,null,0]
[]
[null,null,"TŐÖNTÖZŐ SPRAY FÚVÓKA","89-1727","TORO","FB25PC tőöntöző fúvóka",{"$f":"VLOOKUP(D464,' '!$1:$1048576,3,0)","v":598},null,"db",25,"Rendelésre!",{"$f":"G464*H464","v":0}]
[null,null,"TŐÖNTÖZŐ SPRAY FÚVÓKA",null,"TORO","FB50PC tőöntöző fúvóka",{"$f":"G464","v":598},null,"db",25,"Rendelésre!",{"$f":"G465*H465","v":0}]
[null,null,"TŐÖNTÖZŐ SPRAY FÚVÓKA",null,"TORO","FB100PC tőöntöző fúvóka",{"$f":"G464","v":598},null,"db",25,"Rendelésre!",{"$f":"G466*H466","v":0}]
[null,null,"TŐÖNTÖZŐ SPRAY FÚVÓKA",null,"TORO","FB200ADJPC tőöntöző fúvóka",{"$f":"G464","v":598},null,"db",25,"Rendelésre!",{"$f":"G467*H467","v":0}]
[]
[null,null,"TŐÖNTÖZŐ SPRAY FÚVÓKA","89-7865","TORO","SB-90-PC sugaras tőöntöző fúvóka (R=0.5m)",{"$f":"VLOOKUP(D469,' '!$1:$1048576,3,0)","v":598},null,"db",25,"Rendelésre!",{"$f":"G469*H469","v":0}]
[null,null,"TŐÖNTÖZŐ SPRAY FÚVÓKA","89-78651","TORO","SB-180-PC sugaras tőöntöző fúvóka (R=0.8m)",{"$f":"VLOOKUP(D470,' '!$1:$1048576,3,0)","v":598},null,"db",25,"Rendelésre!",{"$f":"G470*H470","v":0}]
[null,null,"TŐÖNTÖZŐ SPRAY FÚVÓKA","89-7877","TORO","SB-360-PC sugaras tőöntöző fúvóka (R=0.5m)",{"$f":"VLOOKUP(D471,' '!$1:$1048576,3,0)","v":598},null,"db",25,"Rendelésre!",{"$f":"G471*H471","v":0}]
[null,null,"TŐÖNTÖZŐ SPRAY FÚVÓKA",null,"TORO","SB-2-180-PC sugaras tőöntöző fúvóka (R=0.5m)",{"$f":"G471","v":598},null,"db",25,"Rendelésre!",{"$f":"G472*H472","v":0}]
[null,null,"TŐÖNTÖZŐ SPRAY FÚVÓKA",null,"TORO","SB-4-180-PC sugaras tőöntöző fúvóka (R=0.8m)",{"$f":"G471","v":598},null,"db",25,"Rendelésre!",{"$f":"G473*H473","v":0}]
[]
[null,"SPRAY KIEGÉSZÍTŐK"]
[]
[null,null,"SPRAY KIEGÉSZÍTŐ","R1800EXT","RAIN BIRD","Kiemelő 1800EXT, 15 cm",{"$f":"VLOOKUP(D477,' '!$1:$1048576,3,0)","v":1367},null,"db",50,null,{"$f":"G477*H477","v":0}]
[]
[null,null,"SPRAY KIEGÉSZÍTŐ","35-2636","TORO","Kiemelő 6X, 570Z szórófejhez, 15cm",{"$f":"VLOOKUP(D479,' '!$1:$1048576,3,0)","v":857},null,"db",100,null,0]
[]
[null,null,"SPRAY KIEGÉSZÍTŐ","35-2631","TORO","Kiemelő SR6, 1/2\" KM, 15cm",{"$f":"VLOOKUP(D481,' '!$1:$1048576,3,0)","v":857},null,"db",100,null,0]
[null,null,"SPRAY KIEGÉSZÍTŐ","570-SR-18","TORO","Kiemelő SR-18, 1/2\" KM 45cm",{"$f":"VLOOKUP(D482,' '!$1:$1048576,3,0)","v":1451},null,"db",50,null,0]
[]
[null,null,"SPRAY KIEGÉSZÍTŐ","OR37330","ORBIT","Kiemelő fém, állítható 40-70cm, KM 1/2\", 12A fúvókával",{"$f":"VLOOKUP(D484,' '!$1:$1048576,3,0)","v":2913},null,"db",12,null,0]
[null,null,"SPRAY KIEGÉSZÍTŐ","O37332","ORBIT","Kiemelő fém, állítható 70-120cm, KM 1/2\", 12A fúvókával",{"$f":"VLOOKUP(D485,' '!$1:$1048576,3,0)","v":4370},null,"db",12,null,0]
[]
[null,null,"SPRAY KIEGÉSZÍTŐ","US-SAM-KIT","RAIN BIRD","UniSpray, Visszafolyásgátló (SAM)",{"$f":"VLOOKUP(D487,' '!$1:$1048576,3,0)","v":405},null,"db",25,null,0]
[null,null,"SPRAY KIEGÉSZÍTŐ","437-400","HUNTER","Pro-Spray, Visszafolyásgátló",{"$f":"VLOOKUP(D488,' '!$1:$1048576,3,0)","v":313},null,"db",25,null,0]
[null,null,"SPRAY KIEGÉSZÍTŐ","051-843","HUNTER","PS Ultra, Visszafolyásgátló",{"$f":"VLOOKUP(D489,' '!$1:$1048576,3,0)","v":350},null,"db",25,null,0]
[]
["ÚJ",null,"SPRAY KIEGÉSZÍTŐ","916400SP","HUNTER","Spray szórófej elzáró, fúvóka, BM",{"$f":"VLOOKUP(D491,' '!$1:$1048576,3,0)","v":720},null,"db",1,null,{"$f":"G491*H491","v":0}]
["ÚJ",null,"SPRAY KIEGÉSZÍTŐ",8006410085,null,"Spray szórófej elzáró, univerzális",{"$f":"VLOOKUP(D492,' '!$1:$1048576,3,0)","v":384},null,"db",1,null,{"$f":"G492*H492","v":0}]
[]
[null,null,"SPRAY KIEGÉSZÍTŐ","HC-50F-50M","HUNTER","HCV visszacsapó szelep KB 1/2\"",{"$f":"VLOOKUP(D494,' '!$1:$1048576,3,0)","v":2035},null,"db",20,null,{"$f":"G494*H494","v":0}]
[null,null,"SPRAY KIEGÉSZÍTŐ","HC-75F-75M","HUNTER","HCV visszacsapó szelep KB 3/4\"",{"$f":"VLOOKUP(D495,' '!$1:$1048576,3,0)","v":2352},null,"db",20,null,{"$f":"G495*H495","v":0}]
[]
[null,"ROTATOR FÚVÓKÁK"]
[]
[null,null,"ROTATOR FÚVÓKA","MP-800SR-90210","HUNTER","MP Rotator 800SR áll. fúvóka 90-210°; R=1.8-3.5m (NARANCS)",{"$f":"VLOOKUP(D499,' '!$1:$1048576,3,0)","v":2875},null,"db",10,null,{"$f":"G499*H499","v":0}]
[null,null,"ROTATOR FÚVÓKA","MP-800SR-360","HUNTER","MP Rotator 800SR fix fúvóka 360°; R=1.8-3.5m (LIME ZÖLD)",{"$f":"VLOOKUP(D500,' '!$1:$1048576,3,0)","v":2875},null,"db",10,null,{"$f":"G500*H500","v":0}]
[]
["ÚJ",null,"ROTATOR FÚVÓKA","MP-815SR-90210","HUNTER","MP Rotator 815SR áll. fúvóka 90-210°; R=1.8-3.5m (NARANCS)",{"$f":"VLOOKUP(D502,' '!$1:$1048576,3,0)","v":2875},null,"db",10,null,{"$f":"G502*H502","v":0}]
["ÚJ",null,"ROTATOR FÚVÓKA","MP-815SR-360","HUNTER","MP Rotator 815SR fix fúvóka 360°; R=1.8-3.5m (LIME ZÖLD)",{"$f":"VLOOKUP(D503,' '!$1:$1048576,3,0)","v":2875},null,"db",10,null,{"$f":"G503*H503","v":0}]
[]
[null,null,"ROTATOR FÚVÓKA","MP-1000-90210","HUNTER","MP Rotator 1000 áll. fúvóka 90-210°; R=2.5-4.6m (BORDÓ)",{"$f":"VLOOKUP(D505,' '!$1:$1048576,3,0)","v":2875},null,"db",10,null,{"$f":"G505*H505","v":0}]
[null,null,"ROTATOR FÚVÓKA","MP-1000-210270","HUNTER","MP Rotator 1000 áll. fúvóka 210-270°; R=2.5-4.6m (VILÁGOSKÉK)",{"$f":"VLOOKUP(D506,' '!$1:$1048576,3,0)","v":2875},null,"db",10,null,{"$f":"G506*H506","v":0}]
[null,null,"ROTATOR FÚVÓKA","MP-1000-360","HUNTER","MP Rotator 1000 fix fúvóka 360°; R=2.5-4.6m (OLIVAZÖLD)",{"$f":"VLOOKUP(D507,' '!$1:$1048576,3,0)","v":2875},null,"db",10,null,{"$f":"G507*H507","v":0}]
[]
[null,null,"ROTATOR FÚVÓKA","MP-2000-90210","HUNTER","MP Rotator 2000 áll. fúvóka 90-210°; R=4.0-6.4m (FEKETE)",{"$f":"VLOOKUP(D509,' '!$1:$1048576,3,0)","v":2875},null,"db",10,null,{"$f":"G509*H509","v":0}]
[null,null,"ROTATOR FÚVÓKA","MP-2000-210270","HUNTER","MP Rotator 2000 áll. fúvóka 210-270°; R=4.0-6.4m (ZÖLD)",{"$f":"VLOOKUP(D510,' '!$1:$1048576,3,0)","v":2875},null,"db",10,null,{"$f":"G510*H510","v":0}]
[null,null,"ROTATOR FÚVÓKA","MP-2000-360","HUNTER","MP Rotator 2000 fix fúvóka 360°; R=4.0-6.4m (PIROS)",{"$f":"VLOOKUP(D511,' '!$1:$1048576,3,0)","v":2875},null,"db",10,null,{"$f":"G511*H511","v":0}]
[]
[null,null,"ROTATOR FÚVÓKA","MP-3000-90210","HUNTER","MP Rotator 3000 áll. fúvóka 90-210°; R=6.7-9.1m (KÉK)",{"$f":"VLOOKUP(D513,' '!$1:$1048576,3,0)","v":2875},null,"db",10,null,{"$f":"G513*H513","v":0}]
[null,null,"ROTATOR FÚVÓKA","MP-3000-210270","HUNTER","MP Rotator 3000 áll. fúvóka 210-270°; R=6.7-9.1m (CITROMSÁRGA)",{"$f":"VLOOKUP(D514,' '!$1:$1048576,3,0)","v":2875},null,"db",10,null,{"$f":"G514*H514","v":0}]
[null,null,"ROTATOR FÚVÓKA","MP-3000-360","HUNTER","MP Rotator 3000 fix fúvóka 360°; R=6.7-9.1m (SZÜRKE)",{"$f":"VLOOKUP(D515,' '!$1:$1048576,3,0)","v":2875},null,"db",10,null,{"$f":"G515*H515","v":0}]
[]
[null,null,"ROTATOR FÚVÓKA","MP-3500-90210","HUNTER","MP Rotator 3500 áll. fúvóka 90-210°; R=9.4-10.7m (VIL.BARNA)",{"$f":"VLOOKUP(D517,' '!$1:$1048576,3,0)","v":2875},null,"db",10,null,{"$f":"G517*H517","v":0}]
[]
[null,null,"ROTATOR FÚVÓKA","MP-1000-4590","HUNTER","MP Rotator Corner áll. fúvóka 45-105°; R=2.5-4.5m (TÜRKIZKÉK)",{"$f":"VLOOKUP(D519,' '!$1:$1048576,3,0)","v":2875},null,"db",10,null,{"$f":"G519*H519","v":0}]
[]
[null,null,"ROTATOR FÚVÓKA","MP-LEFT","HUNTER","MP Rotator sávszóró, BAL, SZ1.5m x H4.6m (ELEFÁNTCS. FEHÉR)",{"$f":"VLOOKUP(D521,' '!$1:$1048576,3,0)","v":2875},null,"db",10,null,{"$f":"G521*H521","v":0}]
[null,null,"ROTATOR FÚVÓKA","MP-SIDE","HUNTER","MP Rotator sávszóró, OLDAL, SZ1.5m x H9.1m (BARNA)",{"$f":"VLOOKUP(D522,' '!$1:$1048576,3,0)","v":2875},null,"db",10,null,{"$f":"G522*H522","v":0}]
[null,null,"ROTATOR FÚVÓKA","MP-RIGHT","HUNTER","MP Rotator sávszóró, JOBB, SZ1.5m x H4.6m (RÉZBARNA)",{"$f":"VLOOKUP(D523,' '!$1:$1048576,3,0)","v":2875},null,"db",10,null,{"$f":"G523*H523","v":0}]
[]
[null,null,"ROTATOR FÚVÓKA","RB RN 13-18 Q","RAIN BIRD","Rotary RN13-18Q fix fúvóka, (R=4.0-5.6m; 90°)",{"$f":"VLOOKUP(D525,' '!$1:$1048576,3,0)","v":2380},null,"db",10,null,{"$f":"G525*H525","v":0}]
[null,null,"ROTATOR FÚVÓKA","RB RN 13-18 H","RAIN BIRD","Rotary RN13-18H fix fúvóka, (R=4.0-5.6m; 180°)",{"$f":"VLOOKUP(D526,' '!$1:$1048576,3,0)","v":2380},null,"db",10,null,{"$f":"G526*H526","v":0}]
[null,null,"ROTATOR FÚVÓKA","RB RN 13-18 F","RAIN BIRD","Rotary RN13-18F fix fúvóka, (R=4.0-5.6m; 360°)",{"$f":"VLOOKUP(D527,' '!$1:$1048576,3,0)","v":2380},null,"db",10,null,0]
[]
[null,null,"ROTATOR FÚVÓKA","RB RN 17-24 Q","RAIN BIRD","Rotary RN17-24Q fix fúvóka, (R=5.2-7.4m; 90°)",{"$f":"VLOOKUP(D529,' '!$1:$1048576,3,0)","v":2380},null,"db",10,null,0]
[null,null,"ROTATOR FÚVÓKA","RB RN 17-24 H","RAIN BIRD","Rotary RN17-24H fix fúvóka, (R=5.2-7.4m; 180°)",{"$f":"VLOOKUP(D530,' '!$1:$1048576,3,0)","v":2380},null,"db",10,null,0]
[null,null,"ROTATOR FÚVÓKA","RB RN 17-24 F","RAIN BIRD","Rotary RN17-24F fix fúvóka, (R=5.2-7.4m; 360°)",{"$f":"VLOOKUP(D531,' '!$1:$1048576,3,0)","v":2380},null,"db",10,null,0]
[]
[null,null,"ROTATOR FÚVÓKA","RB RVAN 14","RAIN BIRD","Rotary R-VAN 14 áll. fúvóka, (R=2.4-4.3m; 45-270°)",{"$f":"VLOOKUP(D533,' '!$1:$1048576,3,0)","v":2380},null,"db",10,null,{"$f":"G533*H533","v":0}]
[null,null,"ROTATOR FÚVÓKA","RB RVAN 18","RAIN BIRD","Rotary R-VAN 18 áll. fúvóka, (R=4.0-5.5m; 45-270°)",{"$f":"VLOOKUP(D534,' '!$1:$1048576,3,0)","v":2380},null,"db",10,null,0]
[null,null,"ROTATOR FÚVÓKA","RB RVAN 17-24","RAIN BIRD","Rotary R-VAN 17-24 áll. fúvóka, (R=5.2-7.3m; 45-270°)",{"$f":"VLOOKUP(D535,' '!$1:$1048576,3,0)","v":2380},null,"db",10,null,0]
[]
[null,"KISTELJESÍTMÉNYŰ ROTOROS SZÓRÓFEJEK (4M-10M ÖNTÖZÉSI SUGÁR)"]
[]
[null,null,"KISTELJ. ROTOROS SZÓRÓFEJ","PGJ 04","HUNTER","PGJ 04 szórófej, 10cm kiemelkedés, állítható 40-360°",{"$f":"VLOOKUP(D539,' '!$1:$1048576,3,0)","v":3101},null,"db",25,null,{"$f":"G539*H539","v":0}]
[null,null,"KISTELJ. ROTOROS SZÓRÓFEJ","PGJ-04-V","HUNTER","PGJ 04 szórófej visszafolyásgátlóval, 10cm kiem, 40-360°",{"$f":"VLOOKUP(D540,' '!$1:$1048576,3,0)","v":5250},null,"db",25,null,{"$f":"G540*H540","v":0}]
[null,null,"KISTELJ. ROTOROS SZÓRÓFEJ","PGJ12-A","HUNTER","PGJ 12 szórófej, 30cm kiemelkedés, állítható 40-360°",{"$f":"VLOOKUP(D541,' '!$1:$1048576,3,0)","v":11520},null,"db",25,null,{"$f":"G541*H541","v":0}]
[]
[null,null,"KISTELJ. ROTOROS SZÓRÓFEJ","SRM-04","HUNTER","SRM-04 (PGM-4), 10cm kiemelkedés, állítható 40-360°",{"$f":"VLOOKUP(D543,' '!$1:$1048576,3,0)","v":4673},null,"db",25,null,{"$f":"G543*H543","v":0}]
[]
[null,null,"KISTELJ. ROTOROS SZÓRÓFEJ","3504-PC","RAIN BIRD","3504 PC szórófej, 10cm kiemelkedés, állítható 30-360°",{"$f":"VLOOKUP(D545,' '!$1:$1048576,3,0)","v":3736},null,"db",20,null,{"$f":"G545*H545","v":0}]
[null,null,"KISTELJ. ROTOROS SZÓRÓFEJ","3504-PC-SAM","RAIN BIRD","3504 PC-SAM szórófej, 10cm kiemelkedés, állítható 30-360°",{"$f":"VLOOKUP(D546,' '!$1:$1048576,3,0)","v":4848},null,"db",20,null,{"$f":"G546*H546","v":0}]
[]
[null,null,"KISTELJ. ROTOROS SZÓRÓFEJ","280.1290102","RAIN","S050-S szórófej, 10.5cm kiemelkedés, állítható 40-360°",{"$f":"VLOOKUP(D548,' '!$1:$1048576,3,0)","v":3750},null,"db",25,null,{"$f":"G548*H548","v":0}]
[null,null,"KISTELJ. ROTOROS SZÓRÓFEJ","270.1010503","RAIN","S050, Visszafolyásgátló",{"$f":"VLOOKUP(D549,' '!$1:$1048576,3,0)","v":234},null,"db",25,null,{"$f":"G549*H549","v":0}]
[]
[null,"KÖZEPES TELJESÍTMÉNYŰ ROTOROS SZÓRÓFEJEK (6M -16M ÖNTÖZÉSI SUGÁR)"]
[]
[null,null,"KÖZ. TELJ. ROTOROS SZÓRÓFEJ","PGP-ADJ","HUNTER","PGP szórófej, 10cm kiemelkedés, áll. 40-360°",{"$f":"VLOOKUP(D553,' '!$1:$1048576,3,0)","v":4364},null,"db",20,null,{"$f":"G553*H553","v":0}]
[null,null,"KÖZ. TELJ. ROTOROS SZÓRÓFEJ","PGP04 Ultra","HUNTER","PGP Ultra szórófej, 10cm kiemelkedés, áll. 0-360°",{"$f":"VLOOKUP(D554,' '!$1:$1048576,3,0)","v":4443},null,"db",20,null,{"$f":"G554*H554","v":0}]
[]
[null,null,"KÖZ. TELJ. ROTOROS SZÓRÓFEJ","052-332","HUNTER","PGP, Alacsony szögű fúvókakészlet",{"$f":"VLOOKUP(D556,' '!$1:$1048576,3,0)","v":388},null,"db",1,null,{"$f":"G556*H556","v":0}]
[null,null,"KÖZ. TELJ. ROTOROS SZÓRÓFEJ","051-423","HUNTER","PGP, Visszafolyásgátló",{"$f":"VLOOKUP(D557,' '!$1:$1048576,3,0)","v":455},null,"db",1,null,{"$f":"G557*H557","v":0}]
[null,null,"KÖZ. TELJ. ROTOROS SZÓRÓFEJ",444800,"HUNTER","PGP Ultra, Magas vízhozamú fúvókakészlet",{"$f":"VLOOKUP(D558,' '!$1:$1048576,3,0)","v":625},null,"db",1,null,{"$f":"G558*H558","v":0}]
[null,null,"KÖZ. TELJ. ROTOROS SZÓRÓFEJ","PGP U SRN","HUNTER","PGP Ultra, Rövid sugarú fúvóka készlet",{"$f":"VLOOKUP(D559,' '!$1:$1048576,3,0)","v":638},null,"db",1,null,{"$f":"G559*H559","v":0}]
[null,null,"KÖZ. TELJ. ROTOROS SZÓRÓFEJ","PGPBLUE","HUNTER","PGP és S-075, Kék fúvókakészlet",{"$f":"VLOOKUP(D560,' '!$1:$1048576,3,0)","v":200},null,"db",1,null,{"$f":"G560*H560","v":0}]
[]
[null,null,"KÖZ. TELJ. ROTOROS SZÓRÓFEJ","H I-20-04","HUNTER","I-20 szórófej, 10cm kiemelkedés, állítható 50-360°",{"$f":"VLOOKUP(D562,' '!$1:$1048576,3,0)","v":7630},null,"db",20,"Rendelésre!",{"$f":"G562*H562","v":0}]
[null,null,"KÖZ. TELJ. ROTOROS SZÓRÓFEJ","H I-20-04-SS","HUNTER","I-20-SS szórófej, 10cm kiemelkedés, fém nyak, állítható 50-360°",{"$f":"VLOOKUP(D563,' '!$1:$1048576,3,0)","v":10275},null,"db",20,"Rendelésre!",{"$f":"G563*H563","v":0}]
[]
[null,null,"KÖZ. TELJ. ROTOROS SZÓRÓFEJ","5004-PC","RAIN BIRD","5004 PLUS szórófej, 10cm kiemelkedés, állítható 40-360",{"$f":"VLOOKUP(D565,' '!$1:$1048576,3,0)","v":5520},null,"db",20,null,{"$f":"G565*H565","v":0}]
[null,null,"KÖZ. TELJ. ROTOROS SZÓRÓFEJ","5004-F","RAIN BIRD","5004 PLUS FC 360° szórófej, 10cm kiemelkedés",{"$f":"VLOOKUP(D566,' '!$1:$1048576,3,0)","v":4390},null,"db",20,null,{"$f":"G566*H566","v":0}]
[null,null,"KÖZ. TELJ. ROTOROS SZÓRÓFEJ","5012-PC","RAIN BIRD","5012 PLUS szórófej, 30cm kiemelkedés, állítható 40-360",{"$f":"VLOOKUP(D567,' '!$1:$1048576,3,0)","v":11325},null,"db",20,null,{"$f":"G567*H567","v":0}]
[]
[null,null,"KÖZ. TELJ. ROTOROS SZÓRÓFEJ","5000E","RAIN BIRD","5004 FEKETE szórófej, 10cm kiemelkedés",{"$f":"VLOOKUP(D569,' '!$1:$1048576,3,0)","v":3957},null,"db",20,null,{"$f":"G569*H569","v":0}]
[]
[null,null,"KÖZ. TELJ. ROTOROS SZÓRÓFEJ","5004PC-SS-SAM","RAIN BIRD","5004 PLUS SS-PC SAM szórófej, 10cm kiemelkedés, fém nyak",{"$f":"VLOOKUP(D571,' '!$1:$1048576,3,0)","v":6562},null,"db",20,"Rendelésre!",{"$f":"G571*H571","v":0}]
[]
[null,null,"KÖZ. TELJ. ROTOROS SZÓRÓFEJ","R5000SAM","RAIN BIRD","5004, Visszafolyásgátló",{"$f":"VLOOKUP(D573,' '!$1:$1048576,3,0)","v":1895},null,"db",50,null,{"$f":"G573*H573","v":0}]
[]
[null,null,"KÖZ. TELJ. ROTOROS SZÓRÓFEJ","5000MPR-25","RAIN BIRD","5000-es MPR fúvókakészlet, 7.6 m, piros",{"$f":"VLOOKUP(D575,' '!$1:$1048576,3,0)","v":300},null,"db",10,null,{"$f":"G575*H575","v":0}]
[null,null,"KÖZ. TELJ. ROTOROS SZÓRÓFEJ","5000MPR-30","RAIN BIRD","5000-es MPR fúvókakészlet, 9.1 m, zöld",{"$f":"VLOOKUP(D576,' '!$1:$1048576,3,0)","v":300},null,"db",10,null,{"$f":"G576*H576","v":0}]
[null,null,"KÖZ. TELJ. ROTOROS SZÓRÓFEJ","5000MPR-35","RAIN BIRD","5000-es MPR fúvókakészlet, 10.7 m, beige",{"$f":"VLOOKUP(D577,' '!$1:$1048576,3,0)","v":300},null,"db",10,null,{"$f":"G577*H577","v":0}]
[]
[null,null,"KÖZ. TELJ. ROTOROS SZÓRÓFEJ","MAXIPAW","RAIN BIRD","Maxi-Paw kalapácsos öntözőfej cser. fúvókával",{"$f":"VLOOKUP(D579,' '!$1:$1048576,3,0)","v":13100},null,"db",20,"Rendelésre!",{"$f":"G579*H579","v":0}]
[]
[null,null,"KÖZ. TELJ. ROTOROS SZÓRÓFEJ","280.1150100","RAIN","S075 szórófej, 10.2cm kiemelkedés, állítható 40-360°",{"$f":"VLOOKUP(D581,' '!$1:$1048576,3,0)","v":3372},null,"db",20,null,{"$f":"G581*H581","v":0}]
[null,null,"KÖZ. TELJ. ROTOROS SZÓRÓFEJ","270.1010502","RAIN","S075, Visszafolyásgátló",{"$f":"VLOOKUP(D582,' '!$1:$1048576,3,0)","v":234},null,"db",1,null,{"$f":"G582*H582","v":0}]
[]
[null,"NAGYTELJESÍTMÉNYŰ ROTOROS SZÓRÓFEJEK "]
[]
[null,null,"NAGYTELJ. ROTOROS SZÓRÓFEJ","H I-20-04-SS","HUNTER","I-25-SS szórófej, 10cm kiemelkedés, fém nyak, állítható 50-360°",{"$f":"VLOOKUP(D586,' '!$1:$1048576,3,0)","v":10275},null,"db",12,"Rendelésre!",{"$f":"G586*H586","v":0}]
[]
[null,null,"NAGYTELJ. ROTOROS SZÓRÓFEJ","H I-25-04","HUNTER","I-25 szórófej, 10cm kiemelkedés, állítható 50-360°",{"$f":"VLOOKUP(D588,' '!$1:$1048576,3,0)","v":14207},null,"db",12,"Rendelésre!",{"$f":"G588*H588","v":0}]
[null,null,"NAGYTELJ. ROTOROS SZÓRÓFEJ","H I-25-04-SS","HUNTER","I-25-SS szórófej, 10cm kiemelkedés, fém nyak, állítható 50-360°",{"$f":"VLOOKUP(D589,' '!$1:$1048576,3,0)","v":16354},null,"db",12,"Rendelésre!",{"$f":"G589*H589","v":0}]
[]
[null,null,"NAGYTELJ. ROTOROS SZÓRÓFEJ","FALCON PC","RAIN BIRD","FALCON 6504 PC szórófej",{"$f":"VLOOKUP(D591,' '!$1:$1048576,3,0)","v":17713},null,"db",12,"Rendelésre!",{"$f":"G591*H591","v":0}]
[null,null,"NAGYTELJ. ROTOROS SZÓRÓFEJ","FALCON PC-SS","RAIN BIRD","FALCON 6504 PC szórófej, rozsdamentes",{"$f":"VLOOKUP(D592,' '!$1:$1048576,3,0)","v":18331},null,"db",12,"Rendelésre!",{"$f":"G592*H592","v":0}]
[null,null,"NAGYTELJ. ROTOROS SZÓRÓFEJ","FALCON PC-SS-HS","RAIN BIRD","FALCON 6504 PC-HS szórófej, gyorsforgású rozsdamentes",{"$f":"VLOOKUP(D593,' '!$1:$1048576,3,0)","v":28131},null,"db",12,null,{"$f":"G593*H593","v":0}]
[]
[null,null,"NAGYTELJ. ROTOROS SZÓRÓFEJ","B8160004","RAIN BIRD","FALCON fúvóka 04, 06, 08, 10, 12, 14, 16, 18, 20, 22, 24, 26",{"$f":"VLOOKUP(D595,' '!$1:$1048576,3,0)","v":10},null,"db",1,null,{"$f":"G595*H595","v":0}]
[]
[null,null,"NAGYTELJ. ROTOROS SZÓRÓFEJ","8005","RAIN BIRD","8005 szórófej, 12.7cm kiem., állítható 50-330° vagy 360°",{"$f":"VLOOKUP(D597,' '!$1:$1048576,3,0)","v":23998},null,"db",12,null,{"$f":"G597*H597","v":0}]
[null,null,"NAGYTELJ. ROTOROS SZÓRÓFEJ","8005 SS","RAIN BIRD","8005 szórófej, 12.7cm kiem., fém nyak, áll. 50-330° vagy 360°",{"$f":"VLOOKUP(D598,' '!$1:$1048576,3,0)","v":28609},null,"db",12,"Rendelésre!",{"$f":"G598*H598","v":0}]
[]
[null,null,"NAGYTELJ. ROTOROS SZÓRÓFEJ","B80000","RAIN BIRD","8005, SOD CUP, gyepültető kosár",{"$f":"VLOOKUP(D600,' '!$1:$1048576,3,0)","v":16274},null,"db",6,"Rendelésre!",{"$f":"G600*H600","v":0}]
[]
[null,null,"NAGYTELJ. ROTOROS SZÓRÓFEJ","G900E","HUNTER","G990E szórófej",{"$f":"VLOOKUP(D602,' '!$1:$1048576,3,0)","v":101390},null,"db",4,"Rendelésre!",{"$f":"G602*H602","v":0}]
[null,null,"NAGYTELJ. ROTOROS SZÓRÓFEJ","G995E","HUNTER","G995E szórófej",{"$f":"VLOOKUP(D603,' '!$1:$1048576,3,0)","v":116738},null,"db",4,"Rendelésre!",{"$f":"G603*H603","v":0}]
[null,null,"NAGYTELJ. ROTOROS SZÓRÓFEJ","fúvóka G9*","HUNTER","G990/995 fúvóka készlet",{"$f":"VLOOKUP(D604,' '!$1:$1048576,3,0)","v":4673},null,"db",4,"Rendelésre!",{"$f":"G604*H604","v":0}]
[]
[null,null,"NAGYTELJ. ROTOROS SZÓRÓFEJ","EAGLE 900E","RAIN BIRD","EAGLE900E szórófej, 5.7cm kiemelkedés, fix 360°","Érdeklődjön!",null,"db",4,"Rendelésre!","Érdeklődjön!"]
[null,null,"NAGYTELJ. ROTOROS SZÓRÓFEJ","EAGLE 950E","RAIN BIRD","EAGLE950E szórófej, 5.7cm kiemelkedés, állítható 40-345°","Érdeklődjön!",null,"db",4,"Rendelésre!","Érdeklődjön!"]
[]
[null,null,"NAGYTELJ. ROTOROS SZÓRÓFEJ","213950-XX ","RAIN BIRD","EAGLE fúvóka 18, 20, 22, 24, 26, 28, 30, 32","Érdeklődjön!",null,"db",1,"Rendelésre!","Érdeklődjön!"]
[null,null,"NAGYTELJ. ROTOROS SZÓRÓFEJ","213900-XX ","RAIN BIRD","EAGLE nagyteljesítményű fúvóka: 44, 48, 52, 56, 60, 64 ","Érdeklődjön!",null,"db",1,"Rendelésre!","Érdeklődjön!"]
[]
[null,null,"NAGYTELJ. ROTOROS SZÓRÓFEJ","B99500 ","RAIN BIRD","EAGLE900/950, ARTGR, műfű tető és gallér","Érdeklődjön!",null,"db",1,"Rendelésre!","Érdeklődjön!"]
[]
[null,null,"NAGYTELJ. ROTOROS SZÓRÓFEJ",475075,"RAIN BIRD","Menetátalakító ACME-BSP 5/4\"",{"$f":"VLOOKUP(D614,' '!$1:$1048576,3,0)","v":2355},null,"db",1,"Rendelésre!",{"$f":"G614*H614","v":0}]
[null,null,"NAGYTELJ. ROTOROS SZÓRÓFEJ",475100,"RAIN BIRD","Menetátalakító ACME-BSP 6/4\"",{"$f":"VLOOKUP(D615,' '!$1:$1048576,3,0)","v":2970},null,"db",1,"Rendelésre!",{"$f":"G615*H615","v":0}]
[]
[null,"CSEPEGTETŐ ÉS MIKROÖNTÖZÉS"]
[]
["ÚJ",null,"CSEPEGTETŐ CSŐ",8002410032,null,"Csepegtető cső LPE 6mm/15cm, 2l/h, barna, 30m tekercsben",{"$f":"VLOOKUP(D619,' '!$1:$1048576,3,0)","v":2986},null,"m",30,null,{"$f":"G619*H619","v":0}]
[]
[null,null,"CSEPEGTETŐ CSŐ","IRDL 1630-2",null,"Csepegtető cső LPE 16mm/30cm, 2l/h",{"$f":"VLOOKUP(D621,' '!$1:$1048576,3,0)","v":95},null,"m",100,null,{"$f":"G621*H621","v":0}]
[null,null,"CSEPEGTETŐ CSŐ","IRDL 2030-4",null,"Csepegtető cső LPE 20mm/30cm, 4l/h",{"$f":"VLOOKUP(D622,' '!$1:$1048576,3,0)","v":124},null,"m",100,null,{"$f":"G622*H622","v":0}]
[]
[null,null,"CSEPEGTETŐ CSŐ",9110014,null,"Csepegtető cső, PC, LPE 16mm/30cm, 2l/h nyomáskompenzált",{"$f":"VLOOKUP(D624,' '!$1:$1048576,3,0)","v":139},null,"m",100,"Rendelésre!",{"$f":"G624*H624","v":0}]
[null,null,"CSEPEGTETŐ CSŐ",9110109,null,"Csepegtető cső, PC, LPE 20mm/30cm, 2l/h nyomáskompenzált",{"$f":"VLOOKUP(D625,' '!$1:$1048576,3,0)","v":206},null,"m",100,"Rendelésre!",{"$f":"G625*H625","v":0}]
[]
["ÚJ",null,"CSEPEGTETŐ CSŐ",8002410040,null,"Csepegtető cső, PC, LPE 16mm/30cm, 2l/h, barna, 30m tekercs",{"$f":"VLOOKUP(D627,' '!$1:$1048576,3,0)","v":4597},null,"m",30,null,{"$f":"G627*H627","v":0}]
["ÚJ",null,"CSEPEGTETŐ CSŐ",8002410041,null,"Csepegtető cső, PC, LPE 16mm/30cm, 2l/h, barna, 75m tekercs",{"$f":"VLOOKUP(D628,' '!$1:$1048576,3,0)","v":10827},null,"m",75,null,{"$f":"G628*H628","v":0}]
["ÚJ",null,"CSEPEGTETŐ CSŐ",8002410042,null,"Csepegtető cső, PC, LPE 16mm/30cm, 2l/h, barna, 150m tekercs",{"$f":"VLOOKUP(D629,' '!$1:$1048576,3,0)","v":19897},null,"m",150,null,{"$f":"G629*H629","v":0}]
[]
[null,null,"CSEPEGTETŐ CSŐ","XFD2333100","RAIN BIRD","Csepegtető cső, RainBird PC LPE 16/30",{"$f":"VLOOKUP(D631,' '!$1:$1048576,3,0)","v":15600},null,"m",100,null,{"$f":"G631*H631","v":0}]
[null,null,"CSEPEGTETŐ CSŐ","XFS2333100","RAIN BIRD","Csepegtető cső, RainBird BEÁSHATÓ PC LPE 16/30",{"$f":"VLOOKUP(D632,' '!$1:$1048576,3,0)","v":32037},null,"m",100,null,{"$f":"G632*H632","v":0}]
[]
[null,null,"CSEPEGTETŐ BEKÖTÉS","PCZ10125","HUNTER","PCZ10125 Csepegtető bekötés",{"$f":"VLOOKUP(D634,' '!$1:$1048576,3,0)","v":14007},null,"db",1,"Rendelésre!",{"$f":"G634*H634","v":0}]
[]
["ÚJ",null,"CSEPEGTETŐ BEKÖTÉS","PRF-075 BB","RAIN BIRD","PRF-075 nyomácsökkentő és szűrő, PSI-30 (2.1 bar) 3/4\" KK",{"$f":"VLOOKUP(D636,' '!$1:$1048576,3,0)","v":4824},null,"m",1,null,{"$f":"G636*H636","v":0}]
["ÚJ",null,"CSEPEGTETŐ BEKÖTÉS","PRF-100 BB","RAIN BIRD","PRF-100 nyomácsökkentő és szűrő, PSI-40 (2.8 bar) 1\" KK",{"$f":"VLOOKUP(D637,' '!$1:$1048576,3,0)","v":5420},null,"m",1,null,{"$f":"G637*H637","v":0}]
[]
[null,null,"MIKROÖNTÖZŐ","01400070",null,"Mikroszóró CSŐ, lágy, PE, 4×1,5 mm",{"$f":"VLOOKUP(D639,' '!$1:$1048576,3,0)","v":89},null,"m",500,null,{"$f":"G639*H639","v":0}]
[]
["ÚJ",null,"PÁRÁSÍTÓ","166-25707",null,"LPE bilincs, 10 mm",{"$f":"VLOOKUP(D641,' '!$1:$1048576,3,0)","v":192},null,"db","10",null,{"$f":"G641*H641","v":0}]
[]
[null,null,null,"IDNG020","IRRITEC","Csepegtető gomba, 2l/h",{"$f":"VLOOKUP(D643,' '!$1:$1048576,3,0)","v":90},null,"db",100,null,{"$f":"G643*H643","v":0}]
[null,null,null,"IDNG040","IRRITEC","Csepegtető gomba, 4l/h",{"$f":"VLOOKUP(D644,' '!$1:$1048576,3,0)","v":90},null,"db",100,null,{"$f":"G644*H644","v":0}]
[]
[null,null,null,"08002410065",null,"Csepegtető gomba, 2l/h PC",{"$f":"VLOOKUP(D646,' '!$1:$1048576,3,0)","v":109},null,"db",100,null,{"$f":"G646*H646","v":0}]
[null,null,null,"08002410065",null,"Csepegtető gomba, 4l/h PC",{"$f":"VLOOKUP(D647,' '!$1:$1048576,3,0)","v":109},null,"db",100,null,{"$f":"G647*H647","v":0}]
[null,null,null,8002410063,null,"Csepegtető gomba, 8l/h PC",{"$f":"VLOOKUP(D648,' '!$1:$1048576,3,0)","v":109},null,"db",100,null,{"$f":"G648*H648","v":0}]
[]
[null,null,"MIKROÖNTÖZŐ","XS_90","ANTELCO","Vari-Jet állítható 90° átf. mikroszóró, 0-4 m",{"$f":"VLOOKUP(D650,' '!$1:$1048576,3,0)","v":270},null,"db",10,null,{"$f":"G650*H650","v":0}]
[null,null,"MIKROÖNTÖZŐ","XS_180","ANTELCO","Vari-Jet állítható 180° átf. mikroszóró, 0-4 m",{"$f":"VLOOKUP(D651,' '!$1:$1048576,3,0)","v":270},null,"db",10,null,{"$f":"G651*H651","v":0}]
[null,null,"MIKROÖNTÖZŐ","XS_360","ANTELCO","Vari-Jet állítható 360° átf. mikroszóró, 0-4 m",{"$f":"VLOOKUP(D652,' '!$1:$1048576,3,0)","v":270},null,"db",10,null,{"$f":"G652*H652","v":0}]
[]
[null,null,"MIKROÖNTÖZŐ","695.4132001","ANTELCO","Vari-Jet KOMPLETT, 90° átf. mikroszóró, 0-4 m",{"$f":"VLOOKUP(D654,' '!$1:$1048576,3,0)","v":993},null,"db",10,null,{"$f":"G654*H654","v":0}]
[null,null,"MIKROÖNTÖZŐ","695.4134001","ANTELCO","Vari-Jet KOMPLETT, 180° átf. mikroszóró, 0-4 m",{"$f":"VLOOKUP(D655,' '!$1:$1048576,3,0)","v":993},null,"db",10,null,{"$f":"G655*H655","v":0}]
[null,null,"MIKROÖNTÖZŐ","695.4131001","ANTELCO","Vari-Jet KOMPLETT, 360° átf. mikroszóró, 0-4 m",{"$f":"VLOOKUP(D656,' '!$1:$1048576,3,0)","v":993},null,"db",10,null,{"$f":"G656*H656","v":0}]
[]
[null,null,"MIKROÖNTÖZŐ","VR_360","ANTELCO","Vari-Rotor forgó mikroszóró, 0-4m; állítható átf.",{"$f":"VLOOKUP(D658,' '!$1:$1048576,3,0)","v":339},null,"db",25,"Rendelésre!",{"$f":"G658*H658","v":0}]
[]
[null,null,"MIKROÖNTÖZŐ","M_DRIP","ANTELCO","MidiDrip csepegtető gomba leszúró tüskén, 4 l/h",{"$f":"VLOOKUP(D660,' '!$1:$1048576,3,0)","v":250},null,"db",25,null,{"$f":"G660*H660","v":0}]
[]
[null,null,"MIKROÖNTÖZŐ","BUB_360","ANTELCO","Bubbler állítható tőöntöző leszúrótüskével",{"$f":"VLOOKUP(D662,' '!$1:$1048576,3,0)","v":250},null,"db",25,null,0]
[]
[null,null,"MIKROÖNTÖZŐ","SHR_180","ANTELCO","Shrubbler áll. sugaras tőönt. lesz.tüske, 180°",{"$f":"VLOOKUP(D664,' '!$1:$1048576,3,0)","v":250},null,"db",25,null,0]
[null,null,"MIKROÖNTÖZŐ","SHR_360","ANTELCO","Shrubbler áll. sugaras tőönt. lesz.tüske, 360°",{"$f":"VLOOKUP(D665,' '!$1:$1048576,3,0)","v":250},null,"db",25,null,0]
[]
[null,null,"MIKROÖNTÖZŐ","SPECT_360","ANTELCO","Spectrum állítható tőöntöző leszúrótüskével",{"$f":"VLOOKUP(D667,' '!$1:$1048576,3,0)","v":250},null,"db",25,null,0]
[]
[null,null,"MIKROÖNTÖZŐ","695.4039000","ANTELCO","Vari-Jet Asta pálca 32 cm",{"$f":"VLOOKUP(D669,' '!$1:$1048576,3,0)","v":173},null,"db",100,null,0]
[null,null,"MIKROÖNTÖZŐ","695.4038000+40995","ANTELCO","Vari-Jet Asta toldat 30 cm",{"$f":"VLOOKUP(D670,' '!$1:$1048576,3,0)","v":222},null,"db",100,null,0]
["ÚJ",null,"MIKROÖNTÖZŐ","0800 6410 274",null,"Mikroöntöző PÁLCA, 30 cm, oldalsó csatlakozással",{"$f":"VLOOKUP(D671,' '!$1:$1048576,3,0)","v":395},null,"db",100,null,{"$f":"G671*H671","v":0}]
[]
["ÚJ",null,"MIKROÖNTÖZŐ","0800 6410 204",null,"Mikroöntöző PÁLCA, Hydro-Pop (23.5cm kiem.), 1/2\" KM",{"$f":"VLOOKUP(D673,' '!$1:$1048576,3,0)","v":873},null,"db",25,null,{"$f":"G673*H673","v":0}]
["ÚJ",null,"MIKROÖNTÖZŐ","0800 6410 227",null,"Mikroöntöző PÁLCA, Hydro-Pop védőburkolat",{"$f":"VLOOKUP(D674,' '!$1:$1048576,3,0)","v":95},null,"db",25,null,{"$f":"G674*H674","v":0}]
[]
[null,null,"MIKROÖNTÖZŐ","csap4x4",null,"Csap műanyag 4x4mm",250,null,"db",50,null,0]
[]
[null,null,"MIKROÖNTÖZŐ","05020010",null,"Toldó 4×4 mm",{"$f":"VLOOKUP(D678,' '!$1:$1048576,3,0)","v":24},null,"db",500,null,{"$f":"G678*H678","v":0}]
["ÚJ",null,"MIKROÖNTÖZŐ",8006410183,null,"Könyök 4×4 mm",{"$f":"VLOOKUP(D679,' '!$1:$1048576,3,0)","v":46},null,"db",100,null,0]
[null,null,"MIKROÖNTÖZŐ",8006410289,null,"T elem 4×4×4 mm",{"$f":"VLOOKUP(D680,' '!$1:$1048576,3,0)","v":46},null,"db",100,null,{"$f":"G680*H680","v":0}]
["ÚJ",null,"MIKROÖNTÖZŐ",8006410197,null,"Végdugó 4 mm",{"$f":"VLOOKUP(D681,' '!$1:$1048576,3,0)","v":20},null,"db",100,null,0]
[]
[null,null,null,"II.AFL.160",null,"Végelzáró 16-os csepegtető csőhöz",{"$f":"VLOOKUP(D683,' '!$1:$1048576,3,0)","v":24},null,"db",100,null,0]
[null,null,null,"II.AFL.200",null,"Végelzáró 20-as csepegtető csőhöz",{"$f":"VLOOKUP(D684,' '!$1:$1048576,3,0)","v":33},null,"db",100,null,0]
[]
[null,null,null,30640037,null,"Mikroszóró RÖGZÍTŐ, tüske, 4 mm",{"$f":"VLOOKUP(D686,' '!$1:$1048576,3,0)","v":34},null,"db",100,null,0]
[null,null,null,"A13080-16/20",null,"Csepegtető cső rögzítő leszúrótüske 16/20 mm",{"$f":"VLOOKUP(D687,' '!$1:$1048576,3,0)","v":37},null,"db",50,null,0]
["ÚJ",null,null,"A13080-16/20",null,"Csepegtető cső rögzítő leszúrótüske 16/20 mm FÉM ",{"$f":"VLOOKUP(D688,' '!$1:$1048576,3,0)","v":37},null,"db",100,null,{"$f":"G688*H688","v":0}]
[]
["ÚJ",null,"MIKROÖNTÖZŐ","0800 6410 287",null,"Mikroöntöző LEÁLLÁS, #1, 1/2\" BM, vég",{"$f":"VLOOKUP(D690,' '!$1:$1048576,3,0)","v":373},null,"db",100,null,{"$f":"G690*H690","v":0}]
["ÚJ",null,"MIKROÖNTÖZŐ","0800 6410 285",null,"Mikroöntöző LEÁLLÁS, #2, 1/2\" BM, vég",{"$f":"VLOOKUP(D691,' '!$1:$1048576,3,0)","v":373},null,"db",100,null,{"$f":"G691*H691","v":0}]
[]
["ÚJ",null,"MIKROÖNTÖZŐ","0800 6410 180",null,"Mikroöntöző LEÁLLÁS, PC, Drip Star, #6, 3.8 l/p, 1/2\" BM, vég",{"$f":"VLOOKUP(D693,' '!$1:$1048576,3,0)","v":1369},null,"db",25,null,{"$f":"G693*H693","v":0}]
["ÚJ",null,"MIKROÖNTÖZŐ","0800 6410 181",null,"Mikroöntöző LEÁLLÁS, PC, Drip Star, #6, 7.6 l/p, 1/2\" BM, vég",{"$f":"VLOOKUP(D694,' '!$1:$1048576,3,0)","v":1369},null,"db",25,null,{"$f":"G694*H694","v":0}]
[]
[null,null,"MIKROÖNTÖZŐ","O 61010","ORBIT","Mikroöntöző LEÁLLÁS, DripMaster, #1; 1/2\" KB, átfolyós",{"$f":"VLOOKUP(D696,' '!$1:$1048576,3,0)","v":749},null,"db",10,null,0]
[null,null,"MIKROÖNTÖZŐ","O 61005","ORBIT","Mikroöntöző LEÁLLÁS, DripMaster, #2; 1/2\" KM, vég",{"$f":"VLOOKUP(D697,' '!$1:$1048576,3,0)","v":618},null,"db",10,null,0]
[null,null,"MIKROÖNTÖZŐ","O 61006","ORBIT","Mikroöntöző LEÁLLÁS, DripMaster, #4; 1/2\" BM, állítható",{"$f":"VLOOKUP(D698,' '!$1:$1048576,3,0)","v":2939},null,"db",10,null,0]
[null,null,"MIKROÖNTÖZŐ","O 61003","ORBIT","Mikroöntöző LEÁLLÁS, DripMaster, #4; 1/2\" KB, átfolyós",{"$f":"VLOOKUP(D699,' '!$1:$1048576,3,0)","v":749},null,"db",10,null,0]
[null,null,"MIKROÖNTÖZŐ","O 61004","ORBIT","Mikroöntöző LEÁLLÁS, DripMaster, #4; 3/4\" KM, szűrővel 1/2\" BM, vég",{"$f":"VLOOKUP(D700,' '!$1:$1048576,3,0)","v":1752},null,"db",10,null,0]
[null,null,"MIKROÖNTÖZŐ","O 94400","ORBIT","Mikroöntöző LEÁLLÁS, DripMaster, #8; 1/2\" BM, állítható",{"$f":"VLOOKUP(D701,' '!$1:$1048576,3,0)","v":3511},null,"db",10,null,0]
[]
[null,null,"FAÖNTÖZŐ","RWS-S-BG","RAIN BIRD","RWS-S-BG faöntöző, 25cm",{"$f":"VLOOKUP(D703,' '!$1:$1048576,3,0)","v":4622},null,"db",20,"Rendelésre!",0]
[null,null,"FAÖNTÖZŐ","RWS-M-BG","RAIN BIRD","RWS-M-BG faöntöző, 45cm",{"$f":"VLOOKUP(D704,' '!$1:$1048576,3,0)","v":7744},null,"db",12,"Rendelésre!",0]
[null,null,"FAÖNTÖZŐ","RWS-BGX","RAIN BIRD","RWS-BGX faöntöző, 91cm",{"$f":"VLOOKUP(D705,' '!$1:$1048576,3,0)","v":11125},null,"db",6,"Rendelésre!",0]
[null,null,"FAÖNTÖZŐ","RWS-SOCK","RAIN BIRD","RWS-SOCK szűrőkosár faöntözőhöz (6 db) ",{"$f":"VLOOKUP(D706,' '!$1:$1048576,3,0)","v":11720},null,"db",8,"Rendelésre!",0]
[]
[null,null,"FAÖNTÖZŐ","RZWS-10-25","HUNTER","RZWS-10-25 faöntöző, 25 cm, 1 l/perc",{"$f":"VLOOKUP(D708,' '!$1:$1048576,3,0)","v":4360},null,"db",10,"Rendelésre!",0]
[null,null,"FAÖNTÖZŐ","RZWS-18-50-CV","HUNTER","RZWS-18-50-CV faöntöző, 45cm, 2 l/perc, visszafolyásgátlóval",{"$f":"VLOOKUP(D709,' '!$1:$1048576,3,0)","v":9640},null,"db",10,"Rendelésre!",0]
[]
[null,"NYOMÁSCSÖKKENTŐK"]
[]
[null,null,"NYOMÁSCSÖKKENTŐ","PSI-M15","RAIN BIRD","Nyomáscsökkentő 1.05 bar, M-15, BB 3/4\"",{"$f":"VLOOKUP(D713,' '!$1:$1048576,3,0)","v":5150},null,"db",20,null,{"$f":"G713*H713","v":0}]
[null,null,"NYOMÁSCSÖKKENTŐ","PSI-M20","RAIN BIRD","Nyomáscsökkentő 1.40 bar, M-20, BB 3/4\"",{"$f":"VLOOKUP(D714,' '!$1:$1048576,3,0)","v":5150},null,"db",20,null,0]
[null,null,"NYOMÁSCSÖKKENTŐ","PSI-M25","RAIN BIRD","Nyomáscsökkentő 1.75 bar, M-25, BB 3/4\"",{"$f":"VLOOKUP(D715,' '!$1:$1048576,3,0)","v":5150},null,"db",20,null,0]
[null,null,"NYOMÁSCSÖKKENTŐ","PSI-M30","RAIN BIRD","Nyomáscsökkentő 2.10 bar, M-30, BB 3/4\"",{"$f":"VLOOKUP(D716,' '!$1:$1048576,3,0)","v":5150},null,"db",20,null,0]
[null,null,"NYOMÁSCSÖKKENTŐ","PSI-M40","RAIN BIRD","Nyomáscsökkentő 2.80 bar, M-40, BB 3/4\"",{"$f":"VLOOKUP(D717,' '!$1:$1048576,3,0)","v":5150},null,"db",20,null,0]
[null,null,"NYOMÁSCSÖKKENTŐ","PSI-M50","RAIN BIRD","Nyomáscsökkentő 3.50 bar, M-50, BB 3/4\"",{"$f":"VLOOKUP(D718,' '!$1:$1048576,3,0)","v":5150},null,"db",20,null,0]
[]
[null,"PE CSÖVEK"]
[]
[null,null,"PE CSŐ",1030023,null,"LPE cső, 16mm/3,2 bar, öntözőrendszerhez",{"$f":"VLOOKUP(D722,' '!$1:$1048576,3,0)","v":57},null,"m",100,null,{"$f":"G722*H722","v":0}]
[null,null,"PE CSŐ",1030073,null,"LPE cső, 20mm/3,2 bar, öntözőrendszerhez",{"$f":"VLOOKUP(D723,' '!$1:$1048576,3,0)","v":86},null,"m",100,null,{"$f":"G723*H723","v":0}]
[]
[null,null,"PE CSŐ","KPE 25P6",null,"KPE cső, 25mm/6 bar, öntözőrendszerhez",{"$f":"VLOOKUP(D725,' '!$1:$1048576,3,0)","v":103},null,null,100,null,{"$f":"G725*H725","v":0}]
[null,null,"PE CSŐ","KPE 32P6",null,"KPE cső, 32mm/6 bar, öntözőrendszerhez",{"$f":"VLOOKUP(D726,' '!$1:$1048576,3,0)","v":156},null,null,100,null,{"$f":"G726*H726","v":0}]
[null,null,"PE CSŐ","KPE 40P6",null,"KPE cső, 40mm/6 bar, öntözőrendszerhez",{"$f":"VLOOKUP(D727,' '!$1:$1048576,3,0)","v":239},null,null,100,null,{"$f":"G727*H727","v":0}]
[null,null,"PE CSŐ","KPE 50P6",null,"KPE cső, 50mm/6 bar, öntözőrendszerhez",{"$f":"VLOOKUP(D728,' '!$1:$1048576,3,0)","v":485},null,null,100,null,{"$f":"G728*H728","v":0}]
[]
[null,null,"PE CSŐ","KPE 25P10",null,"KPE cső, 25mm/10 bar, öntözőrendszerhez",{"$f":"VLOOKUP(D730,' '!$1:$1048576,3,0)","v":133},null,"m",100,null,{"$f":"G730*H730","v":0}]
[null,null,"PE CSŐ","KPE 32P10",null,"KPE cső, 32mm/10 bar, öntözőrendszerhez",{"$f":"VLOOKUP(D731,' '!$1:$1048576,3,0)","v":219},null,"m",100,null,{"$f":"G731*H731","v":0}]
[null,null,"PE CSŐ","KPE 40P10",null,"KPE cső, 40mm/10 bar, öntözőrendszerhez",{"$f":"VLOOKUP(D732,' '!$1:$1048576,3,0)","v":333},null,"m",100,"Rendelésre!",{"$f":"G732*H732","v":0}]
[null,null,"PE CSŐ","KPE 50P10",null,"KPE cső, 50mm/10 bar, öntözőrendszerhez",{"$f":"VLOOKUP(D733,' '!$1:$1048576,3,0)","v":512},null,"m",100,"Rendelésre!",{"$f":"G733*H733","v":0}]
[null,null,"PE CSŐ","KPE 63P10",null,"KPE cső, 63mm/10 bar, öntözőrendszerhez",{"$f":"VLOOKUP(D734,' '!$1:$1048576,3,0)","v":806},null,"m",100,"Rendelésre!",{"$f":"G734*H734","v":0}]
[]
[null,"KPE IDOMOK"]
[]
["ÚJ",null,"KPE IDOM","F38363",null,"KPE bilincs, gumis, 23-26 mm",{"$f":"VLOOKUP(D738,' '!$1:$1048576,3,0)","v":250},null,"m",1,null,{"$f":"G738*H738","v":0}]
["ÚJ",null,"KPE IDOM","F38365",null,"KPE bilincs, gumis, 32-35 mm",{"$f":"VLOOKUP(D739,' '!$1:$1048576,3,0)","v":266},null,"m",1,null,{"$f":"G739*H739","v":0}]
[]
[null,null,"KPE IDOM",7962651192,null,"Egyenes toldó 25 x 25",{"$f":"VLOOKUP(D741,' '!$1:$1048576,3,0)","v":430},null,"db","10/150",null,{"$f":"G741*H741","v":0}]
[null,null,"KPE IDOM",7962651193,null,"Egyenes toldó 32 x 32",{"$f":"VLOOKUP(D742,' '!$1:$1048576,3,0)","v":541},null,"db","10/100",null,{"$f":"G742*H742","v":0}]
[null,null,"KPE IDOM",7962651194,null,"Egyenes toldó 40 x 40",{"$f":"VLOOKUP(D743,' '!$1:$1048576,3,0)","v":945},null,"db","10/50",null,{"$f":"G743*H743","v":0}]
[null,null,"KPE IDOM","E105 5050",null,"Egyenes toldó 50 x 50",{"$f":"VLOOKUP(D744,' '!$1:$1048576,3,0)","v":1182},null,"db","8/32","Rendelésre!",{"$f":"G744*H744","v":0}]
[null,null,"KPE IDOM","E105 6363",null,"Egyenes toldó 63 x 63",{"$f":"VLOOKUP(D745,' '!$1:$1048576,3,0)","v":1631},null,"db",20,"Rendelésre!",{"$f":"G745*H745","v":0}]
[]
[null,null,"KPE IDOM",7962651168,null,"Szűkítő toldó 32 x 25",{"$f":"VLOOKUP(D747,' '!$1:$1048576,3,0)","v":520},null,"db","10/120",null,{"$f":"G747*H747","v":0}]
[null,null,"KPE IDOM",7962651171,null,"Szűkítő toldó 40 x 32",{"$f":"VLOOKUP(D748,' '!$1:$1048576,3,0)","v":921},null,"db","15/60",null,{"$f":"G748*H748","v":0}]
[null,null,"KPE IDOM","E 110 5040",null,"Szűkítő toldó 50 x 40",{"$f":"VLOOKUP(D749,' '!$1:$1048576,3,0)","v":985},null,"db","8/32","Rendelésre!",{"$f":"G749*H749","v":0}]
[null,null,"KPE IDOM","E 110 6332",null,"Szűkítő toldó 63 x 32",{"$f":"VLOOKUP(D750,' '!$1:$1048576,3,0)","v":1498},null,"db","6/32","Rendelésre!",{"$f":"G750*H750","v":0}]
[null,null,"KPE IDOM","02060080",null,"Szűkítő toldó 63 x 50",{"$f":"VLOOKUP(D751,' '!$1:$1048576,3,0)","v":1543},null,"db","6/24","Rendelésre!",{"$f":"G751*H751","v":0}]
[]
[null,null,"KPE IDOM",7962651022,null,"BM egyenes bekötő 25 x 1/2\"",{"$f":"VLOOKUP(D753,' '!$1:$1048576,3,0)","v":283},null,"db","10/250",null,{"$f":"G753*H753","v":0}]
[null,null,"KPE IDOM",7962651025,null,"BM egyenes bekötő 25 x 3/4\"",{"$f":"VLOOKUP(D754,' '!$1:$1048576,3,0)","v":283},null,"db","10/250",null,0]
[null,null,"KPE IDOM",7962651028,null,"BM egyenes bekötő 25 x 1\"",{"$f":"VLOOKUP(D755,' '!$1:$1048576,3,0)","v":283},null,"db","10/250",null,0]
[null,null,"KPE IDOM","05025060",null,"BM egyenes bekötő 25 x 1\" hollanderes",{"$f":"VLOOKUP(D756,' '!$1:$1048576,3,0)","v":480},null,"db","10/100"]
[null,null,"KPE IDOM",7962651030,null,"BM egyenes bekötő 32 x 3/4\"",{"$f":"VLOOKUP(D757,' '!$1:$1048576,3,0)","v":369},null,"db","10/160",null,0]
[null,null,"KPE IDOM",7962651033,null,"BM egyenes bekötő 32 x 1\"",{"$f":"VLOOKUP(D758,' '!$1:$1048576,3,0)","v":369},null,"db","10/160",null,0]
[null,null,"KPE IDOM","05025080",null,"BM egyenes bekötő 32 x 1\"  hollanderes",{"$f":"VLOOKUP(D759,' '!$1:$1048576,3,0)","v":523},null,"db","10/80"]
[null,null,"KPE IDOM",7962651037,null,"BM egyenes bekötő 40 x 1\"",{"$f":"VLOOKUP(D760,' '!$1:$1048576,3,0)","v":638},null,"db","20/100",null,0]
[null,null,"KPE IDOM","E 100 4004",null,"BM egyenes bekötő 40 x 5/4\"",{"$f":"VLOOKUP(D761,' '!$1:$1048576,3,0)","v":561},null,"db","20/100",null,0]
[null,null,"KPE IDOM","E 100 4005",null,"BM egyenes bekötő 40 x 6/4\"",{"$f":"VLOOKUP(D762,' '!$1:$1048576,3,0)","v":561},null,"db","20/80",null,0]
[null,null,"KPE IDOM","E 100 5004",null,"BM egyenes bekötő 50 x 5/4\"",{"$f":"VLOOKUP(D763,' '!$1:$1048576,3,0)","v":832},null,"db",15,"Rendelésre!",0]
[null,null,"KPE IDOM",2020110,null,"BM egyenes bekötő 50 x 6/4\"",{"$f":"VLOOKUP(D764,' '!$1:$1048576,3,0)","v":738},null,"db","10/50","Rendelésre!",0]
[null,null,"KPE IDOM","E 100 6305",null,"BM egyenes bekötő 63 x 6/4\"",{"$f":"VLOOKUP(D765,' '!$1:$1048576,3,0)","v":1047},null,"db","8/32","Rendelésre!",0]
[null,null,"KPE IDOM","E 100 6306",null,"BM egyenes bekötő 63 x 2\"",{"$f":"VLOOKUP(D766,' '!$1:$1048576,3,0)","v":1047},null,"db","8/32","Rendelésre!",0]
[]
[null,null,"KPE IDOM",7962651056,null,"BM könyök 25 x 1/2\"",{"$f":"VLOOKUP(D768,' '!$1:$1048576,3,0)","v":369},null,"db","10/200",null,{"$f":"G768*H768","v":0}]
[null,null,"KPE IDOM",7962651059,null,"BM könyök 25 x 3/4\"",{"$f":"VLOOKUP(D769,' '!$1:$1048576,3,0)","v":369},null,"db","10/200",null,0]
[null,null,"KPE IDOM",7962030360,null,"BM könyök 25 x 3/4\" falra rögzíthető",{"$f":"VLOOKUP(D770,' '!$1:$1048576,3,0)","v":213},null,"db","10/150",null,0]
[null,null,"KPE IDOM",7962651061,null,"BM könyök 25 x 1\"",{"$f":"VLOOKUP(D771,' '!$1:$1048576,3,0)","v":369},null,"db","10/200",null,0]
[null,null,"KPE IDOM",7962651065,null,"BM könyök 32 x 3/4\"",{"$f":"VLOOKUP(D772,' '!$1:$1048576,3,0)","v":442},null,"db","10/120",null,0]
[null,null,"KPE IDOM",7962651068,null,"BM könyök 32 x 1\"",{"$f":"VLOOKUP(D773,' '!$1:$1048576,3,0)","v":442},null,"db","10/120",null,0]
[null,null,"KPE IDOM","E125 4003",null,"BM könyök 40 x 1\"",{"$f":"VLOOKUP(D774,' '!$1:$1048576,3,0)","v":650},null,"db","16/64",null,0]
[null,null,"KPE IDOM","E125 4004",null,"BM könyök 40 x 5/4\"",{"$f":"VLOOKUP(D775,' '!$1:$1048576,3,0)","v":797},null,"db","16/64",null,0]
[null,null,"KPE IDOM","E125 4005",null,"BM könyök 50 x 6/4\"",{"$f":"VLOOKUP(D776,' '!$1:$1048576,3,0)","v":1065},null,"db","10/40","Rendelésre!",0]
[null,null,"KPE IDOM","E125 6306",null,"BM könyök 63 x 2\"",{"$f":"VLOOKUP(D777,' '!$1:$1048576,3,0)","v":1439},null,"db","6/24","Rendelésre!",0]
[]
[null,null,"KPE IDOM",7962651094,null,"BM T idom 25 x 3/4\" x 25",{"$f":"VLOOKUP(D779,' '!$1:$1048576,3,0)","v":546},null,"db","10/100",null,{"$f":"G779*H779","v":0}]
[null,null,"KPE IDOM",7962651096,null,"BM T idom 25 x 1\" x 25",{"$f":"VLOOKUP(D780,' '!$1:$1048576,3,0)","v":682},null,"db","10/100",null,0]
[null,null,"KPE IDOM",7962651098,null,"BM T idom 32 x 3/4\" x 32",{"$f":"VLOOKUP(D781,' '!$1:$1048576,3,0)","v":662},null,"db","8/64",null,0]
[null,null,"KPE IDOM",7962651100,null,"BM T idom 32 x 1\" x 32",{"$f":"VLOOKUP(D782,' '!$1:$1048576,3,0)","v":662},null,"db","8/64",null,0]
[null,null,"KPE IDOM","E 85 400340",null,"BM T idom 40 x1\" x 40",{"$f":"VLOOKUP(D783,' '!$1:$1048576,3,0)","v":1136},null,"db","8/32",null,0]
[null,null,"KPE IDOM","E 85 400440",null,"BM T idom 40 x 5/4\" x 40",{"$f":"VLOOKUP(D784,' '!$1:$1048576,3,0)","v":1136},null,"db","8/32",null,0]
[null,null,"KPE IDOM",2160120,null,"BM T idom 50 x 6/4\" x 50",{"$f":"VLOOKUP(D785,' '!$1:$1048576,3,0)","v":1609},null,"db","6/24","Rendelésre!",0]
[null,null,"KPE IDOM","E 85 630763",null,"BM T idom 63 x 2\" x 63",{"$f":"VLOOKUP(D786,' '!$1:$1048576,3,0)","v":3129},null,"db",15,"Rendelésre!",0]
[]
[null,null,"KPE IDOM","E 95 2501",null,"KM egyenes bekötő 25 x 1/2\"",{"$f":"VLOOKUP(D788,' '!$1:$1048576,3,0)","v":291},null,"db","10/250",null,0]
[null,null,"KPE IDOM",7962651122,null,"KM egyenes bekötő 25 x 3/4\"",{"$f":"VLOOKUP(D789,' '!$1:$1048576,3,0)","v":233},null,"db","10/250",null,0]
[null,null,"KPE IDOM",7962651124,null,"KM egyenes bekötő 25 x 1\"",{"$f":"VLOOKUP(D790,' '!$1:$1048576,3,0)","v":233},null,"db","10/250",null,0]
[null,null,"KPE IDOM",7962651127,null,"KM egyenes bekötő 32 x 3/4\"",{"$f":"VLOOKUP(D791,' '!$1:$1048576,3,0)","v":307},null,"db","10/160",null,0]
[null,null,"KPE IDOM",7962651128,null,"KM egyenes bekötő 32 x 1\"",{"$f":"VLOOKUP(D792,' '!$1:$1048576,3,0)","v":307},null,"db","10/160",null,0]
[null,null,"KPE IDOM",7962651130,null,"KM egyenes bekötő 32 x 5/4\"",{"$f":"VLOOKUP(D793,' '!$1:$1048576,3,0)","v":307},null,"db","10/160",null,0]
[null,null,"KPE IDOM",7962651132,null,"KM egyenes bekötő 40 x 1\"",{"$f":"VLOOKUP(D794,' '!$1:$1048576,3,0)","v":591},null,"db","20/100",null,0]
[null,null,"KPE IDOM","E 95 4004",null,"KM egyenes bekötő 40 x 5/4\"",{"$f":"VLOOKUP(D795,' '!$1:$1048576,3,0)","v":540},null,"db","20/100",null,0]
[null,null,"KPE IDOM","E 95 4005",null,"KM egyenes bekötő 40 x 6/4\"",{"$f":"VLOOKUP(D796,' '!$1:$1048576,3,0)","v":540},null,"db","20/100",null,0]
[null,null,"KPE IDOM","E 95 5004",null,"KM egyenes bekötő 50 x 5/4\"",{"$f":"VLOOKUP(D797,' '!$1:$1048576,3,0)","v":706},null,"db","10/50","Rendelésre!",0]
[null,null,"KPE IDOM","E 95 5005",null,"KM egyenes bekötő 50 x 6/4\"",{"$f":"VLOOKUP(D798,' '!$1:$1048576,3,0)","v":706},null,"db","10/50","Rendelésre!",0]
[null,null,"KPE IDOM","E 95 5006",null,"KM egyenes bekötő 50 x 2\"",{"$f":"VLOOKUP(D799,' '!$1:$1048576,3,0)","v":706},null,"db","10/50","Rendelésre!",0]
[null,null,"KPE IDOM","02010160",null,"KM egyenes bekötő 63 x 2\"",{"$f":"VLOOKUP(D800,' '!$1:$1048576,3,0)","v":1001},null,"db","8/32","Rendelésre!",0]
[]
[null,null,"KPE IDOM",7962651142,null,"KM könyök 25 x 1/2\"",{"$f":"VLOOKUP(D802,' '!$1:$1048576,3,0)","v":319},null,"db","10/200",null,{"$f":"G802*H802","v":0}]
[null,null,"KPE IDOM",7962651143,null,"KM könyök 25 x 3/4\"",{"$f":"VLOOKUP(D803,' '!$1:$1048576,3,0)","v":319},null,"db","10/200",null,0]
[null,null,"KPE IDOM",7962651144,null,"KM könyök 25 x 1\"",{"$f":"VLOOKUP(D804,' '!$1:$1048576,3,0)","v":319},null,"db","10/200",null,0]
[null,null,"KPE IDOM",7962651145,null,"KM könyök 32 x 3/4\"",{"$f":"VLOOKUP(D805,' '!$1:$1048576,3,0)","v":393},null,"db","10/120",null,0]
[null,null,"KPE IDOM",7962651146,null,"KM könyök 32 x 1\"",{"$f":"VLOOKUP(D806,' '!$1:$1048576,3,0)","v":393},null,"db","10/120",null,0]
[null,null,"KPE IDOM","E130 4004",null,"KM könyök 40 x 5/4\"",{"$f":"VLOOKUP(D807,' '!$1:$1048576,3,0)","v":578},null,"db","16/64",null,0]
[null,null,"KPE IDOM","E130 5005",null,"KM könyök 50 x 6/4\"",{"$f":"VLOOKUP(D808,' '!$1:$1048576,3,0)","v":786},null,"db","10/40","Rendelésre!",0]
[null,null,"KPE IDOM","E130 6307",null,"KM könyök 63 x 2\"",{"$f":"VLOOKUP(D809,' '!$1:$1048576,3,0)","v":1089},null,"db","6/24","Rendelésre!",0]
[]
[null,null,"KPE IDOM",7962651157,null,"KM T idom 25 x 3/4\" x 25",{"$f":"VLOOKUP(D811,' '!$1:$1048576,3,0)","v":614},null,"db","10/100",null,0]
[null,null,"KPE IDOM","PAKMT25125",null,"KM T idom 25 x 1\" x 25",{"$f":"VLOOKUP(D812,' '!$1:$1048576,3,0)","v":614},null,"db","10/100",null,0]
[null,null,"KPE IDOM","E 90 320332",null,"KM T idom 32 x 1\" x 32",{"$f":"VLOOKUP(D813,' '!$1:$1048576,3,0)","v":788},null,"db","10/70",null,0]
[null,null,"KPE IDOM","E 90 400340",null,"KM T idom 40 x 1\" x 40",{"$f":"VLOOKUP(D814,' '!$1:$1048576,3,0)","v":1094},null,"db","8/32",null,0]
[null,null,"KPE IDOM","E 90 400440",null,"KM T idom 40 x 5/4\" x 40",{"$f":"VLOOKUP(D815,' '!$1:$1048576,3,0)","v":1100},null,"db","8/32",null,0]
[null,null,"KPE IDOM","E 90 500550",null,"KM T idom 50 x6/4\" x 50",{"$f":"VLOOKUP(D816,' '!$1:$1048576,3,0)","v":1540},null,"db","6/24","Rendelésre!",0]
[null,null,"KPE IDOM","E 90 630663",null,"KM T idom 63 x 2\" x 63",{"$f":"VLOOKUP(D817,' '!$1:$1048576,3,0)","v":2985},null,"db",15,"Rendelésre!",0]
[]
[null,null,"KPE IDOM",7962650999,null,"Könyök 25 x 25",{"$f":"VLOOKUP(D819,' '!$1:$1048576,3,0)","v":442},null,"db","10/150",null,{"$f":"G819*H819","v":0}]
[null,null,"KPE IDOM",7962651000,null,"Könyök 32 x 32",{"$f":"VLOOKUP(D820,' '!$1:$1048576,3,0)","v":577},null,"db","10/80",null,{"$f":"G820*H820","v":0}]
[null,null,"KPE IDOM",7962651001,null,"Könyök 40 x 40",{"$f":"VLOOKUP(D821,' '!$1:$1048576,3,0)","v":1040},null,"db","10/50",null,{"$f":"G821*H821","v":0}]
[null,null,"KPE IDOM","E120 5050",null,"Könyök 50 x 50",{"$f":"VLOOKUP(D822,' '!$1:$1048576,3,0)","v":1270},null,"db","8/32","Rendelésre!",{"$f":"G822*H822","v":0}]
[null,null,"KPE IDOM","E120 6363",null,"Könyök 63 x 63",{"$f":"VLOOKUP(D823,' '!$1:$1048576,3,0)","v":1543},null,"db","5/15","Rendelésre!",{"$f":"G823*H823","v":0}]
[]
[null,null,"KPE IDOM",7962651011,null,"T idom 25 x 25 x 25",724,null,"db","10/100",null,{"$f":"G825*H825","v":0}]
[null,null,"KPE IDOM",7962651012,null,"T idom 32 x 32 x 32",{"$f":"VLOOKUP(D826,' '!$1:$1048576,3,0)","v":823},null,"db","10/50",null,{"$f":"G826*H826","v":0}]
[null,null,"KPE IDOM",7962651013,null,"T idom 40 x 40 x 40",{"$f":"VLOOKUP(D827,' '!$1:$1048576,3,0)","v":1418},null,"db","8/32",null,{"$f":"G827*H827","v":0}]
[null,null,"KPE IDOM","E 80 505050",null,"T idom 50 x 50 x 50",{"$f":"VLOOKUP(D828,' '!$1:$1048576,3,0)","v":1722},null,"db","5/20","Rendelésre!",{"$f":"G828*H828","v":0}]
[null,null,"KPE IDOM","E 80 636363",null,"T idom 63 x 63 x 63",{"$f":"VLOOKUP(D829,' '!$1:$1048576,3,0)","v":2449},null,"db",12,"Rendelésre!",{"$f":"G829*H829","v":0}]
[]
[null,null,"KPE IDOM",7962651182,null,"T idom szűkitő 32 x 25 x 32",{"$f":"VLOOKUP(D831,' '!$1:$1048576,3,0)","v":1018},null,"db","10/70",null,{"$f":"G831*H831","v":0}]
[null,null,"KPE IDOM",7962651184,null,"T idom szűkitő 40 x 32 x 40",{"$f":"VLOOKUP(D832,' '!$1:$1048576,3,0)","v":1418},null,"db","8/32",null,0]
[]
[null,null,"KPE IDOM",7962651005,null,"Végdugó 25",{"$f":"VLOOKUP(D834,' '!$1:$1048576,3,0)","v":283},null,"db","10/250",null,0]
[null,null,"KPE IDOM",7962651006,null,"Végdugó 32",{"$f":"VLOOKUP(D835,' '!$1:$1048576,3,0)","v":344},null,"db","10/160",null,0]
[null,null,"KPE IDOM",7962651007,null,"Végdugó 40",{"$f":"VLOOKUP(D836,' '!$1:$1048576,3,0)","v":567},null,"db","20/100",null,0]
[null,null,"KPE IDOM","E115 50",null,"Végdugó 50",{"$f":"VLOOKUP(D837,' '!$1:$1048576,3,0)","v":786},null,"db","10/50","Rendelésre!",0]
[null,null,"KPE IDOM","E115 63",null,"Végdugó 63",{"$f":"VLOOKUP(D838,' '!$1:$1048576,3,0)","v":1067},null,"db","8/32","Rendelésre!",0]
[]
[null,null,"KPE IDOM","I10325B",null,"Béklyó (megcsapoló híd) 10BAR 25 x 1/2\"",{"$f":"VLOOKUP(D840,' '!$1:$1048576,3,0)","v":290},null,"db","130",null,0]
[null,null,"KPE IDOM","I10325",null,"Béklyó (megcsapoló híd) 10BAR 25 x 3/4\"",{"$f":"VLOOKUP(D841,' '!$1:$1048576,3,0)","v":290},null,"db","130",null,0]
[null,null,"KPE IDOM","I10332B",null,"Béklyó (megcsapoló híd) 10BAR 32 x 1/2\"",320,null,"db","90",null,0]
[null,null,"KPE IDOM","I10332C",null,"Béklyó (megcsapoló híd) 10BAR 32 x 3/4\"",320,null,"db","90",null,0]
[null,null,"KPE IDOM","E140 4001",null,"Béklyó (megcsapoló híd) 40 x 1/2\"",{"$f":"VLOOKUP(D844,' '!$1:$1048576,3,0)","v":254},null,"db","1","Rendelésre!",0]
[null,null,"KPE IDOM","E140 4002",null,"Béklyó (megcsapoló híd) 40 x 3/4\"",{"$f":"VLOOKUP(D845,' '!$1:$1048576,3,0)","v":280},null,"db","1",null,0]
[null,null,"KPE IDOM","E140 4003",null,"Béklyó (megcsapoló híd) 40 x 1\"",{"$f":"VLOOKUP(D846,' '!$1:$1048576,3,0)","v":282},null,"db","1",null,0]
[null,null,"KPE IDOM","E140 5001",null,"Béklyó (megcsapoló híd) 50 x 1/2\"",{"$f":"VLOOKUP(D847,' '!$1:$1048576,3,0)","v":368},null,"db","1","Rendelésre!",0]
[null,null,"KPE IDOM","E140 5002",null,"Béklyó (megcsapoló híd) 50 x 3/4\"",{"$f":"VLOOKUP(D848,' '!$1:$1048576,3,0)","v":369},null,"db","1","Rendelésre!",0]
[null,null,"KPE IDOM","E140 5003",null,"Béklyó (megcsapoló híd) 50 x 1\"",{"$f":"VLOOKUP(D849,' '!$1:$1048576,3,0)","v":365},null,"db","1","Rendelésre!",0]
[null,null,"KPE IDOM","B501/12",null,"Béklyó (megcsapoló híd) 50 x 5/4\"",{"$f":"VLOOKUP(D850,' '!$1:$1048576,3,0)","v":367},null,"db","1","Rendelésre!",0]
[null,null,"KPE IDOM","E140 6301",null,"Béklyó (megcsapoló híd) 63 x 1/2\"",{"$f":"VLOOKUP(D851,' '!$1:$1048576,3,0)","v":442},null,"db","1","Rendelésre!",0]
[null,null,"KPE IDOM","E140 6302",null,"Béklyó (megcsapoló híd) 63 x 3/4\"",{"$f":"VLOOKUP(D852,' '!$1:$1048576,3,0)","v":489},null,"db","1","Rendelésre!",0]
[null,null,"KPE IDOM","E140 6303",null,"Béklyó (megcsapoló híd) 63 x 1\"",{"$f":"VLOOKUP(D853,' '!$1:$1048576,3,0)","v":496},null,"db","1","Rendelésre!",0]
[null,null,"KPE IDOM","E140 6305",null,"Béklyó (megcsapoló híd) 63 x 6/4\"",{"$f":"VLOOKUP(D854,' '!$1:$1048576,3,0)","v":470},null,"db","1","Rendelésre!",0]
[null,null,"KPE IDOM","B75x1",null,"Béklyó (megcsapoló híd) 75 x 1\"",{"$f":"VLOOKUP(D855,' '!$1:$1048576,3,0)","v":601},null,"db","1","Rendelésre!",0]
[null,null,"KPE IDOM","E140 9002",null,"Béklyó (megcsapoló híd) 90 x 3/4\"",{"$f":"VLOOKUP(D856,' '!$1:$1048576,3,0)","v":711},null,"db","1","Rendelésre!",0]
[null,null,"KPE IDOM","E 140 9002",null,"Béklyó (megcsapoló híd) 90 x 2\"",{"$f":"VLOOKUP(D857,' '!$1:$1048576,3,0)","v":826},null,"db","1","Rendelésre!",0]
[]
[null,"BORDÁS LPE IDOMOK"]
[]
[null,null,"BORDÁS LPE IDOM","IP.604.1616",null,"Toldó 16 x 16",{"$f":"VLOOKUP(D861,' '!$1:$1048576,3,0)","v":27},null,"db",100,null,{"$f":"G861*H861","v":0}]
[null,null,"BORDÁS LPE IDOM","IP.603.2016",null,"Toldó 20 x 16",{"$f":"VLOOKUP(D862,' '!$1:$1048576,3,0)","v":34},null,"db",100,null,{"$f":"G862*H862","v":0}]
[null,null,"BORDÁS LPE IDOM","IP.604.2020",null,"Toldó 20 x 20",{"$f":"VLOOKUP(D863,' '!$1:$1048576,3,0)","v":36},null,"db",100,null,{"$f":"G863*H863","v":0}]
[]
[null,null,"BORDÁS LPE IDOM","IP.602.1601",null,"KM egyenes csatlakozó 16 x 1/2\"",{"$f":"VLOOKUP(D865,' '!$1:$1048576,3,0)","v":36},null,"db",100,null,{"$f":"G865*H865","v":0}]
[null,null,"BORDÁS LPE IDOM","IP.602.1602",null,"KM egyenes csatlakozó 16 x 3/4\"",{"$f":"VLOOKUP(D866,' '!$1:$1048576,3,0)","v":50},null,"db",100,null,{"$f":"G866*H866","v":0}]
[null,null,"BORDÁS LPE IDOM","IP.602.2001",null,"KM egyenes csatlakozó 20 x 1/2\"",{"$f":"VLOOKUP(D867,' '!$1:$1048576,3,0)","v":50},null,"db",100,null,{"$f":"G867*H867","v":0}]
[null,null,"BORDÁS LPE IDOM","IP.602.2002",null,"KM egyenes csatlakozó 20 x 3/4\"",{"$f":"VLOOKUP(D868,' '!$1:$1048576,3,0)","v":57},null,"db",100,null,{"$f":"G868*H868","v":0}]
[]
[null,null,"BORDÁS LPE IDOM","IP.616.160416",null,"T elem 16 x 04 x 16",{"$f":"VLOOKUP(D870,' '!$1:$1048576,3,0)","v":62},null,"db",100,null,{"$f":"G870*H870","v":0}]
[null,null,"BORDÁS LPE IDOM","IP.606.161616",null,"T elem 16 x 16 x 16",{"$f":"VLOOKUP(D871,' '!$1:$1048576,3,0)","v":29},null,"db",100,null,{"$f":"G871*H871","v":0}]
[null,null,"BORDÁS LPE IDOM","IP.606.202020",null,"T elem 20 x 20 x 20",{"$f":"VLOOKUP(D872,' '!$1:$1048576,3,0)","v":41},null,"db",100,null,{"$f":"G872*H872","v":0}]
[null,null,"BORDÁS LPE IDOM","IP.616.162016",null,"T elem bővített 16 x 20 x 16",{"$f":"VLOOKUP(D873,' '!$1:$1048576,3,0)","v":86},null,"db",100,null,{"$f":"G873*H873","v":0}]
[null,null,"BORDÁS LPE IDOM","IP.616.201620",null,"T elem szűkített 20 x 16 x 20",{"$f":"VLOOKUP(D874,' '!$1:$1048576,3,0)","v":55},null,"db",100,null,{"$f":"G874*H874","v":0}]
[]
[null,null,"BORDÁS LPE IDOM","IP.608.160116",null,"KM T elem 16 x 1/2\" x 16",{"$f":"VLOOKUP(D876,' '!$1:$1048576,3,0)","v":40},null,"db",100,null,{"$f":"G876*H876","v":0}]
[null,null,"BORDÁS LPE IDOM","IP.608.160216",null,"KM T elem 16 x 3/4 x 16",{"$f":"VLOOKUP(D877,' '!$1:$1048576,3,0)","v":52},null,"db",100,null,{"$f":"G877*H877","v":0}]
[null,null,"BORDÁS LPE IDOM","IP.608.200120",null,"KM T elem 20 x 1/2\" x 20",{"$f":"VLOOKUP(D878,' '!$1:$1048576,3,0)","v":60},null,"db",100,null,{"$f":"G878*H878","v":0}]
[null,null,"BORDÁS LPE IDOM","IP.608.200220",null,"KM T elem 20 x 3/4\" x 20",{"$f":"VLOOKUP(D879,' '!$1:$1048576,3,0)","v":79},null,"db",100,null,{"$f":"G879*H879","v":0}]
[]
[null,null,"BORDÁS LPE IDOM","IP.640.1616",null,"Könyök 16 x 16",{"$f":"VLOOKUP(D881,' '!$1:$1048576,3,0)","v":38},null,"db",100,null,{"$f":"G881*H881","v":0}]
[null,null,"BORDÁS LPE IDOM","IP.640.2020",null,"Könyök 20 x 20",{"$f":"VLOOKUP(D882,' '!$1:$1048576,3,0)","v":42},null,"db",100,null,{"$f":"G882*H882","v":0}]
[]
[null,null,"BORDÁS LPE IDOM","IP.641.1601",null,"KM könyök 16 x 1/2\"",{"$f":"VLOOKUP(D884,' '!$1:$1048576,3,0)","v":70},null,"db",100,null,{"$f":"G884*H884","v":0}]
[null,null,"BORDÁS LPE IDOM","IP.641.1602",null,"KM könyök 16 x 3/4\"",{"$f":"VLOOKUP(D885,' '!$1:$1048576,3,0)","v":98},null,"db",100,null,{"$f":"G885*H885","v":0}]
[null,null,"BORDÁS LPE IDOM","IP.641.2001",null,"KM könyök 20 x 1/2\"",{"$f":"VLOOKUP(D886,' '!$1:$1048576,3,0)","v":55},null,"db",100,null,{"$f":"G886*H886","v":0}]
[null,null,"BORDÁS LPE IDOM","IP.641.2002",null,"KM könyök 20 x 3/4\"",{"$f":"VLOOKUP(D887,' '!$1:$1048576,3,0)","v":55},null,"db",100,null,{"$f":"G887*H887","v":0}]
[]
[null,null,"BORDÁS LPE IDOM","HO 44314",null,"Racsnis bilincs, 16 mm, LPE csőhöz, műanyag",{"$f":"VLOOKUP(D889,' '!$1:$1048576,3,0)","v":97},null,"db",100,null,{"$f":"G889*H889","v":0}]
[null,null,"BORDÁS LPE IDOM","HO 44315",null,"Racsnis bilincs, 20 mm, LPE csőhöz, műanyag",{"$f":"VLOOKUP(D890,' '!$1:$1048576,3,0)","v":58},null,"db",100,null,{"$f":"G890*H890","v":0}]
[null,null,"BORDÁS LPE IDOM","O61254",null,"Racsnis bilincs, 6 mm, mikro csőhöz, műanyag",{"$f":"VLOOKUP(D891,' '!$1:$1048576,3,0)","v":92},null,"db",10,null,{"$f":"G891*H891","v":0}]
[]
[null,null,"BORDÁS LPE IDOM","1080006016",null,"COBRA bilincs, fém, 16mm",{"$f":"VLOOKUP(D893,' '!$1:$1048576,3,0)","v":133},null,"db",1000,null,{"$f":"G893*H893","v":0}]
[null,null,"BORDÁS LPE IDOM","1087006020",null,"COBRA bilincs, fém, 20mm",{"$f":"VLOOKUP(D894,' '!$1:$1048576,3,0)","v":142},null,"db",1000,null,{"$f":"G894*H894","v":0}]
[]
[null,"TOKOS LPE FITTINGEK ALKATRÉSZEI"]
[]
["ÚJ",null,"TOKOS LPE IDOM","166-25701",null,"LPE bilincs, 16 mm",{"$f":"VLOOKUP(D898,' '!$1:$1048576,3,0)","v":237},null,"db","10",null,{"$f":"G898*H898","v":0}]
["ÚJ",null,"TOKOS LPE IDOM","166-25702",null,"LPE bilincs, 21 mm",{"$f":"VLOOKUP(D899,' '!$1:$1048576,3,0)","v":287},null,"db","10",null,{"$f":"G899*H899","v":0}]
[]
[null,null,"TOKOS LPE IDOM","PL.INS.16","PALAPLAST","Betét tokos LPE-fittinghez 16mm (zöld)",{"$f":"VLOOKUP(D901,' '!$1:$1048576,3,0)","v":35},null,"db","50",null,{"$f":"G901*H901","v":0}]
[null,null,"TOKOS LPE IDOM","PL.INS.20","PALAPLAST","Betét tokos LPE-fittinghez 20mm (kék)",{"$f":"VLOOKUP(D902,' '!$1:$1048576,3,0)","v":35},null,"db","50",null,{"$f":"G902*H902","v":0}]
[]
[null,null,"TOKOS LPE IDOM","PL.GRP.16","PALAPLAST","Szorító sapka tokos LPE-fittinghez 16mm",{"$f":"VLOOKUP(D904,' '!$1:$1048576,3,0)","v":54},null,"db","50",null,{"$f":"G904*H904","v":0}]
[null,null,"TOKOS LPE IDOM","PL.GRP.20","PALAPLAST","Szorító sapka tokos LPE-fittinghez 20mm",{"$f":"VLOOKUP(D905,' '!$1:$1048576,3,0)","v":54},null,"db","50",null,{"$f":"G905*H905","v":0}]
[]
[null,null,"TOKOS LPE IDOM",33100202,"PALAPLAST","Könyök KM 3/4\"",{"$f":"VLOOKUP(D907,' '!$1:$1048576,3,0)","v":126},null,"db",100,null,{"$f":"G907*H907","v":0}]
[null,null,"TOKOS LPE IDOM",33090201,"PALAPLAST","Könyök KM 3/4\" x 1/2\"",{"$f":"VLOOKUP(D908,' '!$1:$1048576,3,0)","v":125},null,"db",100,null,{"$f":"G908*H908","v":0}]
[]
[null,null,"TOKOS LPE IDOM",33010202,"PALAPLAST","Közcsavar 3/4\" x 3/4\"",{"$f":"VLOOKUP(D910,' '!$1:$1048576,3,0)","v":49},null,"db",100,null,{"$f":"G910*H910","v":0}]
[]
[null,null,"TOKOS LPE IDOM",33110222,"PALAPLAST","T KM 3/4\"",{"$f":"VLOOKUP(D912,' '!$1:$1048576,3,0)","v":85},null,"db",100,null,{"$f":"G912*H912","v":0}]
[null,null,"TOKOS LPE IDOM","PL.629.020102","PALAPLAST","T KM 3/4\" x 1/2\" x 3/4\"",{"$f":"VLOOKUP(D913,' '!$1:$1048576,3,0)","v":137},null,"db",100,null,{"$f":"G913*H913","v":0}]
[]
[null,null,"TOKOS LPE IDOM",31560201,"PALAPLAST","Csap műanyag KM 3/4\" x 1/2\"",{"$f":"VLOOKUP(D915,' '!$1:$1048576,3,0)","v":182},null,"db",100,null,{"$f":"G915*H915","v":0}]
[null,null,"TOKOS LPE IDOM",31560202,"PALAPLAST","Csap műanyag KM 3/4\" x 3/4\"",{"$f":"VLOOKUP(D916,' '!$1:$1048576,3,0)","v":182},null,"db",100,null,{"$f":"G916*H916","v":0}]
[null,null,"TOKOS LPE IDOM",31590202,"PALAPLAST","Csap műanyag KB 3/4\" x 3/4\"",{"$f":"VLOOKUP(D917,' '!$1:$1048576,3,0)","v":182},null,"db",100,null,{"$f":"G917*H917","v":0}]
[]
[null,null,"TOKOS LPE IDOM","I810160","IRRITEC","Kúpos 16 x 16 egyenes toldó",{"$f":"VLOOKUP(D919,' '!$1:$1048576,3,0)","v":130},null,"db",50,null,{"$f":"G919*H919","v":0}]
[null,null,"TOKOS LPE IDOM","I823160","IRRITEC","Kúpos 16 Könyök elem",{"$f":"VLOOKUP(D920,' '!$1:$1048576,3,0)","v":178},null,"db",50,null,0]
[null,null,"TOKOS LPE IDOM","I814160","IRRITEC","Kúpos 16 T elem",{"$f":"VLOOKUP(D921,' '!$1:$1048576,3,0)","v":267},null,"db",30,null,0]
[null,null,"TOKOS LPE IDOM","I813160","IRRITEC","Kúpos 16 végdugó",{"$f":"VLOOKUP(D922,' '!$1:$1048576,3,0)","v":101},null,"db",50,null,0]
[]
[null,null,"TOKOS LPE IDOM","I81116C","IRRITEC","Kúpos 16 KM 3/4\" Egyenes",{"$f":"VLOOKUP(D924,' '!$1:$1048576,3,0)","v":97},null,"db",50,null,0]
[]
[null,null,"TOKOS LPE IDOM","I82416B","IRRITEC","Kúpos 16 KM 1/2\" Könyök elem",{"$f":"VLOOKUP(D926,' '!$1:$1048576,3,0)","v":137},null,"db",50,null,0]
[null,null,"TOKOS LPE IDOM","I82416C","IRRITEC","Kúpos 16 KM 3/4\" Könyök elem",{"$f":"VLOOKUP(D927,' '!$1:$1048576,3,0)","v":137},null,"db",50,null,0]
[]
[null,null,"TOKOS LPE IDOM","I81616C","IRRITEC","Kúpos 16 KM 3/4\" T elem",{"$f":"VLOOKUP(D929,' '!$1:$1048576,3,0)","v":209},null,"db",30,null,0]
[]
[null,null,"TOKOS LPE IDOM","I810200","IRRITEC","Kúpos 20 x 20 egyenes toldó",{"$f":"VLOOKUP(D931,' '!$1:$1048576,3,0)","v":178},null,"db",50,null,0]
[null,null,"TOKOS LPE IDOM","I823200","IRRITEC","Kúpos 20 Könyök elem",{"$f":"VLOOKUP(D932,' '!$1:$1048576,3,0)","v":223},null,"db",50,null,0]
[null,null,"TOKOS LPE IDOM","I814200","IRRITEC","Kúpos 20 T elem",{"$f":"VLOOKUP(D933,' '!$1:$1048576,3,0)","v":338},null,"db",30,null,0]
[null,null,"TOKOS LPE IDOM","I813200","IRRITEC","Kúpos 20 végdugó",{"$f":"VLOOKUP(D934,' '!$1:$1048576,3,0)","v":118},null,"db",50,null,0]
[]
[null,null,"TOKOS LPE IDOM","I81116C","IRRITEC","Kúpos 20 KM 3/4\" Egyenes",{"$f":"VLOOKUP(D936,' '!$1:$1048576,3,0)","v":97},null,"db",50,null,0]
[]
[null,null,"TOKOS LPE IDOM","I82416B","IRRITEC","Kúpos 20 KM 1/2\" Könyök elem",{"$f":"VLOOKUP(D938,' '!$1:$1048576,3,0)","v":137},null,"db",50,null,0]
[null,null,"TOKOS LPE IDOM","I82416C","IRRITEC","Kúpos 20 KM 3/4\" Könyök elem",{"$f":"VLOOKUP(D939,' '!$1:$1048576,3,0)","v":137},null,"db",50,null,0]
[]
[null,null,"TOKOS LPE IDOM","I81620C","IRRITEC","Kúpos 20 KM 3/4\" T elem",{"$f":"VLOOKUP(D941,' '!$1:$1048576,3,0)","v":252},null,"db",30,null,0]
[]
[null,"MENETES IDOMOK"]
[]
[null,null,"MENETES IDOM","IR.607.0101",null,"Közcsavar 1/2\" x 1/2\"",{"$f":"VLOOKUP(D945,' '!$1:$1048576,3,0)","v":32},null,"db",50,null,{"$f":"G945*H945","v":0}]
[null,null,"MENETES IDOM",33010202,null,"Közcsavar 3/4\" x 3/4\"",{"$f":"VLOOKUP(D946,' '!$1:$1048576,3,0)","v":49},null,"db",100,null,0]
[null,null,"MENETES IDOM","IR.607.0303",null,"Közcsavar 1\" x 1\"",{"$f":"VLOOKUP(D947,' '!$1:$1048576,3,0)","v":56},null,"db",50,null,0]
[null,null,"MENETES IDOM","IR.619.0404",null,"Közcsavar 5/4\" x 5/4\"",{"$f":"VLOOKUP(D948,' '!$1:$1048576,3,0)","v":94},null,"db",20,null,0]
[null,null,"MENETES IDOM","IR.607.0505",null,"Közcsavar 6/4\" x 6/4\"",{"$f":"VLOOKUP(D949,' '!$1:$1048576,3,0)","v":162},null,"db",20,null,0]
[null,null,"MENETES IDOM","IR.607.0606",null,"Közcsavar 2\" x 2\"",{"$f":"VLOOKUP(D950,' '!$1:$1048576,3,0)","v":258},null,"db",10,null,0]
[]
[null,null,"MENETES IDOM","K1/4Cu",null,"Közcsavar RÉZ, 1/4\"",{"$f":"VLOOKUP(D952,' '!$1:$1048576,3,0)","v":194},null,"db",10,"Rendelésre!",{"$f":"G952*H952","v":0}]
[null,null,"MENETES IDOM","VG-266592",null,"Közcsavar RÉZ, 1/2\"",{"$f":"VLOOKUP(D953,' '!$1:$1048576,3,0)","v":383},null,"db",10,null,{"$f":"G953*H953","v":0}]
[null,null,"MENETES IDOM",266608,null,"Közcsavar RÉZ, 3/4\"",{"$f":"VLOOKUP(D954,' '!$1:$1048576,3,0)","v":656},null,"db",10,null,{"$f":"G954*H954","v":0}]
[null,null,"MENETES IDOM",266608,null,"Közcsavar RÉZ, 1\"x1\"",{"$f":"VLOOKUP(D955,' '!$1:$1048576,3,0)","v":656},null,"db",10,null,{"$f":"G955*H955","v":0}]
[null,null,"MENETES IDOM","KCS 2\" BRONZ",null,"Közcsavar RÉZ, 2\"",{"$f":"VLOOKUP(D956,' '!$1:$1048576,3,0)","v":1454},null,"db","1","Rendelésre!",{"$f":"G956*H956","v":0}]
[]
[null,null,"MENETES IDOM","3160/1003",null,"Közcsavar TARTÁLYHOZ 1\"x1\"",{"$f":"VLOOKUP(D958,' '!$1:$1048576,3,0)","v":255},null,"db",10,null,0]
[]
[null,null,"MENETES IDOM",33020201,null,"Közcsavar szűkítő 3/4\" x 1/2\"",{"$f":"VLOOKUP(D960,' '!$1:$1048576,3,0)","v":37},null,"db",100,null,{"$f":"G960*H960","v":0}]
[null,null,"MENETES IDOM","IR.619.0301",null,"Közcsavar szűkítő 1\" x 1/2\"",{"$f":"VLOOKUP(D961,' '!$1:$1048576,3,0)","v":47},null,"db",50,null,0]
[null,null,"MENETES IDOM","IR.619.0302",null,"Közcsavar szűkítő 1\" x 3/4\"",{"$f":"VLOOKUP(D962,' '!$1:$1048576,3,0)","v":46},null,"db",50,null,0]
[null,null,"MENETES IDOM","IR.619.0402",null,"Közcsavar szűkítő 5/4\" x 3/4\"",{"$f":"VLOOKUP(D963,' '!$1:$1048576,3,0)","v":106},null,"db",20,null,0]
[null,null,"MENETES IDOM","IR.619.0403",null,"Közcsavar szűkítő 5/4\" x 1\"",{"$f":"VLOOKUP(D964,' '!$1:$1048576,3,0)","v":80},null,"db",20,null,0]
[null,null,"MENETES IDOM","IR.619.0503",null,"Közcsavar szűkítő 6/4\" x 1\"",{"$f":"VLOOKUP(D965,' '!$1:$1048576,3,0)","v":110},null,"db",20,null,0]
[null,null,"MENETES IDOM","IR.619.0504",null,"Közcsavar szűkítő 6/4\" x 5/4\"",{"$f":"VLOOKUP(D966,' '!$1:$1048576,3,0)","v":168},null,"db",20,null,0]
[null,null,"MENETES IDOM","IR.619.0605",null,"Közcsavar szűkítő 2\" x 6/4\"",{"$f":"VLOOKUP(D967,' '!$1:$1048576,3,0)","v":206},null,"db",10,null,0]
[]
[null,null,"MENETES IDOM","K1/2x1/4Cu",null,"Közcsavar szűkítő, RÉZ 1/2\"x1/4\"",{"$f":"VLOOKUP(D969,' '!$1:$1048576,3,0)","v":405},null,"db",10,null,{"$f":"G969*H969","v":0}]
[null,null,"MENETES IDOM","VG-SZŰK3/4*1/2KK",null,"Közcsavar szűkítő, RÉZ 3/4\"x1/2\"",{"$f":"VLOOKUP(D970,' '!$1:$1048576,3,0)","v":360},null,"db",10,null,{"$f":"G970*H970","v":0}]
[null,null,"MENETES IDOM","VG-266547",null,"Közcsavar szűkítő, RÉZ 1\"x3/4\"",{"$f":"VLOOKUP(D971,' '!$1:$1048576,3,0)","v":543},null,"db",10,null,{"$f":"G971*H971","v":0}]
[]
[null,null,"MENETES IDOM","IR.620.0101",null,"Karmantyú 1/2\" x 1/2\"",{"$f":"VLOOKUP(D973,' '!$1:$1048576,3,0)","v":72},null,"db",100,null,0]
[null,null,"MENETES IDOM","IR.620.0202",null,"Karmantyú 3/4\" x 3/4\"",{"$f":"VLOOKUP(D974,' '!$1:$1048576,3,0)","v":80},null,"db",100,null,0]
[null,null,"MENETES IDOM","IR.620.0303",null,"Karmantyú 1\" x 1\"",{"$f":"VLOOKUP(D975,' '!$1:$1048576,3,0)","v":106},null,"db",100,null,0]
[null,null,"MENETES IDOM","IR.620.0404",null,"Karmantyú 5/4\" x 5/4\"",{"$f":"VLOOKUP(D976,' '!$1:$1048576,3,0)","v":288},null,"db",10,null,0]
[null,null,"MENETES IDOM","IR.620.0505",null,"Karmantyú 6/4\" x 6/4\"",{"$f":"VLOOKUP(D977,' '!$1:$1048576,3,0)","v":364},null,"db",10,null,0]
[null,null,"MENETES IDOM","IR.620.0606",null,"Karmantyú 2\" x 2\"",{"$f":"VLOOKUP(D978,' '!$1:$1048576,3,0)","v":490},null,"db",10,null,0]
[]
[null,null,"MENETES IDOM","VG-266554",null,"Karmantyú RÉZ, 3/4\"",{"$f":"VLOOKUP(D980,' '!$1:$1048576,3,0)","v":458},null,"db",10,null,{"$f":"G980*H980","v":0}]
[null,null,"MENETES IDOM","VG-266561",null,"Karmantyú RÉZ, 1\"",{"$f":"VLOOKUP(D981,' '!$1:$1048576,3,0)","v":674},null,"db",10,null,{"$f":"G981*H981","v":0}]
[null,null,"MENETES IDOM","Karm5/4Cu",null,"Karmantyú RÉZ, 5/4\"",{"$f":"VLOOKUP(D982,' '!$1:$1048576,3,0)","v":506},null,"db",10,null,{"$f":"G982*H982","v":0}]
[]
[null,null,"MENETES IDOM","IR.621.0201",null,"Karmantyú szűkítő 3/4\" x 1/2\"",{"$f":"VLOOKUP(D984,' '!$1:$1048576,3,0)","v":82},null,"db",100,null,0]
[null,null,"MENETES IDOM","I62132B",null,"Karmantyú szűkítő 1\"x1/2\"",{"$f":"VLOOKUP(D985,' '!$1:$1048576,3,0)","v":104},null,"db",100,null,0]
[null,null,"MENETES IDOM","IR.621.0302",null,"Karmantyú szűkítő 1\" x 3/4\"",{"$f":"VLOOKUP(D986,' '!$1:$1048576,3,0)","v":108},null,"db",100,null,0]
[null,null,"MENETES IDOM","IR.621.0403",null,"Karmantyú szűkítő 5/4\" x 1\"",{"$f":"VLOOKUP(D987,' '!$1:$1048576,3,0)","v":228},null,"db",20,null,0]
[null,null,"MENETES IDOM","IR.621.0504",null,"Karmantyú szűkítő 6/4\" x 5/4\"",{"$f":"VLOOKUP(D988,' '!$1:$1048576,3,0)","v":338},null,"db",10,null,0]
[null,null,"MENETES IDOM","IR.621.0604",null,"Karmantyú szűkítő 2\" x 5/4\"",{"$f":"VLOOKUP(D989,' '!$1:$1048576,3,0)","v":544},null,"db",10,null,0]
[null,null,"MENETES IDOM","IR.621.0605",null,"Karmantyú szűkítő 2\" x 6/4\"",{"$f":"VLOOKUP(D990,' '!$1:$1048576,3,0)","v":446},null,"db",10,null,0]
[]
[null,null,"MENETES IDOM","IR.622.0201",null,"Bővítő BK 3/4\" x 1/2\"",{"$f":"VLOOKUP(D992,' '!$1:$1048576,3,0)","v":158},null,"db",50,null,0]
[null,null,"MENETES IDOM","IR.622.0301",null,"Bővítő BK 1\" x 1/2\"",{"$f":"VLOOKUP(D993,' '!$1:$1048576,3,0)","v":178},null,"db",20,null,0]
[null,null,"MENETES IDOM","IR.622.0302",null,"Bővítő BK 1\" x 3/4\"",{"$f":"VLOOKUP(D994,' '!$1:$1048576,3,0)","v":188},null,"db",20,null,0]
[null,null,"MENETES IDOM","IR.622.0403",null,"Bővítő BK 5/4\" x 1\"",{"$f":"VLOOKUP(D995,' '!$1:$1048576,3,0)","v":272},null,"db",25,null,0]
[]
[null,null,"MENETES IDOM","IR.623.0201",null,"Szűkítő KB 3/4\" x 1/2\"",{"$f":"VLOOKUP(D997,' '!$1:$1048576,3,0)","v":80},null,"db",50,null,0]
[null,null,"MENETES IDOM","IR.623.0301",null,"Szűkítő KB 1\" x 1/2\"",{"$f":"VLOOKUP(D998,' '!$1:$1048576,3,0)","v":76},null,"db",50,null,0]
[null,null,"MENETES IDOM","IR.623.0302",null,"Szűkítő KB 1\" x 3/4\"",{"$f":"VLOOKUP(D999,' '!$1:$1048576,3,0)","v":80},null,"db",50,null,0]
[null,null,"MENETES IDOM","IR.623.0401",null,"Szűkítő KB 5/4\" x 1/2\"",{"$f":"VLOOKUP(D1000,' '!$1:$1048576,3,0)","v":214},null,"db",50,null,0]
[null,null,"MENETES IDOM","IR.623.0402",null,"Szűkítő KB 5/4\" x 3/4\"",{"$f":"VLOOKUP(D1001,' '!$1:$1048576,3,0)","v":214},null,"db",50,null,0]
[null,null,"MENETES IDOM","IR.623.0403",null,"Szűkítő KB 5/4\" x 1\"",{"$f":"VLOOKUP(D1002,' '!$1:$1048576,3,0)","v":134},null,"db",50,null,0]
[null,null,"MENETES IDOM","IR.623.0501",null,"Szűkítő KB 6/4\" x 1/2\"",{"$f":"VLOOKUP(D1003,' '!$1:$1048576,3,0)","v":250},null,"db",25,null,0]
[null,null,"MENETES IDOM","IR.623.0502",null,"Szűkítő KB 6/4\" x 3/4\"",{"$f":"VLOOKUP(D1004,' '!$1:$1048576,3,0)","v":250},null,"db",25,null,0]
[null,null,"MENETES IDOM","IR.623.0503",null,"Szűkítő KB 6/4\" x 1\"",{"$f":"VLOOKUP(D1005,' '!$1:$1048576,3,0)","v":390},null,"db",25,null,0]
[null,null,"MENETES IDOM","IR.623.0504",null,"Szűkítő KB 6/4\" x 5/4\"",{"$f":"VLOOKUP(D1006,' '!$1:$1048576,3,0)","v":162},null,"db",25,null,0]
[null,null,"MENETES IDOM","szKB1.1/2x2",null,"Szűkítő KB 6/4\" x 2\"",{"$f":"VLOOKUP(D1007,' '!$1:$1048576,3,0)","v":544},null,"db",25,null,0]
[null,null,"MENETES IDOM","IR.623.0602",null,"Szűkítő KB 2\" x 3/4\"",{"$f":"VLOOKUP(D1008,' '!$1:$1048576,3,0)","v":308},null,"db",10,null,0]
[null,null,"MENETES IDOM","IR.623.0603",null,"Szűkítő KB 2\" x 1\"",{"$f":"VLOOKUP(D1009,' '!$1:$1048576,3,0)","v":315},null,"db",10,null,0]
[null,null,"MENETES IDOM","IR.623.0604",null,"Szűkítő KB 2\" x 5/4\"",{"$f":"VLOOKUP(D1010,' '!$1:$1048576,3,0)","v":313},null,"db",10,null,0]
[null,null,"MENETES IDOM","IR.623.0605",null,"Szűkítő KB 2\" x 6/4\"",{"$f":"VLOOKUP(D1011,' '!$1:$1048576,3,0)","v":366},null,"db",10,null,0]
[]
[null,null,"MENETES IDOM","IR.626.0101",null,"Könyök BM 1/2\"",{"$f":"VLOOKUP(D1013,' '!$1:$1048576,3,0)","v":133},null,"db",20,null,0]
[null,null,"MENETES IDOM","IR.626.0202",null,"Könyök BM 3/4\"",{"$f":"VLOOKUP(D1014,' '!$1:$1048576,3,0)","v":166},null,"db",20,null,0]
[null,null,"MENETES IDOM","IR.626.0303",null,"Könyök BM 1\"",{"$f":"VLOOKUP(D1015,' '!$1:$1048576,3,0)","v":198},null,"db",20,null,0]
[null,null,"MENETES IDOM","IR.626.0404",null,"Könyök BM 5/4\"",{"$f":"VLOOKUP(D1016,' '!$1:$1048576,3,0)","v":388},null,"db",10,null,0]
[null,null,"MENETES IDOM","IR.626.0505",null,"Könyök BM 6/4\"",{"$f":"VLOOKUP(D1017,' '!$1:$1048576,3,0)","v":648},null,"db",10,null,0]
[null,null,"MENETES IDOM","IR.626.0606",null,"Könyök BM 2\"",{"$f":"VLOOKUP(D1018,' '!$1:$1048576,3,0)","v":986},null,"db",5,null,0]
[]
["ÚJ",null,"MENETES IDOM","90BMCU34",null,"Könyök BM RÉZ, 3/4\"",{"$f":"VLOOKUP(D1020,' '!$1:$1048576,3,0)","v":718},null,"db","10",null,{"$f":"G1020*H1020","v":0}]
["ÚJ",null,"MENETES IDOM","90BMCU1",null,"Könyök BM RÉZ 1\"",{"$f":"VLOOKUP(D1021,' '!$1:$1048576,3,0)","v":1100},null,"db","10",null,{"$f":"G1021*H1021","v":0}]
[]
[null,null,"MENETES IDOM","IR.627.0202",null,"Könyök KB 3/4\"",{"$f":"VLOOKUP(D1023,' '!$1:$1048576,3,0)","v":120},null,"db",20,null,0]
[null,null,"MENETES IDOM","IR.627.0303",null,"Könyök KB 1\"",{"$f":"VLOOKUP(D1024,' '!$1:$1048576,3,0)","v":144},null,"db",20,null,0]
[]
["ÚJ",null,"MENETES IDOM","90KBCU34",null,"Könyök KB RÉZ 3/4\"",{"$f":"VLOOKUP(D1026,' '!$1:$1048576,3,0)","v":829},null,"db","10",null,{"$f":"G1026*H1026","v":0}]
["ÚJ",null,"MENETES IDOM","90KBCU1",null,"Könyök KB RÉZ 1\"",{"$f":"VLOOKUP(D1027,' '!$1:$1048576,3,0)","v":1286},null,"db","10",null,{"$f":"G1027*H1027","v":0}]
[]
[null,null,"MENETES IDOM","06100080",null,"Könyök KM 1\"",{"$f":"VLOOKUP(D1029,' '!$1:$1048576,3,0)","v":118},null,"db",100,null,0]
[]
[null,null,"MENETES IDOM","IR.630.02",null,"T BM 3/4\"",{"$f":"VLOOKUP(D1031,' '!$1:$1048576,3,0)","v":228},null,"db",20,null,0]
[null,null,"MENETES IDOM","IR.630.03",null,"T BM 1\"",{"$f":"VLOOKUP(D1032,' '!$1:$1048576,3,0)","v":278},null,"db",20,null,0]
[null,null,"MENETES IDOM","IR.630.06",null,"T BM 2\"",{"$f":"VLOOKUP(D1033,' '!$1:$1048576,3,0)","v":1213},null,"db",5,null,0]
[null,null,"MENETES IDOM",33110222,null,"T KM 3/4\"",{"$f":"VLOOKUP(D1034,' '!$1:$1048576,3,0)","v":85},null,"db",100,null,0]
[null,null,"MENETES IDOM","I605320",null,"T KM 1\"",{"$f":"VLOOKUP(D1035,' '!$1:$1048576,3,0)","v":188},null,"db",20,null,0]
[]
[null,null,"MENETES IDOM","PL.629.020102",null,"T KM 3/4\" x 1/2\" x 3/4\"",{"$f":"VLOOKUP(D1037,' '!$1:$1048576,3,0)","v":137},null,"db",100,null,{"$f":"G1037*H1037","v":0}]
[]
[null,null,"MENETES IDOM","IR.631.02",null,"Kereszt idom BM 3/4\"",{"$f":"VLOOKUP(D1039,' '!$1:$1048576,3,0)","v":540},null,"db",20,null,{"$f":"G1039*H1039","v":0}]
[]
[null,null,"MENETES IDOM","IR.609.01",null,"Végdugó BM 1/2\"",{"$f":"VLOOKUP(D1041,' '!$1:$1048576,3,0)","v":32},null,"db",100,null,{"$f":"G1041*H1041","v":0}]
[null,null,"MENETES IDOM","IR.609.02",null,"Végdugó BM 3/4\"",{"$f":"VLOOKUP(D1042,' '!$1:$1048576,3,0)","v":40},null,"db",100,null,0]
[null,null,"MENETES IDOM","IR.609.03",null,"Végdugó BM 1\"",{"$f":"VLOOKUP(D1043,' '!$1:$1048576,3,0)","v":72},null,"db",100,null,0]
[null,null,"MENETES IDOM","IR.609.04",null,"Végdugó BM 5/4\"",{"$f":"VLOOKUP(D1044,' '!$1:$1048576,3,0)","v":116},null,"db",25,null,0]
[null,null,"MENETES IDOM","IR.609.05",null,"Végdugó BM 6/4\"",{"$f":"VLOOKUP(D1045,' '!$1:$1048576,3,0)","v":214},null,"db",10,null,0]
[null,null,"MENETES IDOM","IR.609.06",null,"Végdugó BM 2\"",{"$f":"VLOOKUP(D1046,' '!$1:$1048576,3,0)","v":198},null,"db",10,null,0]
[]
["ÚJ",null,"MENETES IDOM","VDBM1/4Cu",null,"Végdugó BM RÉZ, 1/4\"",{"$f":"VLOOKUP(D1048,' '!$1:$1048576,3,0)","v":149},null,"db","10",null,{"$f":"G1048*H1048","v":0}]
[]
[null,null,"MENETES IDOM","IR.610.01",null,"Végdugó KM 1/2\"",{"$f":"VLOOKUP(D1050,' '!$1:$1048576,3,0)","v":42},null,"db",100,null,{"$f":"G1050*H1050","v":0}]
[null,null,"MENETES IDOM",33310002,null,"Végdugó KM 3/4\"",{"$f":"VLOOKUP(D1051,' '!$1:$1048576,3,0)","v":42},null,"db",100,null,0]
[null,null,"MENETES IDOM","IR.610.03",null,"Végdugó KM 1\"",{"$f":"VLOOKUP(D1052,' '!$1:$1048576,3,0)","v":92},null,"db",100,null,0]
[null,null,"MENETES IDOM","IR.610.04",null,"Végdugó KM 5/4\"",{"$f":"VLOOKUP(D1053,' '!$1:$1048576,3,0)","v":114},null,"db",100,null,0]
[null,null,"MENETES IDOM","IR.610.05",null,"Végdugó KM 6/4\"",{"$f":"VLOOKUP(D1054,' '!$1:$1048576,3,0)","v":152},null,"db",10,null,0]
[null,null,"MENETES IDOM","IR.610.06",null,"Végdugó KM 2\"",{"$f":"VLOOKUP(D1055,' '!$1:$1048576,3,0)","v":176},null,"db",10,null,0]
[]
[null,"SZERELHETŐ IDOMOK MÁGNESSZELEPEKHEZ"]
[]
[null,null,"SZELEPKÖTŐ IDOM","145.8100000","RAIN","Szelepkötő Idom RAIN, Kereszt, 1\", 3xBM/1xKM",{"$f":"VLOOKUP(D1059,' '!$1:$1048576,3,0)","v":1225},null,"db",20,null,{"$f":"G1059*H1059","v":0}]
[null,null,"SZELEPKÖTŐ IDOM","145.8000000","RAIN","Szelepkötő Idom RAIN, Kereszt, 1\", 4xBM",{"$f":"VLOOKUP(D1060,' '!$1:$1048576,3,0)","v":1350},null,"db",20,null,0]
[null,null,"SZELEPKÖTŐ IDOM","145.7100000","RAIN","Szelepkötő Idom RAIN, Könyök, 1\", 1xBM/1xKM",{"$f":"VLOOKUP(D1061,' '!$1:$1048576,3,0)","v":599},null,"db",20,null,0]
[null,null,"SZELEPKÖTŐ IDOM","145.7000000","RAIN","Szelepkötő Idom RAIN, Könyök, 1\", 2xBM",{"$f":"VLOOKUP(D1062,' '!$1:$1048576,3,0)","v":736},null,"db",20,null,0]
[null,null,"SZELEPKÖTŐ IDOM","145.1100000","RAIN","Szelepkötő Idom RAIN, T-idom,  1\", 2xBM/1xKM",{"$f":"VLOOKUP(D1063,' '!$1:$1048576,3,0)","v":787},null,"db",20,null,0]
[null,null,"SZELEPKÖTŐ IDOM","145.2000000","RAIN","Szelepkötő Idom RAIN, T-idom, 1\", 2 utas",{"$f":"VLOOKUP(D1064,' '!$1:$1048576,3,0)","v":1627},null,"db","1",null,0]
[null,null,"SZELEPKÖTŐ IDOM","145.3000000","RAIN","Szelepkötő Idom RAIN, T-idom, 1\", 3 utas",{"$f":"VLOOKUP(D1065,' '!$1:$1048576,3,0)","v":2414},null,"db","1",null,0]
[null,null,"SZELEPKÖTŐ IDOM","145.4000000","RAIN","Szelepkötő Idom RAIN, T-idom, 1\", 4 utas",{"$f":"VLOOKUP(D1066,' '!$1:$1048576,3,0)","v":3191},null,"db","1",null,0]
[null,null,"SZELEPKÖTŐ IDOM","145.6100000","RAIN","Szelepkötő Idom RAIN, Toldó, 1\", 1xBM/1xKM",{"$f":"VLOOKUP(D1067,' '!$1:$1048576,3,0)","v":443},null,"db",20,null,0]
[null,null,"SZELEPKÖTŐ IDOM","145.6000000","RAIN","Szelepkötő Idom RAIN, Toldó, 1\", 2xBM",{"$f":"VLOOKUP(D1068,' '!$1:$1048576,3,0)","v":709},null,"db",20,null,0]
[null,null,"SZELEPKÖTŐ IDOM","600.5002015","RAIN","Szelepkötő Idom RAIN, Közcsavar, 1\",  \"O\" gyűrűs",{"$f":"VLOOKUP(D1069,' '!$1:$1048576,3,0)","v":295},null,"db",20,null,0]
[null,null,"SZELEPKÖTŐ IDOM","145.1000000","RAIN","Szelepkötő Idom RAIN, Végdugó, 1\", BM",{"$f":"VLOOKUP(D1070,' '!$1:$1048576,3,0)","v":268},null,"db",20,null,0]
[]
[null,null,"SZELEPKÖTŐ IDOM","MTT-100 RB","RAIN BIRD","T elágazás szelepekhez MTT-100",{"$f":"VLOOKUP(D1072,' '!$1:$1048576,3,0)","v":761},null,"db",10,"Rendelésre!",{"$f":"G1072*H1072","v":0}]
[]
[null,"SZERELÉSI ANYAGOK SZÓRÓFEJEK BEKÖTÉSÉHEZ"]
[]
[null,null,"FEJBEKÖTÉS",13060046,null,"Kiemelő műanyag, 48cm, 3/4\"x3/4\" KM",{"$f":"VLOOKUP(D1076,' '!$1:$1048576,3,0)","v":440},null,"db",1,null,{"$f":"G1076*H1076","v":0}]
[]
[null,null,"FEJBEKÖTÉS","IPRS200","IRRITEC","Vágható hidráns 1/2\"x1/2\"x15cm",{"$f":"VLOOKUP(D1078,' '!$1:$1048576,3,0)","v":91},null,"db",10,null,{"$f":"G1078*H1078","v":0}]
[null,null,"FEJBEKÖTÉS","IPRS20C","IRRITEC","Vágható hidráns 1/2\"x3/4\"x15cm",{"$f":"VLOOKUP(D1079,' '!$1:$1048576,3,0)","v":92},null,"db",10,null,{"$f":"G1079*H1079","v":0}]
[null,null,"FEJBEKÖTÉS","IPRS250","IRRITEC","Vágható hidráns 3/4\"x3/4\"x15cm",{"$f":"VLOOKUP(D1080,' '!$1:$1048576,3,0)","v":103},null,"db",10,null,{"$f":"G1080*H1080","v":0}]
[]
[null,null,"FEJBEKÖTÉS","SBTEE","RAIN BIRD","SB-\"T\", 16x16x16 mm",{"$f":"VLOOKUP(D1082,' '!$1:$1048576,3,0)","v":99},null,"db",50,null,{"$f":"G1082*H1082","v":0}]
[]
[null,null,"FEJBEKÖTÉS","SBE-050","RAIN BIRD","SB-bekötőkönyök, 1/2\"×16mm",{"$f":"VLOOKUP(D1084,' '!$1:$1048576,3,0)","v":99},null,"db",50,null,{"$f":"G1084*H1084","v":0}]
[null,null,"FEJBEKÖTÉS","SBE-075","RAIN BIRD","SB-bekötőkönyök, 3/4\"×16mm",{"$f":"VLOOKUP(D1085,' '!$1:$1048576,3,0)","v":99},null,"db",50,null,{"$f":"G1085*H1085","v":0}]
[]
[null,null,"FEJBEKÖTÉS","SBA-050","RAIN BIRD","SB-egyenes, 1/2\"×16mm",{"$f":"VLOOKUP(D1087,' '!$1:$1048576,3,0)","v":99},null,"db",50,null,{"$f":"G1087*H1087","v":0}]
[null,null,"FEJBEKÖTÉS","SBA-075","RAIN BIRD","SB-egyenes, 3/4\"×16mm",{"$f":"VLOOKUP(D1088,' '!$1:$1048576,3,0)","v":99},null,"db",50,null,{"$f":"G1088*H1088","v":0}]
[]
[null,null,"FEJBEKÖTÉS","SBCPLG","RAIN BIRD","SB-toldó, 16x16 mm csavaros tömlővég",{"$f":"VLOOKUP(D1090,' '!$1:$1048576,3,0)","v":99},null,"db",50,null,{"$f":"G1090*H1090","v":0}]
[]
["ÚJ",null,"FEJBEKÖTÉS",8002460001,null,"Fejbekötő CSŐ, Super Flexee",{"$f":"VLOOKUP(D1092,' '!$1:$1048576,3,0)","v":294},null,"m",30,null,{"$f":"G1092*H1092","v":0}]
[null,null,"FEJBEKÖTÉS","SP-FLEX","RAIN BIRD","SP-FLEX törésmentes bekötőcső, 5.5 bar",{"$f":"VLOOKUP(D1093,' '!$1:$1048576,3,0)","v":329},null,"m",30,null,{"$f":"G1093*H1093","v":0}]
[]
[null,null,"FEJBEKÖTÉS","SJ-12-100-22","RAIN BIRD","Swing Joint csuklós fejbekötés, 30cm, KM 1\"",{"$f":"VLOOKUP(D1095,' '!$1:$1048576,3,0)","v":12213},null,"db",15,"Rendelésre!",{"$f":"G1095*H1095","v":0}]
[null,null,"FEJBEKÖTÉS","SJ-12-150-23","RAIN BIRD","Swing Joint csuklós fejbekötés, 30cm, KM 6/4\"",{"$f":"VLOOKUP(D1096,' '!$1:$1048576,3,0)","v":17695},null,"db",15,"Rendelésre!",{"$f":"G1096*H1096","v":0}]
[]
[null,"VÍZKONNEKTOROK, KERTICSAPOK"]
[]
[null,null,"VÍZKONNEKTOR","IIDS025","IRRITEC","Vízkonnektor, műanyag, 3/4\"",{"$f":"VLOOKUP(D1100,' '!$1:$1048576,3,0)","v":1516},null,"db",1,null,{"$f":"G1100*H1100","v":0}]
[null,null,"VÍZKONNEKTOR","ICHS250","IRRITEC","Kulcs az IDS konnektorhoz, KM, 3/4\"",{"$f":"VLOOKUP(D1101,' '!$1:$1048576,3,0)","v":476},null,"db",1,null,{"$f":"G1101*H1101","v":0}]
[]
[null,null,"VÍZKONNEKTOR","WSI-QCV34","RAIN BIRD","Vízkonnektor, bronz, 3/4\"","Érdeklődjön!",null,"db",1,"Rendelésre!","Érdeklődjön!"]
[null,null,"VÍZKONNEKTOR","HQ5RCBSP","RAIN BIRD","Vízkonnektor, bronz, 1\"","Érdeklődjön!",null,"db",1,"Rendelésre!","Érdeklődjön!"]
[null,null,"VÍZKONNEKTOR","WSI-QCK34","RAIN BIRD","Kulcs a bronz vízkonnektorhoz, KM, 3/4\"","Érdeklődjön!",null,"db",1,"Rendelésre!","Érdeklődjön!"]
[null,null,"VÍZKONNEKTOR","HK-55","RAIN BIRD","Kulcs a bronz vízkonnektorhoz, KM, 1\"","Érdeklődjön!",null,"db",1,"Rendelésre!","Érdeklődjön!"]
[null,null,"VÍZKONNEKTOR","WS VK K","RAIN BIRD","Könyök a bronz vízkonnektorhoz, KM, 3/4\"","Érdeklődjön!",null,"db",1,"Rendelésre!","Érdeklődjön!"]
[]
[null,null,"KERTI CSAPSZEKRÉNY","210.3000100","RAIN","Kerti csapszekrény, RAIN, fedeles, 3/4\" B-K",{"$f":"VLOOKUP(D1109,' '!$1:$1048576,3,0)","v":4228},null,"db",1,null,{"$f":"G1109*H1109","v":0}]
[null,null,"KERTI CSAPSZEKRÉNY","VBA-17186","RAIN BIRD","Kerti csapszekrény, Rain Bird, fedeles, 3/4\" B-K",{"$f":"VLOOKUP(D1110,' '!$1:$1048576,3,0)","v":7258},null,"db",1,null,{"$f":"G1110*H1110","v":0}]
[]
[null,null,"KERTI CSAPSZEKRÉNY","KCS1/2","RBM","Kerti golyóscsap KM 1/2\" tömlővéges",{"$f":"VLOOKUP(D1112,' '!$1:$1048576,3,0)","v":935},null,"db",1,null,{"$f":"G1112*H1112","v":0}]
[null,null,"KERTI CSAPSZEKRÉNY","KCS3/4","RBM","Kerti golyóscsap KM 3/4\" tömlővéges",{"$f":"VLOOKUP(D1113,' '!$1:$1048576,3,0)","v":1320},null,"db",1,null,{"$f":"G1113*H1113","v":0}]
[]
[null,null,"KERTI CSAPSZEKRÉNY","KCS FÉM 3/4",null,"Kerticsap FÉM borítással, KM 3/4\"",{"$f":"VLOOKUP(D1115,' '!$1:$1048576,3,0)","v":23543},null,"db",1,null,{"$f":"G1115*H1115","v":0}]
[]
[null,"SZŰRŐK"]
[]
[null,null,"SZŰRŐ","IYDVDDL","IRRITEC","Szűrő 1\" KK LAMELLÁS, 5m3 120 Mesh",{"$f":"VLOOKUP(D1119,' '!$1:$1048576,3,0)","v":1645},null,"db","20",null,{"$f":"G1119*H1119","v":0}]
[null,null,"SZŰRŐ","IYDVDIL","IRRITEC","Szűrő 1\" KK HÁLÓS, 5m3 120 Mesh",{"$f":"VLOOKUP(D1120,' '!$1:$1048576,3,0)","v":1645},null,"db","20",null,{"$f":"G1120*H1120","v":0}]
[]
[null,null,"SZŰRŐ","Szűrő5/4HÁL","IRRITEC","Szűrő 5/4\" KK HÁLÓS",{"$f":"VLOOKUP(D1122,' '!$1:$1048576,3,0)","v":1682},null,"db",1,null,{"$f":"G1122*H1122","v":0}]
[null,null,"SZŰRŐ","Szűrő5/4LAM","IRRITEC","Szűrő 5/4\" KK LAMELLÁS",{"$f":"VLOOKUP(D1123,' '!$1:$1048576,3,0)","v":2699},null,"db",1,null,{"$f":"G1123*H1123","v":0}]
[null,null,"SZŰRŐ","Szűrő6/4HÁL","IRRITEC","Szűrő 6/4\" KK HÁLÓS",{"$f":"VLOOKUP(D1124,' '!$1:$1048576,3,0)","v":1794},null,"db",1,null,{"$f":"G1124*H1124","v":0}]
[null,null,"SZŰRŐ","IYFVFIL","IRRITEC","Szűrő 6/4\" KK HÁLÓS 15m^3",{"$f":"VLOOKUP(D1125,' '!$1:$1048576,3,0)","v":2800},null,"db",1,null,{"$f":"G1125*H1125","v":0}]
[null,null,"SZŰRŐ","Szűrő6/4LAM","IRRITEC","Szűrő 6/4\" KK LAMELLÁS",{"$f":"VLOOKUP(D1126,' '!$1:$1048576,3,0)","v":2302},null,"db",1,null,{"$f":"G1126*H1126","v":0}]
[]
[null,null,"SZŰRŐ","IYFVGIL","IRRITEC","Szűrő 2\" KK KICSI HÁLÓS, 20m^3",{"$f":"VLOOKUP(D1128,' '!$1:$1048576,3,0)","v":2838},null,"db",1,null,{"$f":"G1128*H1128","v":0}]
[null,null,"SZŰRŐ","AQ20","IRRITEC","Szűrő 2\" KK KICSI LAMELLÁS, 20m^3",{"$f":"VLOOKUP(D1129,' '!$1:$1048576,3,0)","v":5322},null,"db",1,null,{"$f":"G1129*H1129","v":0}]
[null,null,"SZŰRŐ","AQ25","IRRITEC","Szűrő 2\" KK LAMELLÁS, 25m^3",{"$f":"VLOOKUP(D1130,' '!$1:$1048576,3,0)","v":31440},null,"db",1,"Rendelésre!",{"$f":"G1130*H1130","v":0}]
[]
[null,null,"SZŰRŐ","IR FLD 1","PALAPLAST","Szűrő FLD, 1\", KK, 120 Mesh, inox háló",{"$f":"VLOOKUP(D1132,' '!$1:$1048576,3,0)","v":1130},null,"db",1,null,{"$f":"G1132*H1132","v":0}]
[null,null,"SZŰRŐ","IR FLD 1CS","PALAPLAST","Szűrő FLD, 1\", KK, 120 Mesh, inox háló, tisztítócsappal",{"$f":"VLOOKUP(D1133,' '!$1:$1048576,3,0)","v":2026},null,"db",1,"Rendelésre!",0]
[]
[null,null,"SZŰRŐ","VÍZSZB10M",null,"Szűrő 1\" BB 10BAR, átlátszó házzal",{"$f":"VLOOKUP(D1135,' '!$1:$1048576,3,0)","v":5622},null,"db",1,null,0]
[null,null,"SZŰRŐ","VÍZSZB10MCS",null,"Szűrő 1\" BB 10BAR, átlátszó házzal, tisztítócsappal",{"$f":"VLOOKUP(D1136,' '!$1:$1048576,3,0)","v":13252},null,"db",1,null,0]
[null,null,"SZŰRŐ",1850002,null,"Szűrő 1\" BB 10BAR, CSERÉLHETŐ BETÉT",{"$f":"VLOOKUP(D1137,' '!$1:$1048576,3,0)","v":1070},null,"db",1,null,0]
[null,null,"SZŰRŐ",1860002,null,"Szűrő 1\" BB 10BAR, MOSHATÓ BETÉT",{"$f":"VLOOKUP(D1138,' '!$1:$1048576,3,0)","v":2891},null,"db",1,null,0]
[]
[null,null,"SZŰRŐ","SZB-F 10","PALAPLAST","Szűrő betét fémhálós, 120 MESH, 9.5cm",{"$f":"VLOOKUP(D1140,' '!$1:$1048576,3,0)","v":313},null,"db",1,null,{"$f":"G1140*H1140","v":0}]
[null,null,"SZŰRŐ","SZB-F 13","PALAPLAST","Szűrő betét fémhálós, 120 MESH, 13cm",{"$f":"VLOOKUP(D1141,' '!$1:$1048576,3,0)","v":708},null,"db",1,null,{"$f":"G1141*H1141","v":0}]
[null,null,"SZŰRŐ","SZB-F 16","PALAPLAST","Szűrő betét fémhálós, 120 MESH, 16cm",{"$f":"VLOOKUP(D1142,' '!$1:$1048576,3,0)","v":761},null,"db",1,null,{"$f":"G1142*H1142","v":0}]
[]
[null,null,"SZŰRŐ","IFMDY07","IRRITEC","Szűrő betét IRRITEC, 75 mesh, 1\"",{"$f":"VLOOKUP(D1144,' '!$1:$1048576,3,0)","v":760},null,"db",1,null,{"$f":"G1144*H1144","v":0}]
[null,null,"SZŰRŐ","IFMEY07","IRRITEC","Szűrő betét IRRITEC, 75 mesh, 5/4\"",{"$f":"VLOOKUP(D1145,' '!$1:$1048576,3,0)","v":1336},null,"db",1,"Rendelésre!",0]
[null,null,"SZŰRŐ","SZB-F 2col","IRRITEC","Szűrő betét IRRITEC, 75 mesh, 2\"",{"$f":"VLOOKUP(D1146,' '!$1:$1048576,3,0)","v":1336},null,"db",1,"Rendelésre!",0]
[]
[null,null,"SZŰRŐ","IFMDY12","IRRITEC","Szűrő betét IRRITEC, 120 mesh, 1\"",{"$f":"VLOOKUP(D1148,' '!$1:$1048576,3,0)","v":762},null,"db",1,null,0]
[null,null,"SZŰRŐ","IFMDD12","IRRITEC","Szűrő betét IRRITEC, 120 mesh, 1\" LAMELLÁS",{"$f":"VLOOKUP(D1149,' '!$1:$1048576,3,0)","v":1091},null,"db",1,null,0]
[null,null,"SZŰRŐ","IFMEY12","IRRITEC","Szűrő betét IRRITEC, 120 mesh, 5/4\", 10m^3",{"$f":"VLOOKUP(D1150,' '!$1:$1048576,3,0)","v":1040},null,"db",1,null,0]
[null,null,"SZŰRŐ","IFMFY12","IRRITEC","Szűrő betét IRRITEC, 120 mesh, 2\", 20m^3",{"$f":"VLOOKUP(D1151,' '!$1:$1048576,3,0)","v":1516},null,"db",1,null,0]
[]
[null,null,"SZŰRŐ","01260610",null,"Szűrő Visszaöblíthető 1\" Manométerrel RA",{"$f":"VLOOKUP(D1153,' '!$1:$1048576,3,0)","v":6063},null,"db",1,"Rendelésre!",{"$f":"G1153*H1153","v":0}]
[]
[null,null,"HYDROCIKLON","CIKLON 1/2\"",null,"Hydrociklon 1/2\" 10-25 l/perc között",{"$f":"VLOOKUP(D1155,' '!$1:$1048576,3,0)","v":26000},null,"db",1,null,{"$f":"G1155*H1155","v":0}]
[null,null,"HYDROCIKLON","CIKLON 1",null,"Hydrociklon 1\" 25-65 l/perc között",{"$f":"VLOOKUP(D1156,' '!$1:$1048576,3,0)","v":50000},null,"db",1,null,{"$f":"G1156*H1156","v":0}]
[null,null,"HYDROCIKLON","CIKLON 6/4\"",null,"Hydrociklon 6/4\" 65-150 l/perc között",{"$f":"VLOOKUP(D1157,' '!$1:$1048576,3,0)","v":110000},null,"db",1,null,{"$f":"G1157*H1157","v":0}]
[null,null,"HYDROCIKLON","CIKLON 2\"",null,"Hydrociklon 2\" 100-250 l/perc között",{"$f":"VLOOKUP(D1158,' '!$1:$1048576,3,0)","v":150000},null,"db",1,null,{"$f":"G1158*H1158","v":0}]
[]
[null,"SZELEPDOBOZOK"]
[]
[null,null,"SZELEPDOBOZ","A.POZ.01C","PLASTICA ALFA","Mini box  (d=17cm, m=23cm)",{"$f":"VLOOKUP(D1162,' '!$1:$1048576,3,0)","v":970},null,"db",1,null,{"$f":"G1162*H1162","v":0}]
[null,null,"SZELEPDOBOZ","A.POZ.02C","PLASTICA ALFA","Junior box  (d=30cm, m=25cm)",{"$f":"VLOOKUP(D1163,' '!$1:$1048576,3,0)","v":1645},null,"db",1,null,{"$f":"G1163*H1163","v":0}]
[null,null,"SZELEPDOBOZ","A.POZ.04R","PLASTICA ALFA","Standard box (47x37x30cm)",{"$f":"VLOOKUP(D1164,' '!$1:$1048576,3,0)","v":4419},null,"db",1,null,{"$f":"G1164*H1164","v":0}]
[null,null,"SZELEPDOBOZ","A.POZ.06R","PLASTICA ALFA","Jumbo box (61x46x30cm)",{"$f":"VLOOKUP(D1165,' '!$1:$1048576,3,0)","v":7861},null,"db",1,null,{"$f":"G1165*H1165","v":0}]
[]
[null,null,"SZELEPDOBOZ",17101,"PLASTICA ALFA","Szelepdoboz-MAGASÍTÓ Standard",{"$f":"VLOOKUP(D1167,' '!$1:$1048576,3,0)","v":3123},null,"db",1,null,{"$f":"G1167*H1167","v":0}]
[null,null,"SZELEPDOBOZ",17107,"PLASTICA ALFA","Szelepdoboz-MAGASÍTÓ Jumbo",{"$f":"VLOOKUP(D1168,' '!$1:$1048576,3,0)","v":6156},null,"db",1,null,{"$f":"G1168*H1168","v":0}]
[]
[null,null,"SZELEPDOBOZ",15010101,"PLASTICA ALFA","Szelepdoboz-FEDÉL Mini",{"$f":"VLOOKUP(D1170,' '!$1:$1048576,3,0)","v":702},null,"db",1,null,{"$f":"G1170*H1170","v":0}]
[null,null,"SZELEPDOBOZ",15010102,"PLASTICA ALFA","Szelepdoboz-FEDÉL Junior",{"$f":"VLOOKUP(D1171,' '!$1:$1048576,3,0)","v":656},null,"db",1,null,{"$f":"G1171*H1171","v":0}]
[null,null,"SZELEPDOBOZ",15010090,"PLASTICA ALFA","Szelepdoboz-FEDÉL Standard",{"$f":"VLOOKUP(D1172,' '!$1:$1048576,3,0)","v":1513},null,"db",1,null,{"$f":"G1172*H1172","v":0}]
[null,null,"SZELEPDOBOZ",15010103,"PLASTICA ALFA","Szelepdoboz-FEDÉL Jumbo",{"$f":"VLOOKUP(D1173,' '!$1:$1048576,3,0)","v":2520},null,"db",1,null,{"$f":"G1173*H1173","v":0}]
[]
[null,null,"SZELEPDOBOZ","210.3001150","RAIN","Mini EzOpen (ÁTM:24,2cm x M:22,8cm)",{"$f":"VLOOKUP(D1175,' '!$1:$1048576,3,0)","v":970},null,"db","1",null,{"$f":"G1175*H1175","v":0}]
[null,null,"SZELEPDOBOZ","210.3001250","RAIN","Junior EzOpen (ÁTM:33,4cm x M:26cm)",{"$f":"VLOOKUP(D1176,' '!$1:$1048576,3,0)","v":1645},null,"db","1",null,{"$f":"G1176*H1176","v":0}]
[null,null,"SZELEPDOBOZ","210.3001113","RAIN","Standard EzOpen (SZ:39,5cm x H:52,5cm x M:33cm)",{"$f":"VLOOKUP(D1177,' '!$1:$1048576,3,0)","v":4419},null,"db","1",null,{"$f":"G1177*H1177","v":0}]
[null,null,"SZELEPDOBOZ","210.3001115","RAIN","Jumbo EzOpen (SZ:50cm x H:66cm x M:33cm)",{"$f":"VLOOKUP(D1178,' '!$1:$1048576,3,0)","v":7861},null,"db","1",null,{"$f":"G1178*H1178","v":0}]
[]
[null,null,"SZELEPDOBOZ","125.8000500","RAIN","Szerelvény rendező (Standard mérethez)",{"$f":"VLOOKUP(D1180,' '!$1:$1048576,3,0)","v":2184},null,"db","1",null,{"$f":"G1180*H1180","v":0}]
[null,null,"SZELEPDOBOZ","125.8000600","RAIN","Szerelvény rendező (Jumbo mérethez)",{"$f":"VLOOKUP(D1181,' '!$1:$1048576,3,0)","v":3444},null,"db","1",null,{"$f":"G1181*H1181","v":0}]
[]
[null,null,"SZELEPDOBOZ","125.0115010","RAIN","Szelepdoboz-FEDÉL Mini, EzOpen (ÁTM:16,3cm)",{"$f":"VLOOKUP(D1183,' '!$1:$1048576,3,0)","v":482},null,"db","1",null,{"$f":"G1183*H1183","v":0}]
[null,null,"SZELEPDOBOZ","125.0125010","RAIN","Szelepdoboz-FEDÉL Junior, EzOpen (ÁTM:25,6cm)",{"$f":"VLOOKUP(D1184,' '!$1:$1048576,3,0)","v":868},null,"db","1",null,{"$f":"G1184*H1184","v":0}]
[null,null,"SZELEPDOBOZ","210.2107113","RAIN","Szelepdoboz-FEDÉL Standard, EzOpen (SZ:27,5cm x H:40,5cm)",{"$f":"VLOOKUP(D1185,' '!$1:$1048576,3,0)","v":1810},null,"db","1",null,{"$f":"G1185*H1185","v":0}]
[null,null,"SZELEPDOBOZ","210.2100115","RAIN","Szelepdoboz-FEDÉL Jumbo, EzOpen (SZ:38,4cm x H:55,3cm)",{"$f":"VLOOKUP(D1186,' '!$1:$1048576,3,0)","v":3592},null,"db","1",null,{"$f":"G1186*H1186","v":0}]
[]
[null,"CSAPOK, VISSZACSAPÓ SZELEPEK"]
[]
[null,null,"GOLYÓS CSAP","CSBB1/2_T_MOF","MOFÉM","Golyós csap, MOFÉM, 1/2\" BB T-fogantyús",{"$f":"VLOOKUP(D1190,' '!$1:$1048576,3,0)","v":1967},null,"db",5,"Rendelésre!",{"$f":"G1190*H1190","v":0}]
[null,null,"GOLYÓS CSAP","CSBB3/4_T_MOF","MOFÉM","Golyós csap, MOFÉM,  3/4\" BB, T-fogantyú",{"$f":"VLOOKUP(D1191,' '!$1:$1048576,3,0)","v":3253},null,"db",5,null,0]
[null,null,"GOLYÓS CSAP","CSBB1_T_MOF","MOFÉM","Golyós csap, MOFÉM,  1\" BB, T-fogantyús",{"$f":"VLOOKUP(D1192,' '!$1:$1048576,3,0)","v":4890},null,"db",5,null,0]
[null,null,"GOLYÓS CSAP","MOF5/5","MOFÉM","Golyós csap, MOFÉM 5/4\" BB, T-fogntyú",{"$f":"VLOOKUP(D1193,' '!$1:$1048576,3,0)","v":8419},null,"db",1,"Rendelésre!",0]
[null,null,"GOLYÓS CSAP","CSBB6/4_T_MOF","MOFÉM","Golyós csap, MOFÉM,  6/4\" BB, T-fogantyú",{"$f":"VLOOKUP(D1194,' '!$1:$1048576,3,0)","v":15254},null,"db",1,"Rendelésre!",0]
[null,null,"GOLYÓS CSAP","CSBB2_T_MOF","MOFÉM","Golyós csap, MOFÉM,  2\" BB, T-fogantyús",{"$f":"VLOOKUP(D1195,' '!$1:$1048576,3,0)","v":22939},null,"db",1,"Rendelésre!",0]
[]
[null,null,"GOLYÓS CSAP","CSAP 1/2\"","RBM","Golyós csap, fém, 1/2\" KB, T-fogantyús",{"$f":"VLOOKUP(D1197,' '!$1:$1048576,3,0)","v":1459},null,"db",10,null,{"$f":"G1197*H1197","v":0}]
[null,null,"GOLYÓS CSAP","CSKB3/4_T","RBM","Golyós csap, fém, 3/4\" KB, T-fogantyús",{"$f":"VLOOKUP(D1198,' '!$1:$1048576,3,0)","v":1943},null,"db",10,null,0]
[null,null,"GOLYÓS CSAP","CSKB1_T","RBM","Golyós csap, fém,  1\" KB, T-fogantyús",{"$f":"VLOOKUP(D1199,' '!$1:$1048576,3,0)","v":2876},null,"db",10,null,0]
[null,null,"GOLYÓS CSAP","08540602","RBM","Golyós csap, fém,  1\" BB, LAPÁTKAROS",{"$f":"VLOOKUP(D1200,' '!$1:$1048576,3,0)","v":2394},null,"db",10,null,0]
[null,null,"GOLYÓS CSAP",8540702,"RBM","Golyós csap, fém,  5/4\" BB, LAPÁTKAROS",{"$f":"VLOOKUP(D1201,' '!$1:$1048576,3,0)","v":3491},null,"db",1,"Rendelésre!",0]
[null,null,"GOLYÓS CSAP","CSKB5/4","RBM","Golyós csap, fém,  5/4\" KB",{"$f":"VLOOKUP(D1202,' '!$1:$1048576,3,0)","v":4875},null,"db",1,"Rendelésre!",0]
[null,null,"GOLYÓS CSAP","CSBB6/4","RBM","Golyós csap, fém,  6/4\" BB",{"$f":"VLOOKUP(D1203,' '!$1:$1048576,3,0)","v":2544},null,"db",1,"Rendelésre!",0]
[null,null,"GOLYÓS CSAP","CSKB6/4","RBM","Golyós csap, fém,  6/4\" KB",{"$f":"VLOOKUP(D1204,' '!$1:$1048576,3,0)","v":7574},null,"db",1,"Rendelésre!",0]
[null,null,"GOLYÓS CSAP","08540802","RBM","Golyós csap, fém,  6/4\" BB, LAPÁTKAROS",{"$f":"VLOOKUP(D1205,' '!$1:$1048576,3,0)","v":5656},null,"db",1,"Rendelésre!",0]
[]
[null,null,"GOLYÓS CSAP","CSBB3/4_TÉL M","MOFÉM","Golyós csap, téli elzáró,  3/4\" BB",{"$f":"VLOOKUP(D1207,' '!$1:$1048576,3,0)","v":5150},null,"db",1,null,{"$f":"G1207*H1207","v":0}]
[null,null,"GOLYÓS CSAP","CSBB1_TÉL",null,"Golyós csap, téli elzáró,  1\" BB",{"$f":"VLOOKUP(D1208,' '!$1:$1048576,3,0)","v":3986},null,"db",1,"Rendelésre!",{"$f":"G1208*H1208","v":0}]
[]
[null,null,"GOLYÓS CSAP","CSBB1_TÉL_T",null,"Téli elzáró T kulcs",{"$f":"VLOOKUP(D1210,' '!$1:$1048576,3,0)","v":1148},null,"db",1,null,{"$f":"G1210*H1210","v":0}]
[null,null,"GOLYÓS CSAP","CSBB3/4_tel_k",null,"Téli elzáró szár 3/4\"",{"$f":"VLOOKUP(D1211,' '!$1:$1048576,3,0)","v":1993},null,"db",1,null,{"$f":"G1211*H1211","v":0}]
[null,null,"GOLYÓS CSAP","CSBB1_TÉL_K",null,"Téli elzáró szár 1\"",{"$f":"VLOOKUP(D1212,' '!$1:$1048576,3,0)","v":1945},null,"db",1,null,{"$f":"G1212*H1212","v":0}]
[]
[null,null,"GOLYÓS CSAP","18VCFF-B","PALAPLAST","Golyós csap, MŰA, 1/2\" BB, fém betéttel",{"$f":"VLOOKUP(D1214,' '!$1:$1048576,3,0)","v":1261},null,"db","30",null,{"$f":"G1214*H1214","v":0}]
[null,null,"GOLYÓS CSAP","18VCFF-C","PALAPLAST","Golyós csap, MŰA, 3/4\" BB, fém betéttel",{"$f":"VLOOKUP(D1215,' '!$1:$1048576,3,0)","v":1539},null,"db","30",null,0]
[null,null,"GOLYÓS CSAP","18VCFF-D","PALAPLAST","Golyós csap, MŰA, 1\" BB, fém betéttel",{"$f":"VLOOKUP(D1216,' '!$1:$1048576,3,0)","v":2094},null,"db",30,null,0]
[null,null,"GOLYÓS CSAP","18VCFF-E","PALAPLAST","Golyós csap, MŰA, 5/4\" BB, fém betéttel",{"$f":"VLOOKUP(D1217,' '!$1:$1048576,3,0)","v":3533},null,"db","1",null,0]
[null,null,"GOLYÓS CSAP","18VCFF-F","PALAPLAST","Golyós csap, MŰA, 6/4\" BB, fém betéttel",{"$f":"VLOOKUP(D1218,' '!$1:$1048576,3,0)","v":4241},null,"db","1",null,0]
[]
[null,null,"GOLYÓS CSAP","143.1000100","RAIN","Golyós csap, MŰA, 1\" KK, fém betéttel",{"$f":"VLOOKUP(D1220,' '!$1:$1048576,3,0)","v":2094},null,"db","30",null,0]
[null,null,"GOLYÓS CSAP","143.10000915","RAIN","Golyós csap, MŰA, 1\" K x 1\" HOLLANDER, fém betéttel",{"$f":"VLOOKUP(D1221,' '!$1:$1048576,3,0)","v":1840},null,"db","30",null,0]
[]
[null,null,null,"M_01","PREMATLAK","Nyomásmérő műszer 10 bar száraz,álló",{"$f":"VLOOKUP(D1223,' '!$1:$1048576,3,0)","v":1588},null,"db","1",null,0]
[]
[null,null,"VISSZACSAPÓ SZELEP","VDSZ INOX 3/4","RBM","Visszacsapó szelep fém belső 3/4\"",{"$f":"VLOOKUP(D1225,' '!$1:$1048576,3,0)","v":2273},null,"db",10,null,0]
[null,null,"VISSZACSAPÓ SZELEP","VDSZ INOX","RBM","Visszacsapó szelep fém belső 1\"",{"$f":"VLOOKUP(D1226,' '!$1:$1048576,3,0)","v":2825},null,"db",10,null,0]
[null,null,"VISSZACSAPÓ SZELEP","VSZ5/4","RBM","Visszacsapó szelep fém belső 5/4\"",{"$f":"VLOOKUP(D1227,' '!$1:$1048576,3,0)","v":4590},null,"db",4,null,0]
[null,null,"VISSZACSAPÓ SZELEP","VCS6/4","RBM","Visszacsapó szelep fém belső 6/4\"",{"$f":"VLOOKUP(D1228,' '!$1:$1048576,3,0)","v":5985},null,"db",4,null,0]
[null,null,"VISSZACSAPÓ SZELEP","VCS2","RBM","Visszacsapó szelep fém belső 2\"",{"$f":"VLOOKUP(D1229,' '!$1:$1048576,3,0)","v":9080},null,"db",1,"Rendelésre!",0]
[]
[null,null,"VISSZACSAPÓ SZELEP","F108590502","RBM","Lábszelep szűrőkosár 3/4\"",{"$f":"VLOOKUP(D1231,' '!$1:$1048576,3,0)","v":325},null,"db",10,null,0]
[null,null,"VISSZACSAPÓ SZELEP","F108590602","RBM","Lábszelep szűrőkosár 1\"",{"$f":"VLOOKUP(D1232,' '!$1:$1048576,3,0)","v":513},null,"db",10,null,0]
[null,null,"VISSZACSAPÓ SZELEP","F108590702","RBM","Lábszelep szűrőkosár 5/4\"",{"$f":"VLOOKUP(D1233,' '!$1:$1048576,3,0)","v":604},null,"db",10,null,0]
[null,null,"VISSZACSAPÓ SZELEP","F108590802","RBM","Lábszelep szűrőkosár 6/4\"",{"$f":"VLOOKUP(D1234,' '!$1:$1048576,3,0)","v":737},null,"db",10,null,0]
[null,null,"VISSZACSAPÓ SZELEP","F108590902","RBM","Lábszelep szűrőkosár 2\"",{"$f":"VLOOKUP(D1235,' '!$1:$1048576,3,0)","v":842},null,"db",10,"Rendelésre!",0]
[]
[null,null,"VÍZÓRA","HR321",null,"Vízóra 3/4\" Hideg, szárazonfutó","Érdeklődjön!",null,"db",1,"Rendelésre!",{"$f":"G1237","v":"Érdeklődjön!"}]
[null,null,"VÍZÓRA","VÓ1\"",null,"Vízóra 1\" Hideg, szárazonfutó","Érdeklődjön!",null,"db",1,"Rendelésre!",{"$f":"G1238","v":"Érdeklődjön!"}]
[null,null,"VÍZÓRA","VÓ2\"",null,"Vízóra 2\" Hideg, szárazonfutó","Érdeklődjön!",null,"db",1,"Rendelésre!",{"$f":"G1239","v":"Érdeklődjön!"}]
[]
[null,"SZIVATTYÚK ÉS ALKATRÉSZEK"]
[]
[null,null,"SZIVATTYÚ VEZÉRLÉS","50066/415","PEDROLLO","Pedrollo Easy Small II.",{"$f":"VLOOKUP(D1243,' '!$1:$1048576,3,0)","v":11800},null,"db",1,null,{"$f":"G1243*H1243","v":0}]
[null,null,"TARTÁLY",500668,null,"Pedrollo TARTÁLY Easy Small-hoz",{"$f":"VLOOKUP(D1244,' '!$1:$1048576,3,0)","v":3590},null,"db",1,null,{"$f":"G1244*H1244","v":0}]
[null,null,"SZIVATTYÚ VEZÉRLÉS","EasyPress","PEDROLLO","Pedrollo EasyPress II.",{"$f":"VLOOKUP(D1245,' '!$1:$1048576,3,0)","v":8500},null,"db",1,null,{"$f":"G1245*H1245","v":0}]
[null,null,"SZIVATTYÚ VEZÉRLÉS","50066/215P","PEDROLLO","Pedrollo EasyPress II. + NYOMÁSMÉRŐ ÓRA",{"$f":"VLOOKUP(D1246,' '!$1:$1048576,3,0)","v":18900},null,"db",1,null,{"$f":"G1246*H1246","v":0}]
[null,null,"SZIVATTYÚ VEZÉRLÉS","PSP M/M 8.5E","PEDROLLO","Pedrollo SteadyPres M/M 8.5 E 1\"G V2.0",{"$f":"VLOOKUP(D1247,' '!$1:$1048576,3,0)","v":79900},null,"db",1,null,{"$f":"G1247*H1247","v":0}]
[]
[null,null,"SZIVATTYÚ VEZÉRLÉS","GRU-PM2","GRUNDFOS","Grundfos PM2",{"$f":"VLOOKUP(D1249,' '!$1:$1048576,3,0)","v":32220},null,"db",1,"Rendelésre!",{"$f":"G1249*H1249","v":0}]
[]
[null,null,"SZIVATTYÚ VEZÉRLÉS","DPC-10","EVAK","DPC-10 digitális szivattyúvezérlő",{"$f":"VLOOKUP(D1251,' '!$1:$1048576,3,0)","v":19686},null,"db",1,"Rendelésre!",{"$f":"G1251*H1251","v":0}]
[null,null,"SZIVATTYÚ VEZÉRLÉS","DPC-10A","EVAK","DPC-10A Digitális szivattyúvezérlő, villásdugóval",{"$f":"VLOOKUP(D1252,' '!$1:$1048576,3,0)","v":25194},null,"db",1,"Rendelésre!",{"$f":"G1252*H1252","v":0}]
[null,null,"SZIVATTYÚ VEZÉRLÉS","DPC-16","EVAK","DPC-16 Digitális szivattyúvezérlő",{"$f":"VLOOKUP(D1253,' '!$1:$1048576,3,0)","v":26811},null,"db",1,"Rendelésre!",{"$f":"G1253*H1253","v":0}]
[]
[null,null,"SZIVATTYÚ VEZÉRLÉS","PM5","ITALTECNIKA","Nyomáskapcsoló PM 1-5 bar",{"$f":"VLOOKUP(D1255,' '!$1:$1048576,3,0)","v":4053},null,"db",1,null,{"$f":"G1255*H1255","v":0}]
[null,null,"SZIVATTYÚ VEZÉRLÉS","PM2-12","ITALTECNIKA","Nyomáskapcsoló PM 2-12 bar",{"$f":"VLOOKUP(D1256,' '!$1:$1048576,3,0)","v":5690},null,"db",1,null,{"$f":"G1256*H1256","v":0}]
[null,null,"SZIVATTYÚ VEZÉRLÉS","50018/8","PEDROLLO","Pedrollo Nyomáskapcsoló PM5/PSG-1",{"$f":"VLOOKUP(D1257,' '!$1:$1048576,3,0)","v":2500},null,"db",1,null,{"$f":"G1257*H1257","v":0}]
[]
[null,null,"SZIVATTYÚ VEZÉRLÉS","HWUA00003","ITALTECNIKA","Szárazonfutás védelem LP3/15",{"$f":"VLOOKUP(D1259,' '!$1:$1048576,3,0)","v":4398},null,"db",1,null,{"$f":"G1259*H1259","v":0}]
[]
[null,null,"SZIVATTYÚ VEZÉRLÉS","QSR 230","MAC3","Szintérzékelő relé QSR 230V",{"$f":"VLOOKUP(D1261,' '!$1:$1048576,3,0)","v":20129},null,"db",1,null,{"$f":"G1261*H1261","v":0}]
[null,null,"SZIVATTYÚ VEZÉRLÉS","QSR 12/24","MAC3","Szintérzékelő relé QSR 12/24V",{"$f":"VLOOKUP(D1262,' '!$1:$1048576,3,0)","v":19170},null,"db",1,null,{"$f":"G1262*H1262","v":0}]
[]
[null,null,"SZIVATTYÚ VEZÉRLÉS","SZKVL_1M","MAC3","Szintkapcsoló 1m kábellel",{"$f":"VLOOKUP(D1264,' '!$1:$1048576,3,0)","v":3502},null,"db",1,null,{"$f":"G1264*H1264","v":0}]
[null,null,"SZIVATTYÚ VEZÉRLÉS","SZKVL_2M","MAC3","Szintkapcsoló 3m kábellel",{"$f":"VLOOKUP(D1265,' '!$1:$1048576,3,0)","v":4727},null,"db",1,null,0]
[null,null,"SZIVATTYÚ VEZÉRLÉS","SZKVL_5M","MAC3","Szintkapcsoló 5m kábellel",{"$f":"VLOOKUP(D1266,' '!$1:$1048576,3,0)","v":5729},null,"db",1,null,0]
[null,null,"SZIVATTYÚ VEZÉRLÉS","SZKVL_10M","MAC3","Szintkapcsoló 10m kábellel",{"$f":"VLOOKUP(D1267,' '!$1:$1048576,3,0)","v":8235},null,"db",1,null,0]
[null,null,"SZIVATTYÚ VEZÉRLÉS","SZKVL_15M","MAC3","Szintkapcsoló 15m kábellel",{"$f":"VLOOKUP(D1268,' '!$1:$1048576,3,0)","v":10231},null,"db",1,null,0]
[null,null,"SZIVATTYÚ VEZÉRLÉS","SZKVL_20M","MAC3","Szintkapcsoló 20m kábellel",{"$f":"VLOOKUP(D1269,' '!$1:$1048576,3,0)","v":12618},null,"db",1,null,0]
[null,null,"SZIVATTYÚ VEZÉRLÉS","AGMAW","MAC3","Szintkapcsoló AGMA W 5m 3x1",{"$f":"VLOOKUP(D1270,' '!$1:$1048576,3,0)","v":10344},null,"db",1,"Rendelésre!",0]
[]
[null,null,"SZIVATTYÚ VEZÉRLÉS","QS00000018",null,"Quickstop Advance, úszókapcsoló KM 3/4\"",{"$f":"VLOOKUP(D1272,' '!$1:$1048576,3,0)","v":4568},null,"db",1,null,{"$f":"G1272*H1272","v":0}]
[]
[null,null,"SZIVATTYÚ VEZÉRLÉS","ELLEN003",null,"Ellensúly szintkapcsolóhoz (kicsi)",{"$f":"VLOOKUP(D1274,' '!$1:$1048576,3,0)","v":920},null,"db",1,null,{"$f":"G1274*H1274","v":0}]
[]
[null,null,"FELSZÍVÓ SZIVATTYÚ","41PNK60A1","PEDROLLO","Pedrollo PKm60",{"$f":"VLOOKUP(D1276,' '!$1:$1048576,3,0)","v":22200},null,"db",1,"Rendelésre!",{"$f":"G1276*H1276","v":0}]
[null,null,"FELSZÍVÓ SZIVATTYÚ","41PNK67A1","PEDROLLO","Pedrollo PKm65",{"$f":"VLOOKUP(D1277,' '!$1:$1048576,3,0)","v":26600},null,"db",1,"Rendelésre!",{"$f":"G1277*H1277","v":0}]
[]
[null,null,"FELSZÍVÓ SZIVATTYÚ","41PNQ60A1","PEDROLLO","Pedrollo PQm60",{"$f":"VLOOKUP(D1279,' '!$1:$1048576,3,0)","v":21300},null,"db",1,"Rendelésre!",{"$f":"G1279*H1279","v":0}]
[null,null,"FELSZÍVÓ SZIVATTYÚ","41PNK67A1","PEDROLLO","Pedrollo PQm65",{"$f":"VLOOKUP(D1280,' '!$1:$1048576,3,0)","v":26600},null,"db",1,"Rendelésre!",{"$f":"G1280*H1280","v":0}]
[]
[null,null,"FELSZÍVÓ SZIVATTYÚ","44CI00A1","PEDROLLO","Pedrollo CPm100 szivattyú",{"$f":"VLOOKUP(D1282,' '!$1:$1048576,3,0)","v":31600},null,"db",1,"Rendelésre!",{"$f":"G1282*H1282","v":0}]
[null,null,"FELSZÍVÓ SZIVATTYÚ","44CI03A1","PEDROLLO","Pedrollo CPm130 szivattyú",{"$f":"VLOOKUP(D1283,' '!$1:$1048576,3,0)","v":32700},null,"db",1,"Rendelésre!",{"$f":"G1283*H1283","v":0}]
[null,null,"FELSZÍVÓ SZIVATTYÚ","44CI160A1","PEDROLLO","Pedrollo CPm150",{"$f":"VLOOKUP(D1284,' '!$1:$1048576,3,0)","v":44500},null,"db",1,"Rendelésre!",{"$f":"G1284*H1284","v":0}]
[null,null,"FELSZÍVÓ SZIVATTYÚ","44CI16A1","PEDROLLO","Pedrollo CPm158 szivattyú",{"$f":"VLOOKUP(D1285,' '!$1:$1048576,3,0)","v":44500},null,"db",1,"Rendelésre!",{"$f":"G1285*H1285","v":0}]
[]
[null,null,"FELSZÍVÓ SZIVATTYÚ","452CT303CA","PEDROLLO","Pedrollo 2CP32/200C",{"$f":"VLOOKUP(D1287,' '!$1:$1048576,3,0)","v":198000},null,"db",1,"Rendelésre!",{"$f":"G1287*H1287","v":0}]
[]
[null,null,"FELSZÍVÓ SZIVATTYÚ","46JSNP1CA1","PEDROLLO","Pedrollo JSWm 1CX szivattyú",{"$f":"VLOOKUP(D1289,' '!$1:$1048576,3,0)","v":30900},null,"db",1,"Rendelésre!",{"$f":"G1289*H1289","v":0}]
[null,null,"FELSZÍVÓ SZIVATTYÚ","46JSNP1AA1","PEDROLLO","Pedrollo JSWm 1AX szivattyú",{"$f":"VLOOKUP(D1290,' '!$1:$1048576,3,0)","v":31400},null,"db",1,"Rendelésre!",{"$f":"G1290*H1290","v":0}]
[]
[null,null,"FELSZÍVÓ SZIVATTYÚ","46JSNP7A10A1","PEDROLLO","Pedrollo JSWm 2CX szivattyú",{"$f":"VLOOKUP(D1292,' '!$1:$1048576,3,0)","v":35600},null,"db",1,null,{"$f":"G1292*H1292","v":0}]
[null,null,"FELSZÍVÓ SZIVATTYÚ","46JSNP7A12A1","PEDROLLO","Pedrollo JSWm 2BX szivattyú",{"$f":"VLOOKUP(D1293,' '!$1:$1048576,3,0)","v":44500},null,"db",1,"Rendelésre!",{"$f":"G1293*H1293","v":0}]
[null,null,"FELSZÍVÓ SZIVATTYÚ","46JSNP7A15A1","PEDROLLO","Pedrollo JSWm 2AX szivattyú",{"$f":"VLOOKUP(D1294,' '!$1:$1048576,3,0)","v":39100},null,"db",1,null,{"$f":"G1294*H1294","v":0}]
[]
[null,null,"FELSZÍVÓ SZIVATTYÚ","JSWm15.24CL","PEDROLLO","Pedrollo JSWm2AX-24CL, házi vízmű",{"$f":"VLOOKUP(D1296,' '!$1:$1048576,3,0)","v":56300},null,"db",1,"Rendelésre!",{"$f":"G1296*H1296","v":0}]
[]
[null,null,"FELSZÍVÓ SZIVATTYÚ","46JS8AH10A1","PEDROLLO","Pedrollo JSWm 3BH szivattyú",{"$f":"VLOOKUP(D1298,' '!$1:$1048576,3,0)","v":90400},null,"db",1,"Rendelésre!",{"$f":"G1298*H1298","v":0}]
[null,null,"FELSZÍVÓ SZIVATTYÚ","46JS8AM10A1","PEDROLLO","Pedrollo JSWm 3BM szivattyú",{"$f":"VLOOKUP(D1299,' '!$1:$1048576,3,0)","v":86100},null,"db",1,"Rendelésre!",{"$f":"G1299*H1299","v":0}]
[null,null,"FELSZÍVÓ SZIVATTYÚ","46JS8AL10A1","PEDROLLO","Pedrollo JSWm 3BL szivattyú",{"$f":"VLOOKUP(D1300,' '!$1:$1048576,3,0)","v":86100},null,"db",1,"Rendelésre!",{"$f":"G1300*H1300","v":0}]
[]
[null,null,"FELSZÍVÓ SZIVATTYÚ","46JSRM21A1","PEDROLLO","Pedrollo JCRm 2A szivattyú",{"$f":"VLOOKUP(D1302,' '!$1:$1048576,3,0)","v":56100},null,"db",1,"Rendelésre!",{"$f":"G1302*H1302","v":0}]
[]
[null,null,"BÚVÁRSZIVATTYÚ","49M41210LA1","PEDROLLO","Pedrollo 4BLOCKm 2/10 + 20 m kábel",{"$f":"VLOOKUP(D1304,' '!$1:$1048576,3,0)","v":85000},null,"db",1,null,{"$f":"G1304*H1304","v":0}]
[null,null,"BÚVÁRSZIVATTYÚ","49M41213LA1","PEDROLLO","Pedrollo 4BLOCKm 2/13 + 20 m kábel",{"$f":"VLOOKUP(D1305,' '!$1:$1048576,3,0)","v":90200},null,"db",1,null,0]
[null,null,"BÚVÁRSZIVATTYÚ","49M41220LA1","PEDROLLO","Pedrollo 4BLOCKm 2/20 + 20 m kábel",{"$f":"VLOOKUP(D1306,' '!$1:$1048576,3,0)","v":117500},null,"db",1,"Rendelésre!",0]
[null,null,"BÚVÁRSZIVATTYÚ","49M41407LA1","PEDROLLO","Pedrollo 4BLOCKm 4/7 + 20 m kábel",{"$f":"VLOOKUP(D1307,' '!$1:$1048576,3,0)","v":85500},null,"db",1,"Rendelésre!",0]
[null,null,"BÚVÁRSZIVATTYÚ","49M41409LA1","PEDROLLO","Pedrollo 4BLOCKm 4/9 + 20 m kábel",{"$f":"VLOOKUP(D1308,' '!$1:$1048576,3,0)","v":90200},null,"db",1,null,0]
[null,null,"BÚVÁRSZIVATTYÚ","49M41414LA1","PEDROLLO","Pedrollo 4BLOCKm 4/14 + 20 m kábel",{"$f":"VLOOKUP(D1309,' '!$1:$1048576,3,0)","v":108200},null,"db",1,"Rendelésre!",0]
[null,null,"BÚVÁRSZIVATTYÚ","49M41604LA1","PEDROLLO","Pedrollo 4BLOCKm 6/4 + 20 m kábel",{"$f":"VLOOKUP(D1310,' '!$1:$1048576,3,0)","v":87600},null,"db",1,"Rendelésre!",0]
[null,null,"BÚVÁRSZIVATTYÚ","49M41606LA1","PEDROLLO","Pedrollo 4BLOCKm 6/6 + 20 m kábel",{"$f":"VLOOKUP(D1311,' '!$1:$1048576,3,0)","v":94100},null,"db",1,"Rendelésre!",0]
[null,null,"BÚVÁRSZIVATTYÚ","49M41609LA1","PEDROLLO","Pedrollo 4BLOCKm 6/9 + 20 m kábel",{"$f":"VLOOKUP(D1312,' '!$1:$1048576,3,0)","v":116400},null,"db",1,"Rendelésre!",0]
[]
[null,null,"ÁSOTT KÚT/CISZTERNA  SZIVATTYÚ","48SN0110A1","PEDROLLO","Pedrollo NKm 2/2 ásottkút szivattyú",{"$f":"VLOOKUP(D1314,' '!$1:$1048576,3,0)","v":102700},null,"db",1,"Rendelésre!",{"$f":"G1314*H1314","v":0}]
[null,null,"ÁSOTT KÚT/CISZTERNA  SZIVATTYÚ","48SN0115A1","PEDROLLO","Pedrollo NKm 2/3 ásottkút szivattyú",{"$f":"VLOOKUP(D1315,' '!$1:$1048576,3,0)","v":105300},null,"db",1,"Rendelésre!",{"$f":"G1315*H1315","v":0}]
[null,null,"ÁSOTT KÚT/CISZTERNA  SZIVATTYÚ","48SN0140A1","PEDROLLO","Pedrollo NKm 4/3 ásottkút szivattyú",{"$f":"VLOOKUP(D1316,' '!$1:$1048576,3,0)","v":105300},null,"db",1,"Rendelésre!",{"$f":"G1316*H1316","v":0}]
[null,null,"ÁSOTT KÚT/CISZTERNA  SZIVATTYÚ","48SN0145A1","PEDROLLO","Pedrollo NKm 4/4 ásottkút szivattyú",{"$f":"VLOOKUP(D1317,' '!$1:$1048576,3,0)","v":110600},null,"db",1,"Rendelésre!",{"$f":"G1317*H1317","v":0}]
[]
[null,null,"ÁSOTT KÚT/CISZTERNA  SZIVATTYÚ","48SN2110A1","PEDROLLO","Pedrollo NKm 2/2-GE ásottkút szivattyú",{"$f":"VLOOKUP(D1319,' '!$1:$1048576,3,0)","v":105300},null,"db",1,"Rendelésre!",{"$f":"G1319*H1319","v":0}]
[null,null,"ÁSOTT KÚT/CISZTERNA  SZIVATTYÚ","48SN2115A1","PEDROLLO","Pedrollo NKm 2/3-GE ásottkút szivattyú",{"$f":"VLOOKUP(D1320,' '!$1:$1048576,3,0)","v":108000},null,"db",1,"Rendelésre!",{"$f":"G1320*H1320","v":0}]
[null,null,"ÁSOTT KÚT/CISZTERNA  SZIVATTYÚ","48SN2120A1","PEDROLLO","Pedrollo NKm 2/4-GE ásottkút szivattyú",{"$f":"VLOOKUP(D1321,' '!$1:$1048576,3,0)","v":113200},null,"db",1,"Rendelésre!",{"$f":"G1321*H1321","v":0}]
[null,null,"ÁSOTT KÚT/CISZTERNA  SZIVATTYÚ","48SN2140A1","PEDROLLO","Pedrollo NKm 4/3-GE ásottkút szivattyú",{"$f":"VLOOKUP(D1322,' '!$1:$1048576,3,0)","v":108000},null,"db",1,"Rendelésre!",{"$f":"G1322*H1322","v":0}]
[null,null,"ÁSOTT KÚT/CISZTERNA  SZIVATTYÚ","48SN2150A1","PEDROLLO","Pedrollo NKm 4/5-GE ásottkút szivattyú",{"$f":"VLOOKUP(D1323,' '!$1:$1048576,3,0)","v":117200},null,"db",1,"Rendelésre!",{"$f":"G1323*H1323","v":0}]
[]
[null,null,"ÁSOTT KÚT/CISZTERNA  SZIVATTYÚ","48SP2115A1","PEDROLLO","Pedrollo UPm 2/3-GE",{"$f":"VLOOKUP(D1325,' '!$1:$1048576,3,0)","v":97900},null,"db",1,"Rendelésre!",{"$f":"G1325*H1325","v":0}]
[null,null,"ÁSOTT KÚT/CISZTERNA  SZIVATTYÚ","48SP2120A1","PEDROLLO","Pedrollo UPm 2/4-GE",{"$f":"VLOOKUP(D1326,' '!$1:$1048576,3,0)","v":103200},null,"db",1,"Rendelésre!",0]
[null,null,"ÁSOTT KÚT/CISZTERNA  SZIVATTYÚ","48SP2125A1","PEDROLLO","Pedrollo UPm 2/5-GE",{"$f":"VLOOKUP(D1327,' '!$1:$1048576,3,0)","v":109900},null,"db",1,"Rendelésre!",0]
[null,null,"ÁSOTT KÚT/CISZTERNA  SZIVATTYÚ","48SP2145A1","PEDROLLO","Pedrollo UPm 4/4-GE",{"$f":"VLOOKUP(D1328,' '!$1:$1048576,3,0)","v":103200},null,"db",1,"Rendelésre!",0]
[null,null,"ÁSOTT KÚT/CISZTERNA  SZIVATTYÚ","48SP2150A1","PEDROLLO","Pedrollo UPm 4/5-GE",{"$f":"VLOOKUP(D1329,' '!$1:$1048576,3,0)","v":109900},null,"db",1,"Rendelésre!",0]
[null,null,"ÁSOTT KÚT/CISZTERNA  SZIVATTYÚ","48SP2155A1","PEDROLLO","Pedrollo UPm 4/6-GE",{"$f":"VLOOKUP(D1330,' '!$1:$1048576,3,0)","v":116600},null,"db",1,"Rendelésre!",0]
[]
[null,null,"BÚVÁRSZIVATTYÚ","4940113WLA1","PEDROLLO","Pedrollo 4SR1m/13-PD",{"$f":"VLOOKUP(D1332,' '!$1:$1048576,3,0)","v":97900},null,"db",1,"Rendelésre!",{"$f":"G1332*H1332","v":0}]
[null,null,"BÚVÁRSZIVATTYÚ","4940227WLA1","PEDROLLO","Pedrollo 4SR2m/27-PD",{"$f":"VLOOKUP(D1333,' '!$1:$1048576,3,0)","v":142300},null,"db",1,"Rendelésre!",0]
[null,null,"BÚVÁRSZIVATTYÚ","4940418WLA1","PEDROLLO","Pedrollo 4SR4m/18-PD",{"$f":"VLOOKUP(D1334,' '!$1:$1048576,3,0)","v":133500},null,"db",1,"Rendelésre!",0]
[null,null,"BÚVÁRSZIVATTYÚ","4940613WLA1","PEDROLLO","Pedrollo 4SR6m/13-PD",{"$f":"VLOOKUP(D1335,' '!$1:$1048576,3,0)","v":130900},null,"db",1,"Rendelésre!",0]
[null,null,"BÚVÁRSZIVATTYÚ","4940617WLA1","PEDROLLO","Pedrollo 4SR6m/17-PD",{"$f":"VLOOKUP(D1336,' '!$1:$1048576,3,0)","v":159300},null,"db",1,"Rendelésre!",0]
[null,null,"BÚVÁRSZIVATTYÚ","4940813WLA1","PEDROLLO","Pedrollo 4SR8m/13-PD",{"$f":"VLOOKUP(D1337,' '!$1:$1048576,3,0)","v":149800},null,"db",1,"Rendelésre!",0]
[]
[null,null,"BÚVÁRSZIVATTYÚ","4940613WLA","PEDROLLO","Pedrollo 4SR6/13-PD",{"$f":"VLOOKUP(D1339,' '!$1:$1048576,3,0)","v":119600},null,"db",1,"Rendelésre!",{"$f":"G1339*H1339","v":0}]
[null,null,"BÚVÁRSZIVATTYÚ","4940623WLA","PEDROLLO","Pedrollo 4SR6/23-PD",{"$f":"VLOOKUP(D1340,' '!$1:$1048576,3,0)","v":183800},null,"db",1,"Rendelésre!",0]
[null,null,"BÚVÁRSZIVATTYÚ","4940813WLA","PEDROLLO","Pedrollo 4SR8/13-PD",{"$f":"VLOOKUP(D1341,' '!$1:$1048576,3,0)","v":132300},null,"db",1,"Rendelésre!",0]
[null,null,"BÚVÁRSZIVATTYÚ","4940817WLA","PEDROLLO","Pedrollo 4SR8/17-PD",{"$f":"VLOOKUP(D1342,' '!$1:$1048576,3,0)","v":166100},null,"db",1,"Rendelésre!",0]
[null,null,"BÚVÁRSZIVATTYÚ","49412N07WLA","PEDROLLO","Pedrollo 4SR12/7-PD",{"$f":"VLOOKUP(D1343,' '!$1:$1048576,3,0)","v":119300},null,"db",1,"Rendelésre!",0]
[null,null,"BÚVÁRSZIVATTYÚ","49412N19WLA","PEDROLLO","Pedrollo 4SR12/19-PD",{"$f":"VLOOKUP(D1344,' '!$1:$1048576,3,0)","v":228800},null,"db",1,"Rendelésre!",0]
[null,null,"BÚVÁRSZIVATTYÚ","49412N25WLA","PEDROLLO","Pedrollo 4SR12/25-PD",{"$f":"VLOOKUP(D1345,' '!$1:$1048576,3,0)","v":302300},null,"db",1,"Rendelésre!",0]
[]
[null,null,"TARTÁLY","HT/24l",null,"Hidrofor tartály Fekvő 24L, 1\" KM",{"$f":"VLOOKUP(D1347,' '!$1:$1048576,3,0)","v":6500},null,"db",1,null,{"$f":"G1347*H1347","v":0}]
[]
["ÚJ",null,"TARTÁLY","AR5",null,"Hidrofor tartály Álló 5L, 3/4\" KM",{"$f":"VLOOKUP(D1349,' '!$1:$1048576,3,0)","v":6444},null,"db",1,null,{"$f":"G1349*H1349","v":0}]
[null,null,"TARTÁLY","HID50Á",null,"Hidrofor tartály Álló 1\" 50L","Érdeklődjön!",null,"db",1,"Rendelésre!",{"$f":"G1350","v":"Érdeklődjön!"}]
[null,null,"TARTÁLY","HT-80L",null,"Hidrofor tartály Álló 1\" 80L","Érdeklődjön!",null,"db",1,"Rendelésre!",{"$f":"G1351","v":"Érdeklődjön!"}]
[null,null,"TARTÁLY","HT-100L",null,"Hidrofor tartály Álló 1\" 100L","Érdeklődjön!",null,"db",1,"Rendelésre!",{"$f":"G1352","v":"Érdeklődjön!"}]
[]
[null,null,"MENETES IDOM","5T",null,"5 utas T-idom, RÉZ",{"$f":"VLOOKUP(D1354,' '!$1:$1048576,3,0)","v":1701},null,"db",1,null,{"$f":"G1354*H1354","v":0}]
[null,null,"MENETES IDOM","50016V6",null,"5 utas T-idom, RÉZ, hosszú",{"$f":"VLOOKUP(D1355,' '!$1:$1048576,3,0)","v":1933},null,"db",1,null,{"$f":"G1355*H1355","v":0}]
[]
["ÚJ",null,null,"fcs1kbE",null,"Flexicső EGYENES, 600mm, 1\" KB",{"$f":"VLOOKUP(D1357,' '!$1:$1048576,3,0)","v":3449},null,"db",1,null,{"$f":"G1357*H1357","v":0}]
["ÚJ",null,null,"fcs1kbK",null,"Flexicső KÖNYÖK, 600mm, 1\" KB",{"$f":"VLOOKUP(D1358,' '!$1:$1048576,3,0)","v":3899},null,"db",1,null,{"$f":"G1358*H1358","v":0}]
[]
[null,null,"SZIVATTYÚ AKNA","T6x5",null,"Szivattyú akna mű.a 600x500",{"$f":"VLOOKUP(D1360,' '!$1:$1048576,3,0)","v":27300},null,"db",1,null,{"$f":"G1360*H1360","v":0}]
[null,null,"SZIVATTYÚ AKNA","T7x6",null,"Szivattyú akna mű.a 700x600",{"$f":"VLOOKUP(D1361,' '!$1:$1048576,3,0)","v":33900},null,"db",1,null,{"$f":"G1361*H1361","v":0}]
[]
[null,"EGYÉB TERMÉKEK"]
[]
[null,null,"TÖMÍTŐ ANYAG","2007019_THC",null,"Teflonszalag, 12mmx12m, 0,1mm",{"$f":"VLOOKUP(D1365,' '!$1:$1048576,3,0)","v":202},null,"db",10,null,{"$f":"G1365*H1365","v":0}]
[null,null,"TÖMÍTŐ ANYAG","Loctite 55","LOCTITE","Loctite 55 teflonos menettömítő",{"$f":"VLOOKUP(D1366,' '!$1:$1048576,3,0)","v":3227},null,"db",1,null,{"$f":"G1366*H1366","v":0}]
[]
["ÚJ",null,"ELEM","BAT_CR2032","GP","CR2032 (3V)",{"$f":"VLOOKUP(D1368,' '!$1:$1048576,3,0)","v":385},null,"db","5",null,{"$f":"G1368*H1368","v":0}]
["ÚJ",null,"ELEM","BAT_AA_LR6","DURACELL","Industrial AA LR6 (1.5V)",{"$f":"VLOOKUP(D1369,' '!$1:$1048576,3,0)","v":250},null,"db","10",null,{"$f":"G1369*H1369","v":0}]
["ÚJ",null,"ELEM","BAT_AAA_LR03","DURACELL","Industrial AAA LR03 (1.5V)",{"$f":"VLOOKUP(D1370,' '!$1:$1048576,3,0)","v":255},null,"db","10",null,{"$f":"G1370*H1370","v":0}]
["ÚJ",null,"ELEM","BAT_9V_6LP3146","DURACELL","Industrial 9V 6LP3146 (9V)",{"$f":"VLOOKUP(D1371,' '!$1:$1048576,3,0)","v":765},null,"db","10",null,{"$f":"G1371*H1371","v":0}]
[]
["ÚJ",null,"KÁBEL","YSLY-JZ 2/0,75",null,"Kábel YSLY-JZ 2 x 0.75 mm2",{"$f":"VLOOKUP(D1373,' '!$1:$1048576,3,0)","v":74},null,"m",1,null,{"$f":"G1373*H1373","v":0}]
["ÚJ",null,"KÁBEL","YSLY-JZ 5/0,75",null,"Kábel YSLY-JZ 5 x 0.75 mm2",{"$f":"VLOOKUP(D1374,' '!$1:$1048576,3,0)","v":150},null,"m",1,null,{"$f":"G1374*H1374","v":0}]
[null,null,"KÁBEL","YSLY-JZ 7/0,75",null,"Kábel YSLY-JZ 7 x 0.75 mm2",{"$f":"VLOOKUP(D1375,' '!$1:$1048576,3,0)","v":204},null,"m",1,null,{"$f":"G1375*H1375","v":0}]
[null,null,"KÁBEL","YSLY-JZ 10/0,75",null,"Kábel YSLY-JZ 10x0.75 mm2",{"$f":"VLOOKUP(D1376,' '!$1:$1048576,3,0)","v":282},null,"m",1,null,{"$f":"G1376*H1376","v":0}]
[]
["ÚJ",null,"KÁBEL","S3-3/10/1.8",null,"Lengő csatlakozó, KÖNYÖK, 1.8 m, 3 x 1 mm2, szürke",{"$f":"VLOOKUP(D1378,' '!$1:$1048576,3,0)","v":1083},null,"m",1,null,{"$f":"G1378*H1378","v":0}]
["ÚJ",null,"KÁBEL","S3-3/15/1.8",null,"Lengő csatlakozó, KÖNYÖK, 1.8 m, 3 x 1.5 mm2, szürke",{"$f":"VLOOKUP(D1379,' '!$1:$1048576,3,0)","v":1335},null,"m",1,null,{"$f":"G1379*H1379","v":0}]
[]
[null,null,"VÍZMENTES CSATLAKOZÓ","H RP-KU316","3M","Vízmentes csatlakozó, 3M 316IR, 3db 1.5 mm2",{"$f":"VLOOKUP(D1381,' '!$1:$1048576,3,0)","v":275},null,"db","30",null,{"$f":"G1381*H1381","v":0}]
[null,null,"VÍZMENTES CSATLAKOZÓ","3MDBOB6","3M","Vízmentes csatlakozó, 3M DBO/B-6",{"$f":"VLOOKUP(D1382,' '!$1:$1048576,3,0)","v":547},null,"db","10",null,0]
[null,null,"VÍZMENTES CSATLAKOZÓ","DBRY6","3M","Vízmentes csatlakozó, 3M DBR/Y-6",{"$f":"VLOOKUP(D1383,' '!$1:$1048576,3,0)","v":690},null,"db",10,null,0]
[null,null,"VÍZMENTES CSATLAKOZÓ","210.6011001","BLAZING","Vízmentes csatlakozó, BLAZING BVS-1 (kék)",{"$f":"VLOOKUP(D1384,' '!$1:$1048576,3,0)","v":275},null,"db",25,null,0]
[null,null,"VÍZMENTES CSATLAKOZÓ","210.6039001","BLAZING","Vízmentes csatlakozó, BLAZING LV9000 (sárga)",{"$f":"VLOOKUP(D1385,' '!$1:$1048576,3,0)","v":520},null,"db","24",null,0]
[null,null,"VÍZMENTES CSATLAKOZÓ","210.6039501","BLAZING","Vízmentes csatlakozó, BLAZING LV9500 (fekete)",{"$f":"VLOOKUP(D1386,' '!$1:$1048576,3,0)","v":455},null,"db","12",null,0]
[]
[null,null,"TÁPOLDAT ADAGOLÓ","ez-flo 5,7","EZ-FLO","Tápoldat-adagoló Ez-Flo 5,7 liter",{"$f":"VLOOKUP(D1388,' '!$1:$1048576,3,0)","v":72540},null,"db",1,"Rendelésre!",{"$f":"G1388*H1388","v":0}]
[null,null,"TÁPOLDAT ADAGOLÓ","ez-flo kerti","EZ-FLO","Tápoldat-adagoló Ez-Flo kerti csapos",{"$f":"VLOOKUP(D1389,' '!$1:$1048576,3,0)","v":27879},null,"db",1,"Rendelésre!",{"$f":"G1389*H1389","v":0}]
[null,null,"TÁPOLDAT ADAGOLÓ","ez flo táp","EZ-FLO","Tápanyag Ez-Flo adagolóhoz 4,5 l pázsit",{"$f":"VLOOKUP(D1390,' '!$1:$1048576,3,0)","v":3800},null,"db",1,"Rendelésre!",{"$f":"G1390*H1390","v":0}]
[]
[null,null,"PÁRÁSÍTÓ","ORBIT BASIC","ORBIT","Párásító készlet Orbit ALAP",{"$f":"VLOOKUP(D1392,' '!$1:$1048576,3,0)","v":8920},null,"db",1,null,{"$f":"G1392*H1392","v":0}]
[null,null,"PÁRÁSÍTÓ","BASIC BŐV","ORBIT","Párásító készlet Orbit BŐVÍTŐ",{"$f":"VLOOKUP(D1393,' '!$1:$1048576,3,0)","v":7436},null,"db",1,null,{"$f":"G1393*H1393","v":0}]
[null,null,"PÁRÁSÍTÓ","OR 20066","ORBIT","Párásító készlet Orbit CSIPTETŐS",{"$f":"VLOOKUP(D1394,' '!$1:$1048576,3,0)","v":6422},null,"db",1,null,{"$f":"G1394*H1394","v":0}]
[null,null,"PÁRÁSÍTÓ","Flex cobra","ORBIT","Párásító készlet Orbit FLEX COBRA",{"$f":"VLOOKUP(D1395,' '!$1:$1048576,3,0)","v":5318},null,"db",1,null,{"$f":"G1395*H1395","v":0}]
[]
[null,null,"PÁRÁSÍTÓ","OR10106W","ORBIT","Párásító acélbetétes réz fúvóka 1,5l/h",{"$f":"VLOOKUP(D1397,' '!$1:$1048576,3,0)","v":738},null,"db","5",null,{"$f":"G1397*H1397","v":0}]
["ÚJ",null,"PÁRÁSÍTÓ","OR10056W","ORBIT","Párásító fúvóka hosszabbító, acélbetétes réz fúvókával 1,5 l/h",{"$f":"VLOOKUP(D1398,' '!$1:$1048576,3,0)","v":1059},null,"db","5",null,{"$f":"G1398*H1398","v":0}]
[null,null,"PÁRÁSÍTÓ","OR 10115W","ORBIT","Párásító légtelenítő szelep",{"$f":"VLOOKUP(D1399,' '!$1:$1048576,3,0)","v":1829},null,"db",1,null,{"$f":"G1399*H1399","v":0}]
[null,null,"PÁRÁSÍTÓ","OR 10127W","ORBIT","Párásító réz-toldó, 3/8\" lágy csőhöz",{"$f":"VLOOKUP(D1400,' '!$1:$1048576,3,0)","v":1166},null,"db",1,null,{"$f":"G1400*H1400","v":0}]
[null,null,"PÁRÁSÍTÓ","filter cool","ORBIT","Párásító vízlágyító és ioncserélő szűrő",{"$f":"VLOOKUP(D1401,' '!$1:$1048576,3,0)","v":5811},null,"db",1,"Rendelésre!",{"$f":"G1401*H1401","v":0}]
[]
[null,null,"GEOTEXTIL","Geot 1.5",null,"Geotextil 150g/m2;  2 m széles",{"$f":"VLOOKUP(D1403,' '!$1:$1048576,3,0)","v":408},null,"m",1,null,{"$f":"G1403*H1403","v":0}]
[]
["ÚJ",null,"AGROSZÖVET","AGROSZ1.05x100",null,"Agroszövet 1.05 m széles,100 m tekercsben",{"$f":"VLOOKUP(D1405,' '!$1:$1048576,3,0)","v":17913},null,"db",1,null,{"$f":"G1405*H1405","v":0}]
[]
["ÚJ",null,"VAKONDHÁLÓ","VAKH-PP3-1x100T",null,"Vakondháló 1m széles, 19mm rácsméret, 100 m tekercsben",{"$f":"VLOOKUP(D1407,' '!$1:$1048576,3,0)","v":12900},null,"db",1,null,{"$f":"G1407*H1407","v":0}]
[null,null,"VAKONDHÁLÓ","VAKH-PP3",null,"Vakondháló 2m széles, 19mm rácsméret",{"$f":"VLOOKUP(D1408,' '!$1:$1048576,3,0)","v":258},null,"m",1,null,{"$f":"G1408*H1408","v":0}]
[]
[null,null,"GYEPRÁCS","Gyeprács BV",null,"Gyeprács 7db/m2",{"$f":"VLOOKUP(D1410,' '!$1:$1048576,3,0)","v":445},null,"db",1,"Rendelésre!",{"$f":"G1410*H1410","v":0}]
[]
[null,null,"GYEPSZEGÉLY","GyepSz FEK",null,"Gyepszegély FEKETE, H:1 m",{"$f":"VLOOKUP(D1412,' '!$1:$1048576,3,0)","v":900},null,"db",10,null,{"$f":"G1412*H1412","v":0}]
[null,null,"GYEPSZEGÉLY","GyepSz ZOLD",null,"Gyepszegély ZÖLD, H:1 m",{"$f":"VLOOKUP(D1413,' '!$1:$1048576,3,0)","v":900},null,"db",10,null,{"$f":"G1413*H1413","v":0}]
[]
[null,null,"GYEPSZEGÉLY","DCN3000","DCN","Gyepszegély DCN 3000, 6 mm, M:10 cm, H:6,1 m",{"$f":"VLOOKUP(D1415,' '!$1:$1048576,3,0)","v":3032},null,"db",1,null,{"$f":"G1415*H1415","v":0}]
[null,null,"GYEPSZEGÉLY","DCN4000","DCN","Gyepszegély DCN 4000, 8 mm, M:10 cm, H:6,1 m",{"$f":"VLOOKUP(D1416,' '!$1:$1048576,3,0)","v":4299},null,"db",1,null,{"$f":"G1416*H1416","v":0}]
[null,null,"GYEPSZEGÉLY","DCN5200","DCN","Gyepszegély DCN 5200, 12 mm, M:10 cm, H:6,1 m",{"$f":"VLOOKUP(D1417,' '!$1:$1048576,3,0)","v":4693},null,"db",1,null,{"$f":"G1417*H1417","v":0}]
[]
[null,null,"GYEPSZEGÉLY","EEA1","EVEREDGE","Gyepszegély EVEREDGE A1 Klasszik fémszegély 1000x75x1,6mm BARNA",{"$f":"VLOOKUP(D1419,' '!$1:$1048576,3,0)","v":2500},null,"db",1,null,{"$f":"G1419*H1419","v":0}]
[null,null,"GYEPSZEGÉLY","EEA7","EVEREDGE","Gyepszegély EVEREDGE A7 Klasszik fémszegély 1000x75x1,6mm",{"$f":"VLOOKUP(D1420,' '!$1:$1048576,3,0)","v":2500},null,"db",1,null,{"$f":"G1420*H1420","v":0}]
[]
[null,null,null,"PKIT 1",null,"Nyomáskarakterisztika-mérő készlet",{"$f":"VLOOKUP(D1422,' '!$1:$1048576,3,0)","v":43270},null,"db",1,null,{"$f":"G1422*H1422","v":0}]
[]
[null,null,null,2801,null,"Szórófej Állvány 3/4\" (1/2\" BM adapterrel)",{"$f":"VLOOKUP(D1424,' '!$1:$1048576,3,0)","v":4550},null,"db",1,"Rendelésre!",{"$f":"G1424*H1424","v":0}]
[]
[null,"FŰMAGOK ÉS MŰTRÁGYÁK"]
[null,"FŰMAGOK"]
[]
[null,null,"FŰMAG","FűmagPerf5","ICL","PERFORMANCE, 5kg",{"$f":"VLOOKUP(D1429,' '!$1:$1048576,3,0)","v":13125},null,"db",1,"Rendelésre!",{"$f":"G1429*H1429","v":0}]
[null,null,"FŰMAG","FűmagS&S5","ICL","SUN&SHADE, 5kg",{"$f":"VLOOKUP(D1430,' '!$1:$1048576,3,0)","v":10534},null,"db",1,"Rendelésre!",{"$f":"G1430*H1430","v":0}]
[null,null,"FŰMAG","FűmagFin5","ICL","FINESSE, 5kg",{"$f":"VLOOKUP(D1431,' '!$1:$1048576,3,0)","v":9563},null,"db",1,"Rendelésre!",0]
[]
[null,null,"FŰMAG","FűmagPerf","ICL","PERFORMANCE, 10kg",{"$f":"VLOOKUP(D1433,' '!$1:$1048576,3,0)","v":15598},null,"db",1,null,0]
[null,null,"FŰMAG","FűmagS&S","ICL","SUN&SHADE, 10kg",{"$f":"VLOOKUP(D1434,' '!$1:$1048576,3,0)","v":16940},null,"db",1,null,0]
[null,null,"FŰMAG","FűmagFin","ICL","FINESSE, 10kg",{"$f":"VLOOKUP(D1435,' '!$1:$1048576,3,0)","v":15323},null,"db",1,"Rendelésre!",{"$f":"G1435*H1435","v":0}]
[null,null,"FŰMAG","FűmagSSUPREME","ICL","SUPREME, 10kg",{"$f":"VLOOKUP(D1436,' '!$1:$1048576,3,0)","v":18500},null,"db",1,"Rendelésre!",{"$f":"G1436*H1436","v":0}]
[null,null,"FŰMAG","FűmagSSTRONG","ICL","STRONG, 10kg",{"$f":"VLOOKUP(D1437,' '!$1:$1048576,3,0)","v":18087},null,"db",1,"Rendelésre!",{"$f":"G1437*H1437","v":0}]
[null,null,"FŰMAG","6015/3105","ICL","TOSCANA, 10kg",{"$f":"VLOOKUP(D1438,' '!$1:$1048576,3,0)","v":19800},null,"db",1,"Rendelésre!",0]
[null,null,"FŰMAG","FűmagSREGENERATOR+","ICL","REGENERATOR PLUS, 10kg",{"$f":"VLOOKUP(D1439,' '!$1:$1048576,3,0)","v":18750},null,"db",1,"Rendelésre!",0]
[]
[null,"MŰTRÁGYÁK"]
[]
[null,null,"MŰTRÁGYA","Everris NEW","ICL","NEW GRASS (3 hónap), 15 kg",{"$f":"VLOOKUP(D1443,' '!$1:$1048576,3,0)","v":13493},null,"db",1,null,{"$f":"G1443*H1443","v":0}]
[null,null,"MŰTRÁGYA","Everris 2-3","ICL","2-3 HÓNAP, NPK 24+5+12; 15 kg; 420m^2",{"$f":"VLOOKUP(D1444,' '!$1:$1048576,3,0)","v":12106},null,"db",1,null,0]
[null,null,"MŰTRÁGYA","Everris 4-5","ICL","4-5 HÓNAP, 15 kg",{"$f":"VLOOKUP(D1445,' '!$1:$1048576,3,0)","v":15035},null,"db",1,"Rendelésre!",0]
[null,null,"MŰTRÁGYA","Everris 8-9","ICL","8-9 HÓNAP, 15 kg",{"$f":"VLOOKUP(D1446,' '!$1:$1048576,3,0)","v":15535},null,"db",1,"Rendelésre!",0]
[]
[null,null,"MŰTRÁGYA","Everris GYOM","ICL","GYOMÍRTÓS, NPK 22+05+05+2,4D+Dikamba; 10kg",{"$f":"VLOOKUP(D1448,' '!$1:$1048576,3,0)","v":10303},null,"db",1,null,0]
[null,null,"MŰTRÁGYA","Everris MCS","ICL","MOHÁSODÁS CSÖKK., 15 kg",{"$f":"VLOOKUP(D1449,' '!$1:$1048576,3,0)","v":14343},null,"db",1,null,0]
[null,null,"MŰTRÁGYA","Everris ŐT","ICL","ŐSZI-TÉLI, 15 kg",{"$f":"VLOOKUP(D1450,' '!$1:$1048576,3,0)","v":13650},null,"db",1,"Rendelésre!",0]
[null,null,"MŰTRÁGYA","Everris STRESS","ICL","STRESS C.(2-3 hónap), 15 kg",{"$f":"VLOOKUP(D1451,' '!$1:$1048576,3,0)","v":13130},null,"db",1,"Rendelésre!",0]
[null,null,"MŰTRÁGYA","Everris SHM 20","ICL","STEP HI-MAG, 20 kg, trace element",{"$f":"VLOOKUP(D1452,' '!$1:$1048576,3,0)","v":22464},null,"db",1,"Rendelésre!",0]
[]
[null,null,"MŰTRÁGYA","Everris SM HN 25","ICL","SPORTMASTER High N, 25 kg",{"$f":"VLOOKUP(D1454,' '!$1:$1048576,3,0)","v":14403},null,"db",1,null,0]
[null,null,"MŰTRÁGYA","Everris SM HK 25","ICL","SPORTMASTER High K, 25 kg",{"$f":"VLOOKUP(D1455,' '!$1:$1048576,3,0)","v":14815},null,"db",1,null,0]
[null,null,"MŰTRÁGYA","Everris SM B 25","ICL","SPORTSMASTER Balanced, 18-8-17+2MgO+Fe, 25 kg",{"$f":"VLOOKUP(D1456,' '!$1:$1048576,3,0)","v":14403},null,"db",1,"Rendelésre!",{"$f":"G1456*H1456","v":0}]
[null,null,"MŰTRÁGYA","Everris SM REN","ICL","SPORTMASTER Renovator, 23+23+05, 25 kg",{"$f":"VLOOKUP(D1457,' '!$1:$1048576,3,0)","v":15067},null,"db",1,"Rendelésre!",0]
[null,null,null,null,null,null,null,null,null,null,"Rendelésre!"]
[null,null,"MŰTRÁGYA","Everris SFGT","ICL","SIERRA FORM GT, 20 kg, 25+5+11",{"$f":"VLOOKUP(D1459,' '!$1:$1048576,3,0)","v":18688},null,"db",1,"Rendelésre!",0]
[]
[null,null,"MŰTRÁGYA","Everris OES","ICL","OSMOCOTE Exact Standard, 25 kg",{"$f":"VLOOKUP(D1461,' '!$1:$1048576,3,0)","v":34450},null,"db",1,"Rendelésre!",0]
[null,null,"MŰTRÁGYA","Everris OSM F","ICL","OSMOCOTE Flora",{"$f":"VLOOKUP(D1462,' '!$1:$1048576,3,0)","v":19652},null,"db",1,"Rendelésre!",0]
[]
["ÚJ",null,"MŰTRÁGYA","Yara Mila C","YARA","Yara Mila COMPLEX 25kg, ",{"$f":"VLOOKUP(D1464,' '!$1:$1048576,3,0)","v":8819},null,"db",1,null,0]
[]
[null,"MEDENCEGONDOZÁS"]
[]
["ÚJ",null,null,"T87",null,"Háló, feszes (mágneses)",{"$f":"VLOOKUP(D1468,' '!$1:$1048576,3,0)","v":863},null,"db",1,null,{"$f":"G1468*H1468","v":0}]
["ÚJ",null,null,"T55",null,"Háló, erősített műanyag kerettel, mély hálóval",{"$f":"VLOOKUP(D1469,' '!$1:$1048576,3,0)","v":2414},null,"db",1,null,{"$f":"G1469*H1469","v":0}]
["ÚJ",null,null,"T109B",null,"Háló, alumínium erősítéssel, nagy teherbírású, mély",{"$f":"VLOOKUP(D1470,' '!$1:$1048576,3,0)","v":2496},null,"db",1,null,{"$f":"G1470*H1470","v":0}]
[]
["ÚJ",null,null,"T85/SGL/S",null,"AP nyél, alumínium, 20x0.8x1800",{"$f":"VLOOKUP(D1472,' '!$1:$1048576,3,0)","v":5240},null,"db",1,null,{"$f":"G1472*H1472","v":0}]
["ÚJ",null,null,"T84/DGL6S",null,"AP nyél, alumínium, 20x0.8x2400",{"$f":"VLOOKUP(D1473,' '!$1:$1048576,3,0)","v":7008},null,"db",1,null,{"$f":"G1473*H1473","v":0}]
[]
["ÚJ",null,null,"TN62N",null,"Háló komplett, Economy",{"$f":"VLOOKUP(D1475,' '!$1:$1048576,3,0)","v":1810},null,"db",1,null,{"$f":"G1475*H1475","v":0}]
["ÚJ",null,null,"T64A",null,"Háló komplett, alumínium nyéllel 150 cm (feszes)",{"$f":"VLOOKUP(D1476,' '!$1:$1048576,3,0)","v":2187},null,"db",1,null,{"$f":"G1476*H1476","v":0}]
["ÚJ",null,null,"T302C",null,"Háló komplett, alumínium nyéllel 2*30\" (feszes)",{"$f":"VLOOKUP(D1477,' '!$1:$1048576,3,0)","v":3060},null,"db",1,null,{"$f":"G1477*H1477","v":0}]
[]
["ÚJ",null,null,"36620",null,"Adagoló, úszó",{"$f":"VLOOKUP(D1479,' '!$1:$1048576,3,0)","v":1612},null,"db",1,"Rendelésre!",{"$f":"G1479*H1479","v":0}]
[null,null,null,"46050","ASTRAL POOL","Adagoló, POOL BALLZ",{"$f":"VLOOKUP(D1480,' '!$1:$1048576,3,0)","v":11182},null,"db",1,null,{"$f":"G1480*H1480","v":0}]
[null,null,null,"36620","ASTRAL POOL","Adagoló, úszó, SHARK",{"$f":"VLOOKUP(D1481,' '!$1:$1048576,3,0)","v":1612},null,"db",1,null,0]
[]
[null,null,null,"11416","ASTRAL POOL","Algaölő szer, habzó, ALGAECIDE, 1l",{"$f":"VLOOKUP(D1483,' '!$1:$1048576,3,0)","v":913},null,"db",1,null,0]
[null,null,null,"11417","ASTRAL POOL","Algaölő szer, habzó, ALGAECIDE, 5l",{"$f":"VLOOKUP(D1484,' '!$1:$1048576,3,0)","v":3712},null,"db",1,null,0]
[]
[null,null,null,"16550","ASTRAL POOL","Bróm tabletta, 20g-os, BROMO, 5kg",{"$f":"VLOOKUP(D1486,' '!$1:$1048576,3,0)","v":21560},null,"db",1,null,0]
[]
[null,null,null,"46048","ASTRAL POOL","Klór golyók, kombinált, POOL BALLZ, 16db",{"$f":"VLOOKUP(D1488,' '!$1:$1048576,3,0)","v":5744},null,"db",1,null,0]
[null,null,null,"11393","ASTRAL POOL","Klór granulátum, stabilizált 55%, 1kg",{"$f":"VLOOKUP(D1489,' '!$1:$1048576,3,0)","v":1569},null,"db",1,null,0]
[null,null,null,"29336980","ASTRAL POOL","Klór tabletta, lassan oldódó, ACTION 10, 1kg",{"$f":"VLOOKUP(D1490,' '!$1:$1048576,3,0)","v":2440},null,"db",1,null,0]
[null,null,null,"25320","ASTRAL POOL","Klór tabletta, lassan oldódó, ACTION 10, 5kg",{"$f":"VLOOKUP(D1491,' '!$1:$1048576,3,0)","v":8907},null,"db",1,null,0]
[]
[null,null,null,"11388","ASTRAL POOL","Pelyhesítő folyadék, LIQUID CLARIFIER, 5l",{"$f":"VLOOKUP(D1493,' '!$1:$1048576,3,0)","v":2655},null,"db",1,null,0]
[]
[null,null,null,"11384","ASTRAL POOL","pH csökkentő granulátum, pH MINUSZ, 1.5kg",{"$f":"VLOOKUP(D1495,' '!$1:$1048576,3,0)","v":1420},null,"db",1,null,0]
[null,null,null,"11385","ASTRAL POOL","pH csökkentő granulátum, pH MINUSZ, 8kg",{"$f":"VLOOKUP(D1496,' '!$1:$1048576,3,0)","v":4248},null,"db",1,null,0]
[]
[null,null,null,"16538","ASTRAL POOL","pH növelő granulátum, pH PLUS, 1kg",{"$f":"VLOOKUP(D1498,' '!$1:$1048576,3,0)","v":1214},null,"db",1,null,0]
[null,null,null,"11386","ASTRAL POOL","pH növelő granulátum, pH PLUS, 6kg",{"$f":"VLOOKUP(D1499,' '!$1:$1048576,3,0)","v":3019},null,"db",1,null,0]
[]
[null,null,null,"18723","ASTRAL POOL","Téliesítő folyadék, adagolás: 1l/20m^3, INVERNADOR, 1l",{"$f":"VLOOKUP(D1501,' '!$1:$1048576,3,0)","v":2588},null,"db",1,null,0]
[null,null,null,"11430","ASTRAL POOL","Téliesítő folyadék, adagolás: 1l/20m^3, INVERNADOR, 5 Liter",{"$f":"VLOOKUP(D1502,' '!$1:$1048576,3,0)","v":10602},null,"db",1,null,0]
[]
[null,null,null,"26155","ASTRAL POOL","Vízelemző, tablettás, TESTBLUE",{"$f":"VLOOKUP(D1504,' '!$1:$1048576,3,0)","v":1929},null,"db",1,null,0]
[]
[null,"LOCSOLÁSTECHNIKA"]
[]
["ÚJ",null,null,"53-210","CELLFAST","3 méretű csapcsatlakozó, 1/2\", 3/4\", 1\" BM",{"$f":"VLOOKUP(D1508,' '!$1:$1048576,3,0)","v":956},null,"db",1,null,{"$f":"G1508*H1508","v":0}]
["ÚJ",null,null,"53-540","CELLFAST","4 funkciós locsoló pisztoly készlet 1/2\"",{"$f":"VLOOKUP(D1509,' '!$1:$1048576,3,0)","v":7944},null,"db",1,null,{"$f":"G1509*H1509","v":0}]
[]
["ÚJ",null,null,"52-220","CELLFAST","Elosztó, 2 utas, BM 3/4\", 1\"",{"$f":"VLOOKUP(D1511,' '!$1:$1048576,3,0)","v":1643},null,"db",1,null,{"$f":"G1511*H1511","v":0}]
["ÚJ",null,null,"52-240","CELLFAST","Elosztó, 4 utas, BM 3/4\", 1\"",{"$f":"VLOOKUP(D1512,' '!$1:$1048576,3,0)","v":3430},null,"db",1,null,0]
[]
["ÚJ",null,null,"19-002","CELLFAST","Ízzadócső, ÁTM: 1/2\", 15 m",{"$f":"VLOOKUP(D1514,' '!$1:$1048576,3,0)","v":4166},null,"db",1,null,0]
["ÚJ",null,null,"19-002","CELLFAST","Ízzadócső, ÁTM: 1/2\", 7.5 m",{"$f":"VLOOKUP(D1515,' '!$1:$1048576,3,0)","v":4166},null,"db",1,null,0]
[]
["ÚJ",null,null,"53-510","CELLFAST","Klasszikus többfunkciós locsoló szett 1/2\"",{"$f":"VLOOKUP(D1517,' '!$1:$1048576,3,0)","v":5194},null,"db",1,null,0]
["ÚJ",null,null,"53-515","CELLFAST","Klasszikus többfunkciós locsoló szett 3/4\"",{"$f":"VLOOKUP(D1518,' '!$1:$1048576,3,0)","v":5493},null,"db",1,null,0]
[]
["ÚJ",null,null,"16-200","CELLFAST","Locsolótömlő Hobby ***** ATS2, 6 rétegű, 1/2\" 25m",{"$f":"VLOOKUP(D1520,' '!$1:$1048576,3,0)","v":6862},null,"db",1,null,0]
["ÚJ",null,null,"16-201","CELLFAST","Locsolótömlő Hobby ***** ATS2, 6 rétegű, 1/2\" 50m",{"$f":"VLOOKUP(D1521,' '!$1:$1048576,3,0)","v":13442},null,"db",1,null,0]
["ÚJ",null,null,"16-220","CELLFAST","Locsolótömlő Hobby ***** ATS2, 6 rétegű, 3/4\" 25m",{"$f":"VLOOKUP(D1522,' '!$1:$1048576,3,0)","v":11431},null,"db",1,null,0]
["ÚJ",null,null,"16-221","CELLFAST","Locsolótömlő Hobby ***** ATS2, 6 rétegű, 3/4\" 50m",{"$f":"VLOOKUP(D1523,' '!$1:$1048576,3,0)","v":22401},null,"db",1,null,0]
[]
["ÚJ",null,null,"16-209","CELLFAST","Locsolótömlő Hobby set 1/2\" 20m",{"$f":"VLOOKUP(D1525,' '!$1:$1048576,3,0)","v":9023},null,"db",1,null,0]
[]
["ÚJ",null,null,"13-100","CELLFAST","Locsolótömlő Smart *** ATS Variant, 3 rétegű, 1/2\" 25m",{"$f":"VLOOKUP(D1527,' '!$1:$1048576,3,0)","v":5031},null,"db",1,null,0]
["ÚJ",null,null,"13-101","CELLFAST","Locsolótömlő Smart *** ATS Variant, 3 rétegű, 1/2\" 50m",{"$f":"VLOOKUP(D1528,' '!$1:$1048576,3,0)","v":10055},null,"db",1,null,0]
["ÚJ",null,null,"13-120","CELLFAST","Locsolótömlő Smart *** ATS Variant, 3 rétegű, 3/4\" 25m",{"$f":"VLOOKUP(D1529,' '!$1:$1048576,3,0)","v":8685},null,"db",1,null,0]
["ÚJ",null,null,"13-121","CELLFAST","Locsolótömlő Smart *** ATS Variant, 3 rétegű, 3/4\" 50m",{"$f":"VLOOKUP(D1530,' '!$1:$1048576,3,0)","v":17371},null,"db",1,null,0]
[]
["ÚJ",null,null,"50-725","CELLFAST","O-gyűrű szett",{"$f":"VLOOKUP(D1532,' '!$1:$1048576,3,0)","v":388},null,"db",1,null,0]
[]
["ÚJ",null,null,"22-102","CELLFAST","Slag vízmérték 25m",{"$f":"VLOOKUP(D1534,' '!$1:$1048576,3,0)","v":4017},null,"db",1,null,0]
[]
["ÚJ",null,null,"53-530","CELLFAST","Többfunkciós locsoló pisztoly készlet 1/2\"",{"$f":"VLOOKUP(D1536,' '!$1:$1048576,3,0)","v":7319},null,"db",1,null,0]
["ÚJ",null,null,"53-535","CELLFAST","Többfunkciós locsoló pisztoly készlet 3/4\"",{"$f":"VLOOKUP(D1537,' '!$1:$1048576,3,0)","v":7624},null,"db",1,null,0]
[]
["ÚJ",null,null,"53-120","CELLFAST","Tömlő gyorscsatlakozó, Ergo Stop 1/2\"",{"$f":"VLOOKUP(D1539,' '!$1:$1048576,3,0)","v":1118},null,"db",1,null,0]
["ÚJ",null,null,"53-125","CELLFAST","Tömlő gyorscsatlakozó, Ergo Stop 3/4\"",{"$f":"VLOOKUP(D1540,' '!$1:$1048576,3,0)","v":1305},null,"db",1,null,0]
[]
["ÚJ",null,null,"55-050","CELLFAST","Tömlőkocsi, fém, Explorer",{"$f":"VLOOKUP(D1542,' '!$1:$1048576,3,0)","v":20975},null,"db",1,null,0]
[]
[null,"SZERSZÁMOK"]
[]
[null,null,"SZERSZÁM","MP kulcs","HUNTER","MP Rotator Kulcs",{"$f":"VLOOKUP(D1546,' '!$1:$1048576,3,0)","v":330},null,"db",1,null,{"$f":"G1546*H1546","v":0}]
[null,null,"SZERSZÁM","MP kulcs-vég","HUNTER","MP Rotator Kulcs, VÉG",{"$f":"VLOOKUP(D1547,' '!$1:$1048576,3,0)","v":882},null,"db",1,null,{"$f":"G1547*H1547","v":0}]
[null,null,"SZERSZÁM","MP szűrő","HUNTER","MP Rotator SZŰRŐ",{"$f":"VLOOKUP(D1548,' '!$1:$1048576,3,0)","v":80},null,"db",1,"Rendelésre!",{"$f":"G1548*H1548","v":0}]
[]
[null,null,"SZERSZÁM","695.4022000",null,"Csőlyukasztó tüske, 3mm",{"$f":"VLOOKUP(D1550,' '!$1:$1048576,3,0)","v":277},null,"db",1,null,{"$f":"G1550*H1550","v":0}]
["ÚJ",null,"SZERSZÁM",8006410200,null,"Csőlyukasztó szerszám, 4mm",{"$f":"VLOOKUP(D1551,' '!$1:$1048576,3,0)","v":990},null,"db",1,null,{"$f":"G1551*H1551","v":0}]
[null,null,"SZERSZÁM","IFUS030",null,"Csőlyukasztó szerszám, 3mm",{"$f":"VLOOKUP(D1552,' '!$1:$1048576,3,0)","v":1293},null,"db",1,null,{"$f":"G1552*H1552","v":0}]
[null,null,"SZERSZÁM","CSLY 16/20",null,"Csőlyukasztó FOGÓ, 16/20mm áttételes",{"$f":"VLOOKUP(D1553,' '!$1:$1048576,3,0)","v":3621},null,"db",1,null,{"$f":"G1553*H1553","v":0}]
[]
[null,null,"SZERSZÁM","210.8050000","BLAZING","Csővágó olló 40 mm, BLAZING Switchblade Pro",{"$f":"VLOOKUP(D1555,' '!$1:$1048576,3,0)","v":4067},null,"db",1,null,{"$f":"G1555*H1555","v":0}]
[null,null,"SZERSZÁM","210.8050001","BLAZING","BLAZING Switchblade Pro 5000 penge",{"$f":"VLOOKUP(D1556,' '!$1:$1048576,3,0)","v":2673},null,"db",1,null,{"$f":"G1556*H1556","v":0}]
[null,null,"SZERSZÁM","KPEOLLÓ/42",null,"Csővágó olló 42mm, áttételes",{"$f":"VLOOKUP(D1557,' '!$1:$1048576,3,0)","v":4416},null,"db",1,null,{"$f":"G1557*H1557","v":0}]
[]
["ÚJ",null,"SZERSZÁM","00930","ROTHENB.","Csősorjázó 4-36 mm",{"$f":"VLOOKUP(D1559,' '!$1:$1048576,3,0)","v":5440},null,"db",1,null,{"$f":"G1559*H1559","v":0}]
[]
[null,null,"SZERSZÁM","KPE-KULCS 32063",null,"KPE fitting kulcs 40-63 mm",{"$f":"VLOOKUP(D1561,' '!$1:$1048576,3,0)","v":1780},null,"db",1,null,{"$f":"G1561*H1561","v":0}]
[]
["ÚJ",null,"SZERSZÁM",16064,null,"Kompresszor csatlakozó BRONZ, 1/4\" KM",{"$f":"VLOOKUP(D1563,' '!$1:$1048576,3,0)","v":1074},null,"db",1,null,{"$f":"G1563*H1563","v":0}]
[]
["ÚJ",null,"SZERSZÁM",131403,"FISKARS","Solid ásólapát",{"$f":"VLOOKUP(D1565,' '!$1:$1048576,3,0)","v":5504},null,"db",1,null,{"$f":"G1565*H1565","v":0}]
["ÚJ",null,"SZERSZÁM",131413,"FISKARS","Solid hegyes ásó",{"$f":"VLOOKUP(D1566,' '!$1:$1048576,3,0)","v":5504},null,"db",1,null,0]
["ÚJ",null,"SZERSZÁM",132403,"FISKARS","Solid lapát",{"$f":"VLOOKUP(D1567,' '!$1:$1048576,3,0)","v":5504},null,"db",1,null,0]
["ÚJ",null,"SZERSZÁM",135715,"FISKARS","Solid gereblye",{"$f":"VLOOKUP(D1568,' '!$1:$1048576,3,0)","v":4638},null,"db",1,null,0]
["ÚJ",null,"SZERSZÁM",135713,"FISKARS","Solid kapa",{"$f":"VLOOKUP(D1569,' '!$1:$1048576,3,0)","v":4638},null,"db",1,null,0]
["ÚJ",null,"SZERSZÁM",135714,"FISKARS","Solid talajlazító",{"$f":"VLOOKUP(D1570,' '!$1:$1048576,3,0)","v":4638},null,"db",1,null,0]
[]
["ÚJ",null,"SZERSZÁM",135001,"FISKARS","Solid nyél",{"$f":"VLOOKUP(D1572,' '!$1:$1048576,3,0)","v":2985},null,"db",1,null,{"$f":"G1572*H1572","v":0}]
["ÚJ",null,"SZERSZÁM",135024,"FISKARS","Solid lombseprű fej M-es",{"$f":"VLOOKUP(D1573,' '!$1:$1048576,3,0)","v":1725},null,"db",1,null,{"$f":"G1573*H1573","v":0}]
["ÚJ",null,"SZERSZÁM",135014,"FISKARS","Solid lombseprű fej L-es",{"$f":"VLOOKUP(D1574,' '!$1:$1048576,3,0)","v":2512},null,"db",1,null,{"$f":"G1574*H1574","v":0}]
[]
["ÚJ",null,"SZERSZÁM",135090,"FISKARS","Solid lombseprű XL-es",{"$f":"VLOOKUP(D1576,' '!$1:$1048576,3,0)","v":6685},null,"db",1,null,{"$f":"G1576*H1576","v":0}]
[]
["ÚJ",null,"SZERSZÁM",131400,"FISKARS","Ergonomic ásólapát",{"$f":"VLOOKUP(D1578,' '!$1:$1048576,3,0)","v":7079},null,"db",1,null,{"$f":"G1578*H1578","v":0}]
["ÚJ",null,"SZERSZÁM",131410,"FISKARS","Ergonomic hegyes ásó",{"$f":"VLOOKUP(D1579,' '!$1:$1048576,3,0)","v":7079},null,"db",1,null,0]
["ÚJ",null,"SZERSZÁM",132400,"FISKARS","Ergonomic lapát",{"$f":"VLOOKUP(D1580,' '!$1:$1048576,3,0)","v":7079},null,"db",1,null,0]
["ÚJ",null,"SZERSZÁM",135510,"FISKARS","Ergonomic gereblye 14 fog",{"$f":"VLOOKUP(D1581,' '!$1:$1048576,3,0)","v":5898},null,"db",1,null,0]
["ÚJ",null,"SZERSZÁM",136500,"FISKARS","Ergonomic kapa",{"$f":"VLOOKUP(D1582,' '!$1:$1048576,3,0)","v":5268},null,"db",1,null,0]
["ÚJ",null,"SZERSZÁM",136510,"FISKARS","Ergonomic talajlazító",{"$f":"VLOOKUP(D1583,' '!$1:$1048576,3,0)","v":5504},null,"db",1,null,0]
["ÚJ",null,"SZERSZÁM",133400,"FISKARS","Ergonomic villa",{"$f":"VLOOKUP(D1584,' '!$1:$1048576,3,0)","v":9047},null,"db",1,"Rendelésre!",0]
[]
["ÚJ",null,"SZERSZÁM",135570,"FISKARS","Ergonomic lombseprű",{"$f":"VLOOKUP(D1586,' '!$1:$1048576,3,0)","v":6291},null,"db",1,null,{"$f":"G1586*H1586","v":0}]
[]
["ÚJ",null,"SZERSZÁM",137210,"FISKARS","Premium ültetőkanál, keskeny",{"$f":"VLOOKUP(D1588,' '!$1:$1048576,3,0)","v":2748},null,"db",1,null,{"$f":"G1588*H1588","v":0}]
["ÚJ",null,"SZERSZÁM",137200,"FISKARS","Premium ültetőkanál",{"$f":"VLOOKUP(D1589,' '!$1:$1048576,3,0)","v":2748},null,"db",1,null,{"$f":"G1589*H1589","v":0}]
[]
["ÚJ",null,"SZERSZÁM",111260,"FISKARS","SingleStep, P26 metszőolló",{"$f":"VLOOKUP(D1591,' '!$1:$1048576,3,0)","v":3142},null,"db",1,null,{"$f":"G1591*H1591","v":0}]
["ÚJ",null,"SZERSZÁM",111960,"FISKARS","Professzionális, P90 metszőolló",{"$f":"VLOOKUP(D1592,' '!$1:$1048576,3,0)","v":8560},null,"db",1,null,{"$f":"G1592*H1592","v":0}]
[null,null,"SZERSZÁM",111012,"FISKARS","PowerGearX, PX94 metszőolló",{"$f":"VLOOKUP(D1593,' '!$1:$1048576,3,0)","v":7918},null,"db",1,null,{"$f":"G1593*H1593","v":0}]
[]
["ÚJ",null,"SZERSZÁM",112490,"FISKARS","PowerGearX ágvágó L-es",{"$f":"VLOOKUP(D1595,' '!$1:$1048576,3,0)","v":19677},null,"db",1,"Rendelésre!",{"$f":"G1595*H1595","v":0}]
[]
["ÚJ",null,"SZERSZÁM",123870,"FISKARS","SW73-S Xtract fűrész, penge hossz: 16 cm",{"$f":"VLOOKUP(D1597,' '!$1:$1048576,3,0)","v":6685},null,"db",1,null,{"$f":"G1597*H1597","v":0}]
["ÚJ",null,"SZERSZÁM",123840,"FISKARS","SW84 fűrész, penge hossz: 33 cm",{"$f":"VLOOKUP(D1598,' '!$1:$1048576,3,0)","v":11803},null,"db",1,null,{"$f":"G1598*H1598","v":0}]
[]
["ÚJ",null,"SZERSZÁM",160004,"FISKARS","Kerti kesztyű, 10-es méret",{"$f":"VLOOKUP(D1600,' '!$1:$1048576,3,0)","v":3937},null,"db",1,null,{"$f":"G1600*H1600","v":0}]
[]
["ÚJ",null,"SZERSZÁM","40-002","CELLFAST","Kertészeti ásó hegyes",{"$f":"VLOOKUP(D1602,' '!$1:$1048576,3,0)","v":6950},null,"db",1,"Rendelésre!",{"$f":"G1602*H1602","v":0}]
["ÚJ",null,"SZERSZÁM","40-001","CELLFAST","Kertészeti ásó íves",{"$f":"VLOOKUP(D1603,' '!$1:$1048576,3,0)","v":6950},null,"db",1,"Rendelésre!",0]
["ÚJ",null,"SZERSZÁM","KAY","CELLFAST","Kertészeti csatornaásó",{"$f":"VLOOKUP(D1604,' '!$1:$1048576,3,0)","v":3240},null,"db",1,"Rendelésre!",0]
["ÚJ",null,"SZERSZÁM","92-013","CELLFAST","Kesztyű, speciális",{"$f":"VLOOKUP(D1605,' '!$1:$1048576,3,0)","v":4247},null,"db",1,null,0]
["ÚJ",null,"SZERSZÁM","40-100","CELLFAST","Univerzális gereblye fém nyéllel",{"$f":"VLOOKUP(D1606,' '!$1:$1048576,3,0)","v":5146},null,"db",1,"Rendelésre!",0]
["ÚJ",null,"SZERSZÁM","42-002","CELLFAST","Ültető lapát keskeny",{"$f":"VLOOKUP(D1607,' '!$1:$1048576,3,0)","v":2252},null,"db",1,null,0]
["ÚJ",null,"SZERSZÁM","42-001","CELLFAST","Ültető lapát széles",{"$f":"VLOOKUP(D1608,' '!$1:$1048576,3,0)","v":2252},null,"db",1,null,0]
[]
["ÚJ",null,"SZERSZÁM","EP22","TRUPER","Lombseprű EP-22",{"$f":"VLOOKUP(D1610,' '!$1:$1048576,3,0)","v":2145},null,"db",1,null,{"$f":"G1610*H1610","v":0}]
["ÚJ",null,"SZERSZÁM","MLuxLS",null,"Lombseprű 70cm, 30 fog",{"$f":"VLOOKUP(D1611,' '!$1:$1048576,3,0)","v":2677},null,"db",1,null,{"$f":"G1611*H1611","v":0}]
[]
[null,"ROVARVÉDELEM"]
[null,"PROFESSZIONÁLIS SZÚNYOGRIASZTÓK"]
[]
["ÚJ",null,"SZÚNYOGRIASZTÓ","TC-MR-LN","THERMACELL","Fáklya - Lexington | Tart.: 1db asztali talp, 6-részes kiem. pálca, 3db hatóanyag.l.",{"$f":"VLOOKUP(D1616,' '!$1:$1048576,3,0)","v":11500},null,"db",1,null,{"$f":"G1616*H1616","v":0}]
[]
["ÚJ",null,"SZÚNYOGRIASZTÓ","TC-MR-F","THERMACELL","Kézi készülék - fehér | Tart.: 3db hatóanyag lap (4h/db), 1db bután patron",{"$f":"VLOOKUP(D1618,' '!$1:$1048576,3,0)","v":7713},null,"db",1,null,0]
["ÚJ",null,"SZÚNYOGRIASZTÓ","TC-MR-O","THERMACELL","Kézi készülék - olívazöld | Tart.: 3db hatóanyag lap (4h/db), 1db bután patron",{"$f":"VLOOKUP(D1619,' '!$1:$1048576,3,0)","v":7713},null,"db",1,null,0]
["ÚJ",null,"SZÚNYOGRIASZTÓ","TC-MR-XG","THERMACELL","Kézi készülék - Xtra® zöld | Tart.: 3db hatóanyag lap (4h/db), 1db bután patron",{"$f":"VLOOKUP(D1620,' '!$1:$1048576,3,0)","v":8358},null,"db",1,null,0]
[]
["ÚJ",null,"SZÚNYOGRIASZTÓ","TC-LED","THERMACELL","Kézi készülék kiegészítő - LED lámpa",{"$f":"VLOOKUP(D1622,' '!$1:$1048576,3,0)","v":3148},null,"db",1,null,0]
["ÚJ",null,"SZÚNYOGRIASZTÓ","TC-TOK-O","THERMACELL","Kézi készülék kiegészítő - olívazöld vízálló tok",{"$f":"VLOOKUP(D1623,' '!$1:$1048576,3,0)","v":2698},null,"db",1,null,0]
["ÚJ",null,"SZÚNYOGRIASZTÓ","TC-TOK-XG","THERMACELL","Kézi készülék kiegészítő - Xtra® zöld vízálló tok",{"$f":"VLOOKUP(D1624,' '!$1:$1048576,3,0)","v":3112},null,"db",1,null,0]
[]
["ÚJ",null,"SZÚNYOGRIASZTÓ","TC-MR-BL","THERMACELL","Lámpás - Bristol | Tart.: 3db hatóanyag lap (4h/db), 1db bután patron",{"$f":"VLOOKUP(D1626,' '!$1:$1048576,3,0)","v":8048},null,"db",1,null,0]
["ÚJ",null,"SZÚNYOGRIASZTÓ","TC-MR-CE","THERMACELL","Lámpás - Cambridge | Tart.: 3db hatóanyag lap (4h/db), 1db bután patron",{"$f":"VLOOKUP(D1627,' '!$1:$1048576,3,0)","v":9391},null,"db",1,null,0]
["ÚJ",null,"SZÚNYOGRIASZTÓ","TC-MR-OR","THERMACELL","Lámpás - Outdoor | Tart.: 3db hatóanyag lap (4h/db), 1db bután patron",{"$f":"VLOOKUP(D1628,' '!$1:$1048576,3,0)","v":9391},null,"db",1,null,0]
[]
["ÚJ",null,"SZÚNYOGRIASZTÓ","TC-MR-ST","THERMACELL","Túra lámpás - Scout | Tart.: 3db hatóanyag lap (4h/db), 1db bután patron",{"$f":"VLOOKUP(D1630,' '!$1:$1048576,3,0)","v":13958},null,"db",1,null,0]
["ÚJ",null,"SZÚNYOGRIASZTÓ","TC-MR-TR","THERMACELL","Túra lámpás - Trailblazer | Tart.: 3db hatóanyag lap (4h/db), 1db bután patron",{"$f":"VLOOKUP(D1631,' '!$1:$1048576,3,0)","v":16709},null,"db",1,null,0]
[]
["ÚJ",null,"SZÚNYOGRIASZTÓ","TC-UT-BP","THERMACELL","Utántöltő - bután patron | Tart.: 2db bután patron",{"$f":"VLOOKUP(D1633,' '!$1:$1048576,3,0)","v":1873},null,"db",1,null,0]
["ÚJ",null,"SZÚNYOGRIASZTÓ","TC-UT-ES","THERMACELL","Utántöltő - Earth Scent (48 h) | Tart.: 12db ható. lap (4h/db), 4db bután patron",{"$f":"VLOOKUP(D1634,' '!$1:$1048576,3,0)","v":6075},null,"db",1,null,0]
["ÚJ",null,"SZÚNYOGRIASZTÓ","TC-UT-ML","THERMACELL","Utántöltő - Max Life (48 h) | Tart.: 4db ható. lap (12h/db), 4db bután patron",{"$f":"VLOOKUP(D1635,' '!$1:$1048576,3,0)","v":6834},null,"db",1,null,0]
["ÚJ",null,"SZÚNYOGRIASZTÓ","TC-UT-VP","THERMACELL","Utántöltő - Value Pack (48 h) | Tart.: 12db ható. lap (4h/db), 4db bután patron",{"$f":"VLOOKUP(D1636,' '!$1:$1048576,3,0)","v":6297},null,"db",1,null,0]

{"sheet":" ","index":1,"n_rows":1945,"n_cols":4,"rows_kept":1945,"cut":false,"hidden":true,"merged":[]}
["Azonosító","Cikk megnevezése","1.nettó ár"]
["10-HE VAN","10 HE VAN áll. fúvóka Rain Bird, (R=3.0m; 0-360°)",625,{"$f":"IF(#REF!=A2, \"Egyezik\", \"Nem egyezik\")","v":{"$error":"#REF!"}}]
["10-VAN","10 VAN áll. fúvóka Rain Bird, (R=3.0m; 0-360°)",570,{"$f":"IF(#REF!=A3, \"Egyezik\", \"Nem egyezik\")","v":{"$error":"#REF!"}}]
["H 10A","10'A áll. fúvóka Hunter, (R=3.0m; 0-360°)",530,{"$f":"IF(#REF!=A4, \"Egyezik\", \"Nem egyezik\")","v":{"$error":"#REF!"}}]
["H10F","10'F fúvóka Hunter, (R=3.0m; 360°)",530,{"$f":"IF(#REF!=A5, \"Egyezik\", \"Nem egyezik\")","v":{"$error":"#REF!"}}]
["R10-F","10'F fúvóka Rain Bird",600,{"$f":"IF(#REF!=A6, \"Egyezik\", \"Nem egyezik\")","v":{"$error":"#REF!"}}]
["89-1437","10-F-PC fúvóka Toro",598,{"$f":"IF(#REF!=A7, \"Egyezik\", \"Nem egyezik\")","v":{"$error":"#REF!"}}]
["H 10H","10'H fúvóka Hunter, (R=3.0m; 180°)",530,{"$f":"IF(#REF!=A8, \"Egyezik\", \"Nem egyezik\")","v":{"$error":"#REF!"}}]
["R10-H","10'H fúvóka Rain Bird",600,{"$f":"IF(#REF!=A9, \"Egyezik\", \"Nem egyezik\")","v":{"$error":"#REF!"}}]
["O-T-10-HP","10-H Pecision fúvóka Toro",1624,{"$f":"IF(#REF!=A10, \"Egyezik\", \"Nem egyezik\")","v":{"$error":"#REF!"}}]
["89-1446","10-H-PC fúvóka Toro",598,{"$f":"IF(#REF!=A11, \"Egyezik\", \"Nem egyezik\")","v":{"$error":"#REF!"}}]
["H-10-Q","10'Q fúvóka Hunter, (R=3.0m; 90°)",530,{"$f":"IF(#REF!=A12, \"Egyezik\", \"Nem egyezik\")","v":{"$error":"#REF!"}}]
["R10-Q","10'Q fúvóka Rain Bird",600,{"$f":"IF(#REF!=A13, \"Egyezik\", \"Nem egyezik\")","v":{"$error":"#REF!"}}]
["89-1452","10-Q-PC fúvóka Toro",598,{"$f":"IF(#REF!=A14, \"Egyezik\", \"Nem egyezik\")","v":{"$error":"#REF!"}}]
["89-1519","10-SSF-PC fúvóka Toro",598,{"$f":"IF(#REF!=A15, \"Egyezik\", \"Nem egyezik\")","v":{"$error":"#REF!"}}]
["89-1521","10-SSH-PC fúvóka Toro",598,{"$f":"IF(#REF!=A16, \"Egyezik\", \"Nem egyezik\")","v":{"$error":"#REF!"}}]
["89-1547","10-SSQ-PC fúvóka Toro",598,{"$f":"IF(#REF!=A17, \"Egyezik\", \"Nem egyezik\")","v":{"$error":"#REF!"}}]
["R10-T","10'T fúvóka Rain Bird",600,{"$f":"IF(#REF!=A18, \"Egyezik\", \"Nem egyezik\")","v":{"$error":"#REF!"}}]
["89-1449","10-T-PC fúvóka Toro",598,{"$f":"IF(#REF!=A19, \"Egyezik\", \"Nem egyezik\")","v":{"$error":"#REF!"}}]
["O-T-10-TQP","10-TQ Pecision fúvóka Toro",1624,{"$f":"IF(#REF!=A20, \"Egyezik\", \"Nem egyezik\")","v":{"$error":"#REF!"}}]
["89-1440","10-TQ-PC fúvóka Toro",598,{"$f":"IF(#REF!=A21, \"Egyezik\", \"Nem egyezik\")","v":{"$error":"#REF!"}}]
["89-1443","10-TT-PC fúvóka Toro",598,{"$f":"IF(#REF!=A22, \"Egyezik\", \"Nem egyezik\")","v":{"$error":"#REF!"}}]
["10-TVAN","10-TVAN, KVAN áll. fúvóka Toro",670,{"$f":"IF(#REF!=A23, \"Egyezik\", \"Nem egyezik\")","v":{"$error":"#REF!"}}]
["12-HE VAN","12 HE VAN áll. fúvóka Rain Bird, (R=3.6m; 0-360°)",625,{"$f":"IF(#REF!=A24, \"Egyezik\", \"Nem egyezik\")","v":{"$error":"#REF!"}}]
["12-VAN","12 VAN áll. fúvóka Rain Bird, (R=3.6m; 0-360°)",570,{"$f":"IF(#REF!=A25, \"Egyezik\", \"Nem egyezik\")","v":{"$error":"#REF!"}}]
["H 12A","12'A áll. fúvóka Hunter, (R=3.6m; 0-360°)",530,{"$f":"IF(#REF!=A26, \"Egyezik\", \"Nem egyezik\")","v":{"$error":"#REF!"}}]
["H12F","12'F fúvóka Hunter, (R=3.6m; 360°)",530,{"$f":"IF(#REF!=A27, \"Egyezik\", \"Nem egyezik\")","v":{"$error":"#REF!"}}]
["R12-F","12'F fúvóka Rain Bird",600,{"$f":"IF(#REF!=A28, \"Egyezik\", \"Nem egyezik\")","v":{"$error":"#REF!"}}]
["O-T-12-FP","12-F Pecision fúvóka Toro",1624,{"$f":"IF(#REF!=A29, \"Egyezik\", \"Nem egyezik\")","v":{"$error":"#REF!"}}]
["89-1419","12-F-PC fúvóka Toro",598,{"$f":"IF(#REF!=A30, \"Egyezik\", \"Nem egyezik\")","v":{"$error":"#REF!"}}]
["H 12H","12'H fúvóka Hunter, (R=3.6m; 180°)",530,{"$f":"IF(#REF!=A31, \"Egyezik\", \"Nem egyezik\")","v":{"$error":"#REF!"}}]
["R12-H","12'H fúvóka Rain Bird",600,{"$f":"IF(#REF!=A32, \"Egyezik\", \"Nem egyezik\")","v":{"$error":"#REF!"}}]
["O-T-12-HP","12-H Pecision fúvóka Toro",1624,{"$f":"IF(#REF!=A33, \"Egyezik\", \"Nem egyezik\")","v":{"$error":"#REF!"}}]
["89-1428","12-H-PC fúvóka Toro",598,{"$f":"IF(#REF!=A34, \"Egyezik\", \"Nem egyezik\")","v":{"$error":"#REF!"}}]
["H 12Q","12'Q fúvóka Hunter, (R=3.6m; 90°)",530,{"$f":"IF(#REF!=A35, \"Egyezik\", \"Nem egyezik\")","v":{"$error":"#REF!"}}]
["R12-Q","12'Q fúvóka Rain Bird",600,{"$f":"IF(#REF!=A36, \"Egyezik\", \"Nem egyezik\")","v":{"$error":"#REF!"}}]
["O-T-12-QP","12-Q Pecision fúvóka Toro",1624,{"$f":"IF(#REF!=A37, \"Egyezik\", \"Nem egyezik\")","v":{"$error":"#REF!"}}]
["89-1434","12-Q-PC fúvóka Toro",598,{"$f":"IF(#REF!=A38, \"Egyezik\", \"Nem egyezik\")","v":{"$error":"#REF!"}}]
["R12-T","12'T fúvóka Rain Bird",600,{"$f":"IF(#REF!=A39, \"Egyezik\", \"Nem egyezik\")","v":{"$error":"#REF!"}}]
["89-1431","12-T-PC fúvóka Toro",598,{"$f":"IF(#REF!=A40, \"Egyezik\", \"Nem egyezik\")","v":{"$error":"#REF!"}}]
["R12/TQ","12'TQ fúvóka Rain Bird",600,{"$f":"IF(#REF!=A41, \"Egyezik\", \"Nem egyezik\")","v":{"$error":"#REF!"}}]
["89-1422","12-TQ-PC fúvóka Toro",598,{"$f":"IF(#REF!=A42, \"Egyezik\", \"Nem egyezik\")","v":{"$error":"#REF!"}}]
["R12-TT","12'TT fúvóka Rain Bird",600,{"$f":"IF(#REF!=A43, \"Egyezik\", \"Nem egyezik\")","v":{"$error":"#REF!"}}]
["O-T-12-TTP","12-TT Pecision fúvóka Toro",1624,{"$f":"IF(#REF!=A44, \"Egyezik\", \"Nem egyezik\")","v":{"$error":"#REF!"}}]
["89-1425","12-TT-PC fúvóka Toro",598,{"$f":"IF(#REF!=A45, \"Egyezik\", \"Nem egyezik\")","v":{"$error":"#REF!"}}]
["12-TVAN","12-TVAN, KVAN áll. fúvóka Toro",670,{"$f":"IF(#REF!=A46, \"Egyezik\", \"Nem egyezik\")","v":{"$error":"#REF!"}}]
["R1401","1401 Bubbler fúvóka 1/2\" BM",1966,{"$f":"IF(#REF!=A47, \"Egyezik\", \"Nem egyezik\")","v":{"$error":"#REF!"}}]
["15-HE VAN","15 HE VAN áll. fúvóka Rain Bird, (R=4.5m; 0-360°)",625,{"$f":"IF(#REF!=A48, \"Egyezik\", \"Nem egyezik\")","v":{"$error":"#REF!"}}]
["15-VAN","15 VAN áll. fúvóka Rain Bird, (R=4.5m; 0-360°)",570,{"$f":"IF(#REF!=A49, \"Egyezik\", \"Nem egyezik\")","v":{"$error":"#REF!"}}]
["H 15A","15'A áll. fúvóka Hunter, (R=4.5m; 0-360°)",530,{"$f":"IF(#REF!=A50, \"Egyezik\", \"Nem egyezik\")","v":{"$error":"#REF!"}}]
["R15-CST","15'CST fúvóka Rain Bird",600,{"$f":"IF(#REF!=A51, \"Egyezik\", \"Nem egyezik\")","v":{"$error":"#REF!"}}]
["R15-EST","15'EST fúvóka Rain Bird",600,{"$f":"IF(#REF!=A52, \"Egyezik\", \"Nem egyezik\")","v":{"$error":"#REF!"}}]
["H 15F","15'F fúvóka Hunter, (R=4.5m; 360°)",530,{"$f":"IF(#REF!=A53, \"Egyezik\", \"Nem egyezik\")","v":{"$error":"#REF!"}}]
["R15-F","15'F fúvóka Rain Bird",600,{"$f":"IF(#REF!=A54, \"Egyezik\", \"Nem egyezik\")","v":{"$error":"#REF!"}}]
["89-1401","15-F-PC fúvóka Toro",598,{"$f":"IF(#REF!=A55, \"Egyezik\", \"Nem egyezik\")","v":{"$error":"#REF!"}}]
["H 15H","15'H fúvóka Hunter, (R=4.5m; 180°)",530,{"$f":"IF(#REF!=A56, \"Egyezik\", \"Nem egyezik\")","v":{"$error":"#REF!"}}]
["R15-H","15'H fúvóka Rain Bird",600,{"$f":"IF(#REF!=A57, \"Egyezik\", \"Nem egyezik\")","v":{"$error":"#REF!"}}]
["O-T-15-HP","15-H Pecision fúvóka Toro",1624,{"$f":"IF(#REF!=A58, \"Egyezik\", \"Nem egyezik\")","v":{"$error":"#REF!"}}]
["K-15HL","15-HL fúvóka Toro",598,{"$f":"IF(#REF!=A59, \"Egyezik\", \"Nem egyezik\")","v":{"$error":"#REF!"}}]
["89-1410","15-H-PC fúvóka Toro",598,{"$f":"IF(#REF!=A60, \"Egyezik\", \"Nem egyezik\")","v":{"$error":"#REF!"}}]
["R15-LCS","15'LCS fúvóka Rain Bird",600,{"$f":"IF(#REF!=A61, \"Egyezik\", \"Nem egyezik\")","v":{"$error":"#REF!"}}]
["H 15Q","15'Q fúvóka Hunter, (R=4.5m; 90°)",530,{"$f":"IF(#REF!=A62, \"Egyezik\", \"Nem egyezik\")","v":{"$error":"#REF!"}}]
["R15-Q","15'Q fúvóka Rain Bird",600,{"$f":"IF(#REF!=A63, \"Egyezik\", \"Nem egyezik\")","v":{"$error":"#REF!"}}]
["O-T-15-QP","15-Q Pecision fúvóka Toro",1624,{"$f":"IF(#REF!=A64, \"Egyezik\", \"Nem egyezik\")","v":{"$error":"#REF!"}}]
["89-1416","15-Q-PC fúvóka Toro",598,{"$f":"IF(#REF!=A65, \"Egyezik\", \"Nem egyezik\")","v":{"$error":"#REF!"}}]
["R15-RCS","15'RCS fúvóka Rain Bird",600,{"$f":"IF(#REF!=A66, \"Egyezik\", \"Nem egyezik\")","v":{"$error":"#REF!"}}]
["RB-15SQ","15'SQ-fúvóka Rain Bird",600,{"$f":"IF(#REF!=A67, \"Egyezik\", \"Nem egyezik\")","v":{"$error":"#REF!"}}]
["R15-SST","15'SST fúvóka Rain Bird",600,{"$f":"IF(#REF!=A68, \"Egyezik\", \"Nem egyezik\")","v":{"$error":"#REF!"}}]
["R15/T","15'T fúvóka RainBird",600,{"$f":"IF(#REF!=A69, \"Egyezik\", \"Nem egyezik\")","v":{"$error":"#REF!"}}]
["O-T-15-TP","15-T Pecision fúvóka Toro",1624,{"$f":"IF(#REF!=A70, \"Egyezik\", \"Nem egyezik\")","v":{"$error":"#REF!"}}]
["89-1413","15-T-PC fúvóka Toro",598,{"$f":"IF(#REF!=A71, \"Egyezik\", \"Nem egyezik\")","v":{"$error":"#REF!"}}]
["R15/TQ","15'TQ fúvóka RainBird",600,{"$f":"IF(#REF!=A72, \"Egyezik\", \"Nem egyezik\")","v":{"$error":"#REF!"}}]
["89-1404","15-TQ-PC fúvóka Toro",598,{"$f":"IF(#REF!=A73, \"Egyezik\", \"Nem egyezik\")","v":{"$error":"#REF!"}}]
["R15-TT","15'TT fúvóka Rain Bird",600,{"$f":"IF(#REF!=A74, \"Egyezik\", \"Nem egyezik\")","v":{"$error":"#REF!"}}]
["89-1407","15-TT-PC fúvóka Toro",598,{"$f":"IF(#REF!=A75, \"Egyezik\", \"Nem egyezik\")","v":{"$error":"#REF!"}}]
["15-TVAN","15-TVAN, KVAN áll. fúvóka Toro",670,{"$f":"IF(#REF!=A76, \"Egyezik\", \"Nem egyezik\")","v":{"$error":"#REF!"}}]
["89-7418","15-V áll. fúvóka Toro",598,{"$f":"IF(#REF!=A77, \"Egyezik\", \"Nem egyezik\")","v":{"$error":"#REF!"}}]
["R16-F-SLA","16F SLA fúvóka Rain Bird",600,{"$f":"IF(#REF!=A78, \"Egyezik\", \"Nem egyezik\")","v":{"$error":"#REF!"}}]
["R16H-SLA","16H SLA fúvóka Rain Bird",600,{"$f":"IF(#REF!=A79, \"Egyezik\", \"Nem egyezik\")","v":{"$error":"#REF!"}}]
["R16Q-SLA","16Q SLA fúvóka Rain Bird",600,{"$f":"IF(#REF!=A80, \"Egyezik\", \"Nem egyezik\")","v":{"$error":"#REF!"}}]
["H 17A","17'A áll. fúvóka Hunter, (R=5.2m; 0-360°)",530,{"$f":"IF(#REF!=A81, \"Egyezik\", \"Nem egyezik\")","v":{"$error":"#REF!"}}]
["H 17H","17'H fúvóka Hunter, (R=5.2m; 180°)",530,{"$f":"IF(#REF!=A82, \"Egyezik\", \"Nem egyezik\")","v":{"$error":"#REF!"}}]
["H 17Q","17'Q fúvóka Hunter, (R=5.2m; 90°)",530,{"$f":"IF(#REF!=A83, \"Egyezik\", \"Nem egyezik\")","v":{"$error":"#REF!"}}]
["17-TVAN","17-TVAN, KVAN áll. fúvóka Toro",670,{"$f":"IF(#REF!=A84, \"Egyezik\", \"Nem egyezik\")","v":{"$error":"#REF!"}}]
["18-VAN","18 VAN áll. fúvóka Rain Bird, (R=5.5m; 0-360°)",570,{"$f":"IF(#REF!=A85, \"Egyezik\", \"Nem egyezik\")","v":{"$error":"#REF!"}}]
["RPA8S","1800-S, nem kiemelkedő (shrub) adapter, BM 1/2\"",376,{"$f":"IF(#REF!=A86, \"Egyezik\", \"Nem egyezik\")","v":{"$error":"#REF!"}}]
["1803","1803 szórófej HÁZ, 7,5cm",1073,{"$f":"IF(#REF!=A87, \"Egyezik\", \"Nem egyezik\")","v":{"$error":"#REF!"}}]
["1803+15VAN","1803 szórófej HÁZ, 7,5cm + 15VAN Fúvóka",1428,{"$f":"IF(#REF!=A88, \"Egyezik\", \"Nem egyezik\")","v":{"$error":"#REF!"}}]
["1804-SAM","1804 SAM szórófej HÁZ, 10 cm, VFG",1836,{"$f":"IF(#REF!=A89, \"Egyezik\", \"Nem egyezik\")","v":{"$error":"#REF!"}}]
["1804","1804 szórófej HÁZ, 10 cm",753,{"$f":"IF(#REF!=A90, \"Egyezik\", \"Nem egyezik\")","v":{"$error":"#REF!"}}]
["RD06","1806 RD06 szórófej HÁZ, 15 cm",2605,{"$f":"IF(#REF!=A91, \"Egyezik\", \"Nem egyezik\")","v":{"$error":"#REF!"}}]
[1806,"1806 szórófej HÁZ, 15 cm",2026,{"$f":"IF(#REF!=A92, \"Egyezik\", \"Nem egyezik\")","v":{"$error":"#REF!"}}]
["1812-SAM","1812 SAM szórófej HÁZ, 30 cm, VFG",3134,{"$f":"IF(#REF!=A93, \"Egyezik\", \"Nem egyezik\")","v":{"$error":"#REF!"}}]
["1812","1812 szórófej HÁZ, 30 cm",4589,{"$f":"IF(#REF!=A94, \"Egyezik\", \"Nem egyezik\")","v":{"$error":"#REF!"}}]
["R22-F-SS","22'F SS fúvóka Rain Bird",600,{"$f":"IF(#REF!=A95, \"Egyezik\", \"Nem egyezik\")","v":{"$error":"#REF!"}}]
["R22-H-SS","22'H SS fúvóka Rain Bird",600,{"$f":"IF(#REF!=A96, \"Egyezik\", \"Nem egyezik\")","v":{"$error":"#REF!"}}]
["R22-Q-SS","22'Q SS fúvóka Rain Bird",600,{"$f":"IF(#REF!=A97, \"Egyezik\", \"Nem egyezik\")","v":{"$error":"#REF!"}}]
["264-06-03","264-es mágnesszelep, 3/4\" KK, 24VAC",10407,{"$f":"IF(#REF!=A98, \"Egyezik\", \"Nem egyezik\")","v":{"$error":"#REF!"}}]
["H 2H","2'H fúvóka Hunter",530,{"$f":"IF(#REF!=A99, \"Egyezik\", \"Nem egyezik\")","v":{"$error":"#REF!"}}]
["H 2Q","2'Q fúvóka Hunter",530,{"$f":"IF(#REF!=A100, \"Egyezik\", \"Nem egyezik\")","v":{"$error":"#REF!"}}]
["89-1512","2-SST-PC fúvóka Toro",598,{"$f":"IF(#REF!=A101, \"Egyezik\", \"Nem egyezik\")","v":{"$error":"#REF!"}}]
["3504-PC","3504 PC szórófej, 10cm kiemelkedés, állítható 30-360°",3736,{"$f":"IF(#REF!=A102, \"Egyezik\", \"Nem egyezik\")","v":{"$error":"#REF!"}}]
["3504-PC-SAM","3504 PC-SAM szórófej, 10cm kiemelkedés, állítható 30-360°",4848,{"$f":"IF(#REF!=A103, \"Egyezik\", \"Nem egyezik\")","v":{"$error":"#REF!"}}]
["89-1491","35-SSF-PC fúvóka Toro",598,{"$f":"IF(#REF!=A104, \"Egyezik\", \"Nem egyezik\")","v":{"$error":"#REF!"}}]
["89-1493","35-SSH-PC fúvóka Toro",598,{"$f":"IF(#REF!=A105, \"Egyezik\", \"Nem egyezik\")","v":{"$error":"#REF!"}}]
["89-1495","35-SSQ-PC fúvóka Toro",598,{"$f":"IF(#REF!=A106, \"Egyezik\", \"Nem egyezik\")","v":{"$error":"#REF!"}}]
["4-VAN","4 VAN áll. fúvóka RainBird, (R=1.2m; 0-360°)",570,{"$f":"IF(#REF!=A107, \"Egyezik\", \"Nem egyezik\")","v":{"$error":"#REF!"}}]
["H 4A","4'A áll. fúvóka Hunter, (R=1.2m; 0-360°)",530,{"$f":"IF(#REF!=A108, \"Egyezik\", \"Nem egyezik\")","v":{"$error":"#REF!"}}]
["89-1497","4-CST-PC fúvóka Toro",598,{"$f":"IF(#REF!=A109, \"Egyezik\", \"Nem egyezik\")","v":{"$error":"#REF!"}}]
["89-1500","4-EST-PC fúvóka Toro",598,{"$f":"IF(#REF!=A110, \"Egyezik\", \"Nem egyezik\")","v":{"$error":"#REF!"}}]
["H 4H","4'H fúvóka Hunter",530,{"$f":"IF(#REF!=A111, \"Egyezik\", \"Nem egyezik\")","v":{"$error":"#REF!"}}]
["H 4Q","4'Q fúvóka Hunter",530,{"$f":"IF(#REF!=A112, \"Egyezik\", \"Nem egyezik\")","v":{"$error":"#REF!"}}]
["89-1509","4S-SST-PC fúvóka Toro",598,{"$f":"IF(#REF!=A113, \"Egyezik\", \"Nem egyezik\")","v":{"$error":"#REF!"}}]
["89-1503","4-SST-PC fúvóka Toro",598,{"$f":"IF(#REF!=A114, \"Egyezik\", \"Nem egyezik\")","v":{"$error":"#REF!"}}]
["5004Shrub","5000 PLUS szórófej, SHRUB nem kiemelkedő",5292,{"$f":"IF(#REF!=A115, \"Egyezik\", \"Nem egyezik\")","v":{"$error":"#REF!"}}]
["5000E","5004 FEKETE szórófej, 10cm kiemelkedés",3957,{"$f":"IF(#REF!=A116, \"Egyezik\", \"Nem egyezik\")","v":{"$error":"#REF!"}}]
["5004-F","5004 PLUS FC 360° szórófej, 10cm kiemelkedés",4390,{"$f":"IF(#REF!=A117, \"Egyezik\", \"Nem egyezik\")","v":{"$error":"#REF!"}}]
["5004PC-SS-SAM PRS","5004 PLUS SS-PC SAM - PRS - szórófej, 10cm, fém nyak",8049,{"$f":"IF(#REF!=A118, \"Egyezik\", \"Nem egyezik\")","v":{"$error":"#REF!"}}]
["5004PC-SS-SAM","5004 PLUS SS-PC SAM szórófej, 10cm, fém nyak",6562,{"$f":"IF(#REF!=A119, \"Egyezik\", \"Nem egyezik\")","v":{"$error":"#REF!"}}]
["5004-PC","5004 PLUS szórófej, 10cm kiemelkedés, állítható 40-360",5520,{"$f":"IF(#REF!=A120, \"Egyezik\", \"Nem egyezik\")","v":{"$error":"#REF!"}}]
["5012-PC","5012 PLUS szórófej, 30cm kiemelkedés, állítható 40-360",11325,{"$f":"IF(#REF!=A121, \"Egyezik\", \"Nem egyezik\")","v":{"$error":"#REF!"}}]
["9-6807","570S, nem kiemelkedő (shrub) adapter, BM 1/2\"",272,{"$f":"IF(#REF!=A122, \"Egyezik\", \"Nem egyezik\")","v":{"$error":"#REF!"}}]
["89-3982","570Z 12P szórófej, 30cm",5632,{"$f":"IF(#REF!=A123, \"Egyezik\", \"Nem egyezik\")","v":{"$error":"#REF!"}}]
["89-5807","570Z 2P szórófej, 5cm",1074,{"$f":"IF(#REF!=A124, \"Egyezik\", \"Nem egyezik\")","v":{"$error":"#REF!"}}]
["89-4722","570Z 3P COM szórófej, 7.5cm, VFG",1810,{"$f":"IF(#REF!=A125, \"Egyezik\", \"Nem egyezik\")","v":{"$error":"#REF!"}}]
["89-3977","570Z 3P szórófej, 7.5cm",1225,{"$f":"IF(#REF!=A126, \"Egyezik\", \"Nem egyezik\")","v":{"$error":"#REF!"}}]
["89-4723","570Z 4P COM szórófej, 10cm, VFG",2414,{"$f":"IF(#REF!=A127, \"Egyezik\", \"Nem egyezik\")","v":{"$error":"#REF!"}}]
["89-3978","570Z 4P szórófej, 10cm",1006,{"$f":"IF(#REF!=A128, \"Egyezik\", \"Nem egyezik\")","v":{"$error":"#REF!"}}]
["570zNYKT","570Z nyaktömítés",370,{"$f":"IF(#REF!=A129, \"Egyezik\", \"Nem egyezik\")","v":{"$error":"#REF!"}}]
["5-CST-B","5-CST-B sugaras tőöntöző fúvóka Hunter",530,{"$f":"IF(#REF!=A130, \"Egyezik\", \"Nem egyezik\")","v":{"$error":"#REF!"}}]
["R5-F-B","5'F B fúvóka Rain Bird",600,{"$f":"IF(#REF!=A131, \"Egyezik\", \"Nem egyezik\")","v":{"$error":"#REF!"}}]
["H 5F","5'F fúvóka Hunter, (R=1.2m; 360°)",530,{"$f":"IF(#REF!=A132, \"Egyezik\", \"Nem egyezik\")","v":{"$error":"#REF!"}}]
["R5-F","5'F fúvóka Rain Bird",600,{"$f":"IF(#REF!=A133, \"Egyezik\", \"Nem egyezik\")","v":{"$error":"#REF!"}}]
["89-1473","5-F-PC fúvóka Toro",598,{"$f":"IF(#REF!=A134, \"Egyezik\", \"Nem egyezik\")","v":{"$error":"#REF!"}}]
["R5-H-B","5'H B fúvóka Rain Bird",600,{"$f":"IF(#REF!=A135, \"Egyezik\", \"Nem egyezik\")","v":{"$error":"#REF!"}}]
["H 5H","5'H fúvóka Hunter, (R=1.2m; 180°)",530,{"$f":"IF(#REF!=A136, \"Egyezik\", \"Nem egyezik\")","v":{"$error":"#REF!"}}]
["R5-H","5'H fúvóka Rain Bird",600,{"$f":"IF(#REF!=A137, \"Egyezik\", \"Nem egyezik\")","v":{"$error":"#REF!"}}]
["89-1482","5-H-PC fúvóka Toro",598,{"$f":"IF(#REF!=A138, \"Egyezik\", \"Nem egyezik\")","v":{"$error":"#REF!"}}]
["R5-Q-B","5'Q B fúvóka Rain Bird",600,{"$f":"IF(#REF!=A139, \"Egyezik\", \"Nem egyezik\")","v":{"$error":"#REF!"}}]
["H 5Q","5'Q fúvóka Hunter, (R=1.5m; 90°)",530,{"$f":"IF(#REF!=A140, \"Egyezik\", \"Nem egyezik\")","v":{"$error":"#REF!"}}]
["R5-Q","5'Q fúvóka Rain Bird",600,{"$f":"IF(#REF!=A141, \"Egyezik\", \"Nem egyezik\")","v":{"$error":"#REF!"}}]
["89-1488","5-Q-PC fúvóka Toro",598,{"$f":"IF(#REF!=A142, \"Egyezik\", \"Nem egyezik\")","v":{"$error":"#REF!"}}]
["89-1485","5-T-PC fúvóka Toro",598,{"$f":"IF(#REF!=A143, \"Egyezik\", \"Nem egyezik\")","v":{"$error":"#REF!"}}]
["89-1476","5-TQ-PC fúvóka Toro",598,{"$f":"IF(#REF!=A144, \"Egyezik\", \"Nem egyezik\")","v":{"$error":"#REF!"}}]
["89-1479","5-TT-PC fúvóka Toro",598,{"$f":"IF(#REF!=A145, \"Egyezik\", \"Nem egyezik\")","v":{"$error":"#REF!"}}]
["6-VAN","6 VAN áll. fúvóka RainBird, (R=1.8m; 0-360°)",570,{"$f":"IF(#REF!=A146, \"Egyezik\", \"Nem egyezik\")","v":{"$error":"#REF!"}}]
["H 6A","6'A áll. fúvóka Hunter, (R=1.8m; 0-360°)",530,{"$f":"IF(#REF!=A147, \"Egyezik\", \"Nem egyezik\")","v":{"$error":"#REF!"}}]
["H 6H","6'H fúvóka Hunter",530,{"$f":"IF(#REF!=A148, \"Egyezik\", \"Nem egyezik\")","v":{"$error":"#REF!"}}]
["H 6Q","6'Q fúvóka Hunter",530,{"$f":"IF(#REF!=A149, \"Egyezik\", \"Nem egyezik\")","v":{"$error":"#REF!"}}]
["8-HE VAN","8 HE VAN áll. fúvóka Rain Bird, (R=2.4m; 0-360°)",625,{"$f":"IF(#REF!=A150, \"Egyezik\", \"Nem egyezik\")","v":{"$error":"#REF!"}}]
["8-VAN","8 VAN áll. fúvóka RainBird, (R=2.4m; 0-360°)",570,{"$f":"IF(#REF!=A151, \"Egyezik\", \"Nem egyezik\")","v":{"$error":"#REF!"}}]
["B80000","8005 Gyepültető kosár",16274,{"$f":"IF(#REF!=A152, \"Egyezik\", \"Nem egyezik\")","v":{"$error":"#REF!"}}]
["8005","8005 PC Rotoros szórófej",23998,{"$f":"IF(#REF!=A153, \"Egyezik\", \"Nem egyezik\")","v":{"$error":"#REF!"}}]
["8005 SS","8005 SS-PC-SAM Rotoros szórófej, fém nyak",28609,{"$f":"IF(#REF!=A154, \"Egyezik\", \"Nem egyezik\")","v":{"$error":"#REF!"}}]
["H 8A","8'A áll. fúvóka Hunter, (R=2.4m; 0-360°)",530,{"$f":"IF(#REF!=A155, \"Egyezik\", \"Nem egyezik\")","v":{"$error":"#REF!"}}]
["H 8F","8'F fúvóka Hunter, (R=2.4m; 360°)",530,{"$f":"IF(#REF!=A156, \"Egyezik\", \"Nem egyezik\")","v":{"$error":"#REF!"}}]
["R8-F","8'F fúvóka Rain Bird",600,{"$f":"IF(#REF!=A157, \"Egyezik\", \"Nem egyezik\")","v":{"$error":"#REF!"}}]
["89-1455","8-F-PC fúvóka Toro",598,{"$f":"IF(#REF!=A158, \"Egyezik\", \"Nem egyezik\")","v":{"$error":"#REF!"}}]
["H 8H","8'H fúvóka Hunter, (R=2.4m; 180°)",530,{"$f":"IF(#REF!=A159, \"Egyezik\", \"Nem egyezik\")","v":{"$error":"#REF!"}}]
["R8-H","8'H fúvóka Rain Bird",600,{"$f":"IF(#REF!=A160, \"Egyezik\", \"Nem egyezik\")","v":{"$error":"#REF!"}}]
["O-T-8-HP","8-H Pecision fúvóka Toro",1624,{"$f":"IF(#REF!=A161, \"Egyezik\", \"Nem egyezik\")","v":{"$error":"#REF!"}}]
["89-1464","8-H-PC fúvóka Toro",598,{"$f":"IF(#REF!=A162, \"Egyezik\", \"Nem egyezik\")","v":{"$error":"#REF!"}}]
["H 8Q","8'Q fúvóka Hunter, (R=2.4m; 90°)",530,{"$f":"IF(#REF!=A163, \"Egyezik\", \"Nem egyezik\")","v":{"$error":"#REF!"}}]
["R8-Q","8'Q fúvóka Rain Bird",600,{"$f":"IF(#REF!=A164, \"Egyezik\", \"Nem egyezik\")","v":{"$error":"#REF!"}}]
["O-T-8-QP","8-Q Pecision fúvóka Toro",1624,{"$f":"IF(#REF!=A165, \"Egyezik\", \"Nem egyezik\")","v":{"$error":"#REF!"}}]
["89-1470","8-Q-PC fúvóka Toro",598,{"$f":"IF(#REF!=A166, \"Egyezik\", \"Nem egyezik\")","v":{"$error":"#REF!"}}]
["89-1467","8-T-PC fúvóka Toro",598,{"$f":"IF(#REF!=A167, \"Egyezik\", \"Nem egyezik\")","v":{"$error":"#REF!"}}]
["89-1458","8-TQ-PC fúvóka Toro",598,{"$f":"IF(#REF!=A168, \"Egyezik\", \"Nem egyezik\")","v":{"$error":"#REF!"}}]
["89-1461","8-TT-PC fúvóka Toro",598,{"$f":"IF(#REF!=A169, \"Egyezik\", \"Nem egyezik\")","v":{"$error":"#REF!"}}]
["8-TVAN","8-TVAN, KVAN áll. fúvóka Toro",670,{"$f":"IF(#REF!=A170, \"Egyezik\", \"Nem egyezik\")","v":{"$error":"#REF!"}}]
["A47047","9'SST fúvóka Rain Bird",600,{"$f":"IF(#REF!=A171, \"Egyezik\", \"Nem egyezik\")","v":{"$error":"#REF!"}}]
["89-1506","9-SST-PC fúvóka Toro",598,{"$f":"IF(#REF!=A172, \"Egyezik\", \"Nem egyezik\")","v":{"$error":"#REF!"}}]
["ACC99D","ACC-99D, 99 zónáig, FÉMHÁZAS",490938,{"$f":"IF(#REF!=A173, \"Egyezik\", \"Nem egyezik\")","v":{"$error":"#REF!"}}]
["H ACCU-SET","ACCU-SET nyomásszabályozó (PGV, ICV)",11174,{"$f":"IF(#REF!=A174, \"Egyezik\", \"Nem egyezik\")","v":{"$error":"#REF!"}}]
["H ACCU-SET","ACCU-SYNC ADJ nyomásszabályozó (PGV,ICV)",11735,{"$f":"IF(#REF!=A175, \"Egyezik\", \"Nem egyezik\")","v":{"$error":"#REF!"}}]
["H AFB","AFB állítható tőöntöző spraytest fúvóka",1250,{"$f":"IF(#REF!=A176, \"Egyezik\", \"Nem egyezik\")","v":{"$error":"#REF!"}}]
["AGROSZ1.05x100","Agroszövet 1.05 m x 100 m, (tekercsben)",17913,{"$f":"IF(#REF!=A177, \"Egyezik\", \"Nem egyezik\")","v":{"$error":"#REF!"}}]
["200.4064562","AMICO PRO, 1 körös elemes vezérlő + RN150 1\" KH",24829,{"$f":"IF(#REF!=A178, \"Egyezik\", \"Nem egyezik\")","v":{"$error":"#REF!"}}]
["200.4064200","AMICO PRO, 2 körös elemes vezérlő",26829,{"$f":"IF(#REF!=A179, \"Egyezik\", \"Nem egyezik\")","v":{"$error":"#REF!"}}]
["46050","AP adagoló, POOL BALLZ",11182,{"$f":"IF(#REF!=A180, \"Egyezik\", \"Nem egyezik\")","v":{"$error":"#REF!"}}]
["T53","AP adagoló, úszó",903,{"$f":"IF(#REF!=A181, \"Egyezik\", \"Nem egyezik\")","v":{"$error":"#REF!"}}]
["36620","AP adagoló, úszó, SHARK",1612,{"$f":"IF(#REF!=A182, \"Egyezik\", \"Nem egyezik\")","v":{"$error":"#REF!"}}]
["11416","AP algaölő szer, habzó, ALGAECIDE, 1l",913,{"$f":"IF(#REF!=A183, \"Egyezik\", \"Nem egyezik\")","v":{"$error":"#REF!"}}]
["11417","AP algaölő szer, habzó, ALGAECIDE, 5l",3712,{"$f":"IF(#REF!=A184, \"Egyezik\", \"Nem egyezik\")","v":{"$error":"#REF!"}}]
["16550","AP bróm tabletta, 20g-os, BROMO, 5kg",21560,{"$f":"IF(#REF!=A185, \"Egyezik\", \"Nem egyezik\")","v":{"$error":"#REF!"}}]
["T64A","AP háló komplett, alumínium nyéllel 150 cm (feszes)",2187,{"$f":"IF(#REF!=A186, \"Egyezik\", \"Nem egyezik\")","v":{"$error":"#REF!"}}]
["T302C","AP háló komplett, alumínium nyéllel 2*30\" (feszes)",3060,{"$f":"IF(#REF!=A187, \"Egyezik\", \"Nem egyezik\")","v":{"$error":"#REF!"}}]
["T109B","AP háló, alumínium erősítéssel, nagy teherbírású, mély",2496,{"$f":"IF(#REF!=A188, \"Egyezik\", \"Nem egyezik\")","v":{"$error":"#REF!"}}]
["TN62N","AP háló, Economy",1810,{"$f":"IF(#REF!=A189, \"Egyezik\", \"Nem egyezik\")","v":{"$error":"#REF!"}}]
["T55","AP háló, erősített műanyag kerettel, mély hálóval",2414,{"$f":"IF(#REF!=A190, \"Egyezik\", \"Nem egyezik\")","v":{"$error":"#REF!"}}]
["T87","AP háló, feszes (mágneses)",863,{"$f":"IF(#REF!=A191, \"Egyezik\", \"Nem egyezik\")","v":{"$error":"#REF!"}}]
["46048/1","AP klór golyó, kombinált, POOL BALLZ",337,{"$f":"IF(#REF!=A192, \"Egyezik\", \"Nem egyezik\")","v":{"$error":"#REF!"}}]
["46048","AP klór golyók, kombinált, POOL BALLZ, 16db",5744,{"$f":"IF(#REF!=A193, \"Egyezik\", \"Nem egyezik\")","v":{"$error":"#REF!"}}]
["11393","AP klór granulátum, stabilizált 55%, 1kg",1569,{"$f":"IF(#REF!=A194, \"Egyezik\", \"Nem egyezik\")","v":{"$error":"#REF!"}}]
["29336980","AP klór tabletta, lassan oldódó, ACTION 10, 1kg",2440,{"$f":"IF(#REF!=A195, \"Egyezik\", \"Nem egyezik\")","v":{"$error":"#REF!"}}]
["25320","AP klór tabletta, lassan oldódó, ACTION 10, 5kg",8907,{"$f":"IF(#REF!=A196, \"Egyezik\", \"Nem egyezik\")","v":{"$error":"#REF!"}}]
["T85/SGL/S","AP nyél, alumínium, 20x0.8x1800",5240,{"$f":"IF(#REF!=A197, \"Egyezik\", \"Nem egyezik\")","v":{"$error":"#REF!"}}]
["T84/DGL6S","AP nyél, alumínium, 20x0.8x2400",7008,{"$f":"IF(#REF!=A198, \"Egyezik\", \"Nem egyezik\")","v":{"$error":"#REF!"}}]
["11388","AP pelyhesítő folyadék, LIQUID CLARIFIER, 5l",2655,{"$f":"IF(#REF!=A199, \"Egyezik\", \"Nem egyezik\")","v":{"$error":"#REF!"}}]
["11384","AP pH csökkentő granulátum, pH MINUSZ, 1.5kg",1420,{"$f":"IF(#REF!=A200, \"Egyezik\", \"Nem egyezik\")","v":{"$error":"#REF!"}}]
["11385","AP pH csökkentő granulátum, pH MINUSZ, 8kg",4248,{"$f":"IF(#REF!=A201, \"Egyezik\", \"Nem egyezik\")","v":{"$error":"#REF!"}}]
["16538","AP pH növelő granulátum, pH PLUS, 1kg",1214,{"$f":"IF(#REF!=A202, \"Egyezik\", \"Nem egyezik\")","v":{"$error":"#REF!"}}]
["11386","AP pH növelő granulátum, pH PLUS, 6kg",3019,{"$f":"IF(#REF!=A203, \"Egyezik\", \"Nem egyezik\")","v":{"$error":"#REF!"}}]
["18723","AP téliesítő folyadék, adagolás: 1l/20m^3, WINTERISING, 1l",2588,{"$f":"IF(#REF!=A204, \"Egyezik\", \"Nem egyezik\")","v":{"$error":"#REF!"}}]
["11430","AP téliesítő folyadék, adagolás: 1l/20m^3, WINTERISING, 5l",10602,{"$f":"IF(#REF!=A205, \"Egyezik\", \"Nem egyezik\")","v":{"$error":"#REF!"}}]
["26155","AP vízelemző, tablettás, TESTBLUE",1929,{"$f":"IF(#REF!=A206, \"Egyezik\", \"Nem egyezik\")","v":{"$error":"#REF!"}}]
["AQ75QJD115-0,37","Aqualift 3\" Szivattyú 75QJD115-0,37kW",52362,{"$f":"IF(#REF!=A207, \"Egyezik\", \"Nem egyezik\")","v":{"$error":"#REF!"}}]
["MLuxF","Ásó fekete MAGMA LUX",4110,{"$f":"IF(#REF!=A208, \"Egyezik\", \"Nem egyezik\")","v":{"$error":"#REF!"}}]
["MLuxK","Ásó keskeny MAGMA LUX",3600,{"$f":"IF(#REF!=A209, \"Egyezik\", \"Nem egyezik\")","v":{"$error":"#REF!"}}]
["MLux","Ásó MAGMA LUX",1880,{"$f":"IF(#REF!=A210, \"Egyezik\", \"Nem egyezik\")","v":{"$error":"#REF!"}}]
["Trup-ásó","Ásó TRUPER",3990,{"$f":"IF(#REF!=A211, \"Egyezik\", \"Nem egyezik\")","v":{"$error":"#REF!"}}]
["MLuxÜ","Ásó üvegszálas MAGMA LUX",2399,{"$f":"IF(#REF!=A212, \"Egyezik\", \"Nem egyezik\")","v":{"$error":"#REF!"}}]
[17166,"Ásó üvegszálas TRUPER",5070,{"$f":"IF(#REF!=A213, \"Egyezik\", \"Nem egyezik\")","v":{"$error":"#REF!"}}]
["350.6052000","Automata ürítőszelep 1/2\" KM BLAZING HP 2000",1328,{"$f":"IF(#REF!=A214, \"Egyezik\", \"Nem egyezik\")","v":{"$error":"#REF!"}}]
["O.DR.Z","Automata ürítőszelep 1/2\" KM Orbit",1349,{"$f":"IF(#REF!=A215, \"Egyezik\", \"Nem egyezik\")","v":{"$error":"#REF!"}}]
[51039,"Automata ürítőszelep 1/2\" KM Orbit RÉZ",1205,{"$f":"IF(#REF!=A216, \"Egyezik\", \"Nem egyezik\")","v":{"$error":"#REF!"}}]
["16A-FDV","Automata ürítőszelep 1/2\" KM Rain Bird",2057,{"$f":"IF(#REF!=A217, \"Egyezik\", \"Nem egyezik\")","v":{"$error":"#REF!"}}]
[8006410194,"Automata ürítőszelep 16mm, csepegtető csőre",380,{"$f":"IF(#REF!=A218, \"Egyezik\", \"Nem egyezik\")","v":{"$error":"#REF!"}}]
["IVFL250","Automata ürítőszelep 3/4\" BM, csepegtető csőre",174,{"$f":"IF(#REF!=A219, \"Egyezik\", \"Nem egyezik\")","v":{"$error":"#REF!"}}]
["OR 94361W","Automata ürítőszelep 3/4\" KM Orbit",1500,{"$f":"IF(#REF!=A220, \"Egyezik\", \"Nem egyezik\")","v":{"$error":"#REF!"}}]
[8006410376,"Automata ürítőszelep 3/4\" KM, KING",1176,{"$f":"IF(#REF!=A221, \"Egyezik\", \"Nem egyezik\")","v":{"$error":"#REF!"}}]
["AVB-100","AVB100 Légbeszívó szelep",7350,{"$f":"IF(#REF!=A222, \"Egyezik\", \"Nem egyezik\")","v":{"$error":"#REF!"}}]
["100005E","B&S motorolaj 0.6 l",961,{"$f":"IF(#REF!=A223, \"Egyezik\", \"Nem egyezik\")","v":{"$error":"#REF!"}}]
["595.0602534","Béklyó BLAZING, PN10, 25x3/4\"",390,{"$f":"IF(#REF!=A224, \"Egyezik\", \"Nem egyezik\")","v":{"$error":"#REF!"}}]
["595.0603234","Béklyó BLAZING, PN10, 32x3/4\"",390,{"$f":"IF(#REF!=A225, \"Egyezik\", \"Nem egyezik\")","v":{"$error":"#REF!"}}]
["I110311D","Béklyó PN10 110x1\"",1098,{"$f":"IF(#REF!=A226, \"Egyezik\", \"Nem egyezik\")","v":{"$error":"#REF!"}}]
[2180010,"Béklyó PN10 20×1/2\"",228,{"$f":"IF(#REF!=A227, \"Egyezik\", \"Nem egyezik\")","v":{"$error":"#REF!"}}]
[55002502,"Béklyó PN10 25x1/2\"",290,{"$f":"IF(#REF!=A228, \"Egyezik\", \"Nem egyezik\")","v":{"$error":"#REF!"}}]
["I10325B","Béklyó PN10 25x1/2\" IRRITEC",290,{"$f":"IF(#REF!=A229, \"Egyezik\", \"Nem egyezik\")","v":{"$error":"#REF!"}}]
[55002504,"Béklyó PN10 25x3/4\"",290,{"$f":"IF(#REF!=A230, \"Egyezik\", \"Nem egyezik\")","v":{"$error":"#REF!"}}]
["I10325","Béklyó PN10 25x3/4\" IRRITEC",290,{"$f":"IF(#REF!=A231, \"Egyezik\", \"Nem egyezik\")","v":{"$error":"#REF!"}}]
["B32x1","Béklyó PN10 32x1\"",350,{"$f":"IF(#REF!=A232, \"Egyezik\", \"Nem egyezik\")","v":{"$error":"#REF!"}}]
[55003202,"Béklyó PN10 32x1/2\"",290,{"$f":"IF(#REF!=A233, \"Egyezik\", \"Nem egyezik\")","v":{"$error":"#REF!"}}]
["I10332B","Béklyó PN10 32x1/2\" IRRITEC",290,{"$f":"IF(#REF!=A234, \"Egyezik\", \"Nem egyezik\")","v":{"$error":"#REF!"}}]
[55003204,"Béklyó PN10 32x3/4\"",290,{"$f":"IF(#REF!=A235, \"Egyezik\", \"Nem egyezik\")","v":{"$error":"#REF!"}}]
["I10332C","Béklyó PN10 32x3/4\" IRRITEC",290,{"$f":"IF(#REF!=A236, \"Egyezik\", \"Nem egyezik\")","v":{"$error":"#REF!"}}]
["E140 4003","Béklyó PN10 40×1\"",282,{"$f":"IF(#REF!=A237, \"Egyezik\", \"Nem egyezik\")","v":{"$error":"#REF!"}}]
["E140 4001","Béklyó PN10 40×1/2\"",254,{"$f":"IF(#REF!=A238, \"Egyezik\", \"Nem egyezik\")","v":{"$error":"#REF!"}}]
["E140 4002","Béklyó PN10 40×3/4\"",280,{"$f":"IF(#REF!=A239, \"Egyezik\", \"Nem egyezik\")","v":{"$error":"#REF!"}}]
["E140 5003","Béklyó PN10 50×1\"",365,{"$f":"IF(#REF!=A240, \"Egyezik\", \"Nem egyezik\")","v":{"$error":"#REF!"}}]
["E140 5001","Béklyó PN10 50×1/2\"",368,{"$f":"IF(#REF!=A241, \"Egyezik\", \"Nem egyezik\")","v":{"$error":"#REF!"}}]
["E140 5002","Béklyó PN10 50×3/4\"",369,{"$f":"IF(#REF!=A242, \"Egyezik\", \"Nem egyezik\")","v":{"$error":"#REF!"}}]
["B501/12","Béklyó PN10 50x5/4\"",367,{"$f":"IF(#REF!=A243, \"Egyezik\", \"Nem egyezik\")","v":{"$error":"#REF!"}}]
["E140 6303","Béklyó PN10 63×1\"",496,{"$f":"IF(#REF!=A244, \"Egyezik\", \"Nem egyezik\")","v":{"$error":"#REF!"}}]
["E140 6301","Béklyó PN10 63×1/2\"",442,{"$f":"IF(#REF!=A245, \"Egyezik\", \"Nem egyezik\")","v":{"$error":"#REF!"}}]
["E140 6302","Béklyó PN10 63×3/4\"",489,{"$f":"IF(#REF!=A246, \"Egyezik\", \"Nem egyezik\")","v":{"$error":"#REF!"}}]
["B63x5/4","Béklyó PN10 63x5/4\"",489,{"$f":"IF(#REF!=A247, \"Egyezik\", \"Nem egyezik\")","v":{"$error":"#REF!"}}]
["E140 6305","Béklyó PN10 63x6/4\"",470,{"$f":"IF(#REF!=A248, \"Egyezik\", \"Nem egyezik\")","v":{"$error":"#REF!"}}]
["B75x1","Béklyó PN10 75x1\"",601,{"$f":"IF(#REF!=A249, \"Egyezik\", \"Nem egyezik\")","v":{"$error":"#REF!"}}]
[2180260,"Béklyó PN10 90 x 1\"",721,{"$f":"IF(#REF!=A250, \"Egyezik\", \"Nem egyezik\")","v":{"$error":"#REF!"}}]
["E 140 9002","Béklyó PN10 90 x 2\"",826,{"$f":"IF(#REF!=A251, \"Egyezik\", \"Nem egyezik\")","v":{"$error":"#REF!"}}]
["E140 9002","Béklyó PN10 90×3/4\"",711,{"$f":"IF(#REF!=A252, \"Egyezik\", \"Nem egyezik\")","v":{"$error":"#REF!"}}]
["3201/0322","Béklyó PN10 CSÚSZKÁS 32x3/4\"",265,{"$f":"IF(#REF!=A253, \"Egyezik\", \"Nem egyezik\")","v":{"$error":"#REF!"}}]
["5250-2513-30","Béklyó PN10 HAKU 160×2\"",29312,{"$f":"IF(#REF!=A254, \"Egyezik\", \"Nem egyezik\")","v":{"$error":"#REF!"}}]
["PL.INS.16","Betét tokos LPE-fittinghez 16mm, ZÖLD",35,{"$f":"IF(#REF!=A255, \"Egyezik\", \"Nem egyezik\")","v":{"$error":"#REF!"}}]
["PL.INS.20","Betét tokos LPE-fittinghez 20mm, KÉK",35,{"$f":"IF(#REF!=A256, \"Egyezik\", \"Nem egyezik\")","v":{"$error":"#REF!"}}]
[21763,"Bilincs 20-32 INOX",143,{"$f":"IF(#REF!=A257, \"Egyezik\", \"Nem egyezik\")","v":{"$error":"#REF!"}}]
["0034.3117","Biztosíték, olvadó, késleltetett, 1A, 250VAC, 5x20mm",118,{"$f":"IF(#REF!=A258, \"Egyezik\", \"Nem egyezik\")","v":{"$error":"#REF!"}}]
[7962103359,"BM E PN10, NO, 25×1\" belső menetes egyenes idom",213,{"$f":"IF(#REF!=A259, \"Egyezik\", \"Nem egyezik\")","v":{"$error":"#REF!"}}]
[7962103360,"BM E PN10, NO, 25×1/2\" belső menetes egyenes idom",213,{"$f":"IF(#REF!=A260, \"Egyezik\", \"Nem egyezik\")","v":{"$error":"#REF!"}}]
[7962103358,"BM E PN10, NO, 25×3/4\" belső menetes egyenes idom",213,{"$f":"IF(#REF!=A261, \"Egyezik\", \"Nem egyezik\")","v":{"$error":"#REF!"}}]
[7962103361,"BM E PN10, NO, 32×1\" belső menetes egyenes idom",272,{"$f":"IF(#REF!=A262, \"Egyezik\", \"Nem egyezik\")","v":{"$error":"#REF!"}}]
[7962103362,"BM E PN10, NO, 32×3/4\" belső menetes egyenes idom",272,{"$f":"IF(#REF!=A263, \"Egyezik\", \"Nem egyezik\")","v":{"$error":"#REF!"}}]
["E 100 5004","BM E PN16, CE, 50×5/4\" belső menetes egyenes idom",832,{"$f":"IF(#REF!=A264, \"Egyezik\", \"Nem egyezik\")","v":{"$error":"#REF!"}}]
["E 100 6305","BM E PN16, CE, 63×6/4\" belső menetes egyenes idom",1047,{"$f":"IF(#REF!=A265, \"Egyezik\", \"Nem egyezik\")","v":{"$error":"#REF!"}}]
[7962651028,"BM E PN16, NO, 25×1\" belső menetes egyenes idom",283,{"$f":"IF(#REF!=A266, \"Egyezik\", \"Nem egyezik\")","v":{"$error":"#REF!"}}]
[7962651022,"BM E PN16, NO, 25×1/2\" belső menetes egyenes idom",283,{"$f":"IF(#REF!=A267, \"Egyezik\", \"Nem egyezik\")","v":{"$error":"#REF!"}}]
[7962651025,"BM E PN16, NO, 25×3/4\" belső menetes egyenes idom",283,{"$f":"IF(#REF!=A268, \"Egyezik\", \"Nem egyezik\")","v":{"$error":"#REF!"}}]
[7962651033,"BM E PN16, NO, 32×1\" belső menetes egyenes idom",369,{"$f":"IF(#REF!=A269, \"Egyezik\", \"Nem egyezik\")","v":{"$error":"#REF!"}}]
[7962651030,"BM E PN16, NO, 32×3/4\" belső menetes egyenes idom",369,{"$f":"IF(#REF!=A270, \"Egyezik\", \"Nem egyezik\")","v":{"$error":"#REF!"}}]
[7962651037,"BM E PN16, NO, 40×1\" belső menetes egyenes idom",638,{"$f":"IF(#REF!=A271, \"Egyezik\", \"Nem egyezik\")","v":{"$error":"#REF!"}}]
["E100 2503","BM E PN16, PO, 25×1\" belső menetes egyenes idom",339,{"$f":"IF(#REF!=A272, \"Egyezik\", \"Nem egyezik\")","v":{"$error":"#REF!"}}]
["05025060","BM E PN16, PO, 25×1\" HOLLANDERES egyenes idom",480,{"$f":"IF(#REF!=A273, \"Egyezik\", \"Nem egyezik\")","v":{"$error":"#REF!"}}]
["02020030","BM E PN16, PO, 25×1/2\" belső menetes egyenes idom",339,{"$f":"IF(#REF!=A274, \"Egyezik\", \"Nem egyezik\")","v":{"$error":"#REF!"}}]
["E100 2502","BM E PN16, PO, 25×3/4\" belső menetes egyenes idom",339,{"$f":"IF(#REF!=A275, \"Egyezik\", \"Nem egyezik\")","v":{"$error":"#REF!"}}]
["E100 3203","BM E PN16, PO, 32×1\" belső menetes egyenes idom",409,{"$f":"IF(#REF!=A276, \"Egyezik\", \"Nem egyezik\")","v":{"$error":"#REF!"}}]
["05025080","BM E PN16, PO, 32×1\" HOLLANDERES egyenes idom",523,{"$f":"IF(#REF!=A277, \"Egyezik\", \"Nem egyezik\")","v":{"$error":"#REF!"}}]
["E100 3202","BM E PN16, PO, 32×3/4\" belső menetes egyenes idom",409,{"$f":"IF(#REF!=A278, \"Egyezik\", \"Nem egyezik\")","v":{"$error":"#REF!"}}]
["E 100 4003","BM E PN16, PO, 40×1\" belső menetes egyenes idom",561,{"$f":"IF(#REF!=A279, \"Egyezik\", \"Nem egyezik\")","v":{"$error":"#REF!"}}]
["02030060","BM E PN16, PO, 40×1\" HOLLANDERES egyenes idom",583,{"$f":"IF(#REF!=A280, \"Egyezik\", \"Nem egyezik\")","v":{"$error":"#REF!"}}]
["E 100 4004","BM E PN16, PO, 40×5/4\" belső menetes egyenes idom",561,{"$f":"IF(#REF!=A281, \"Egyezik\", \"Nem egyezik\")","v":{"$error":"#REF!"}}]
["E 100 4005","BM E PN16, PO, 40×6/4\" belső menetes egyenes idom",561,{"$f":"IF(#REF!=A282, \"Egyezik\", \"Nem egyezik\")","v":{"$error":"#REF!"}}]
[2020110,"BM E PN16, PO, 50×6/4\" belső menetes egyenes idom",738,{"$f":"IF(#REF!=A283, \"Egyezik\", \"Nem egyezik\")","v":{"$error":"#REF!"}}]
["E 100 6306","BM E PN16, PO, 63×2\" belső menetes egyenes idom",1047,{"$f":"IF(#REF!=A284, \"Egyezik\", \"Nem egyezik\")","v":{"$error":"#REF!"}}]
["05020165","BM E PN16, PO, 75×2\" belső menetes egyenes idom",2096,{"$f":"IF(#REF!=A285, \"Egyezik\", \"Nem egyezik\")","v":{"$error":"#REF!"}}]
["05020160","BM E PN16, PO, 75×2.5\" belső menetes egyenes idom",2096,{"$f":"IF(#REF!=A286, \"Egyezik\", \"Nem egyezik\")","v":{"$error":"#REF!"}}]
["05020190","BM E PN16, PO, 90×3\" belső menetes egyenes idom",3456,{"$f":"IF(#REF!=A287, \"Egyezik\", \"Nem egyezik\")","v":{"$error":"#REF!"}}]
["0796 2103 372","BM K PN10, NO, 25×1/2\" belső menetes könyök idom",272,{"$f":"IF(#REF!=A288, \"Egyezik\", \"Nem egyezik\")","v":{"$error":"#REF!"}}]
["0796 2103 370","BM K PN10, NO, 25×3/4\" belső menetes könyök idom",272,{"$f":"IF(#REF!=A289, \"Egyezik\", \"Nem egyezik\")","v":{"$error":"#REF!"}}]
["0796 2103 373","BM K PN10, NO, 32×1\" belső menetes könyök idom",331,{"$f":"IF(#REF!=A290, \"Egyezik\", \"Nem egyezik\")","v":{"$error":"#REF!"}}]
["0796 2103 374","BM K PN10, NO, 32×3/4\" belső menetes könyök idom",331,{"$f":"IF(#REF!=A291, \"Egyezik\", \"Nem egyezik\")","v":{"$error":"#REF!"}}]
["11723","BM K PN16, CE, 25×3/4\" belső menetes könyök idom, FALI",847,{"$f":"IF(#REF!=A292, \"Egyezik\", \"Nem egyezik\")","v":{"$error":"#REF!"}}]
["39174000","BM K PN16, CE, 40×6/4\" belső menetes könyök idom",770,{"$f":"IF(#REF!=A293, \"Egyezik\", \"Nem egyezik\")","v":{"$error":"#REF!"}}]
["01488","BM K PN16, CE, 50×2\" belső menetes könyök idom",1151,{"$f":"IF(#REF!=A294, \"Egyezik\", \"Nem egyezik\")","v":{"$error":"#REF!"}}]
["34577","BM K PN16, CE, 50×5/4\" belső menetes könyök idom",1498,{"$f":"IF(#REF!=A295, \"Egyezik\", \"Nem egyezik\")","v":{"$error":"#REF!"}}]
["E125 4005","BM K PN16, CE, 50×6/4\" belső menetes könyök idom",1065,{"$f":"IF(#REF!=A296, \"Egyezik\", \"Nem egyezik\")","v":{"$error":"#REF!"}}]
[7962651061,"BM K PN16, NO, 25×1\" belső menetes könyök idom",369,{"$f":"IF(#REF!=A297, \"Egyezik\", \"Nem egyezik\")","v":{"$error":"#REF!"}}]
[7962651056,"BM K PN16, NO, 25×1/2\" belső menetes könyök idom",369,{"$f":"IF(#REF!=A298, \"Egyezik\", \"Nem egyezik\")","v":{"$error":"#REF!"}}]
[7962651059,"BM K PN16, NO, 25×3/4\" belső menetes könyök idom",369,{"$f":"IF(#REF!=A299, \"Egyezik\", \"Nem egyezik\")","v":{"$error":"#REF!"}}]
[7962030360,"BM K PN16, NO, 25×3/4\" belső menetes könyök idom, FALI",213,{"$f":"IF(#REF!=A300, \"Egyezik\", \"Nem egyezik\")","v":{"$error":"#REF!"}}]
[7962651068,"BM K PN16, NO, 32×1\" belső menetes könyök idom",442,{"$f":"IF(#REF!=A301, \"Egyezik\", \"Nem egyezik\")","v":{"$error":"#REF!"}}]
[7962651065,"BM K PN16, NO, 32×3/4\" belső menetes könyök idom",442,{"$f":"IF(#REF!=A302, \"Egyezik\", \"Nem egyezik\")","v":{"$error":"#REF!"}}]
["E125 2503","BM K PN16, PO, 25×1\" belső menetes könyök idom",424,{"$f":"IF(#REF!=A303, \"Egyezik\", \"Nem egyezik\")","v":{"$error":"#REF!"}}]
["2020030","BM K PN16, PO, 25×1/2\" belső menetes könyök idom",424,{"$f":"IF(#REF!=A304, \"Egyezik\", \"Nem egyezik\")","v":{"$error":"#REF!"}}]
["E125 2502","BM K PN16, PO, 25×3/4\" belső menetes könyök idom",424,{"$f":"IF(#REF!=A305, \"Egyezik\", \"Nem egyezik\")","v":{"$error":"#REF!"}}]
["E125 3203","BM K PN16, PO, 32×1\" belső menetes könyök idom",507,{"$f":"IF(#REF!=A306, \"Egyezik\", \"Nem egyezik\")","v":{"$error":"#REF!"}}]
["E125 3202","BM K PN16, PO, 32×3/4\" belső menetes könyök idom",507,{"$f":"IF(#REF!=A307, \"Egyezik\", \"Nem egyezik\")","v":{"$error":"#REF!"}}]
["E125 4003","BM K PN16, PO, 40×1\" belső menetes könyök idom",650,{"$f":"IF(#REF!=A308, \"Egyezik\", \"Nem egyezik\")","v":{"$error":"#REF!"}}]
["33488","BM K PN16, PO, 40×3/4\" belső menetes könyök idom",613,{"$f":"IF(#REF!=A309, \"Egyezik\", \"Nem egyezik\")","v":{"$error":"#REF!"}}]
["E125 4004","BM K PN16, PO, 40×5/4\" belső menetes könyök idom",797,{"$f":"IF(#REF!=A310, \"Egyezik\", \"Nem egyezik\")","v":{"$error":"#REF!"}}]
["E125 6306","BM K PN16, PO, 63×2\" belső menetes könyök idom",1439,{"$f":"IF(#REF!=A311, \"Egyezik\", \"Nem egyezik\")","v":{"$error":"#REF!"}}]
["01490","BM K PN16, PO, 75×2\" belső menetes könyök idom",2580,{"$f":"IF(#REF!=A312, \"Egyezik\", \"Nem egyezik\")","v":{"$error":"#REF!"}}]
["05070111","BM K PN16, PO, 75×2.5\" belső menetes könyök idom",2584,{"$f":"IF(#REF!=A313, \"Egyezik\", \"Nem egyezik\")","v":{"$error":"#REF!"}}]
[7962651096,"BM T PN16, NO, 25×1\"x25 belső menetes t-idom",682,{"$f":"IF(#REF!=A314, \"Egyezik\", \"Nem egyezik\")","v":{"$error":"#REF!"}}]
[7962651094,"BM T PN16, NO, 25×3/4\"x25 belső menetes t-idom",546,{"$f":"IF(#REF!=A315, \"Egyezik\", \"Nem egyezik\")","v":{"$error":"#REF!"}}]
[7962651100,"BM T PN16, NO, 32×1\"x32 belső menetes t-idom",662,{"$f":"IF(#REF!=A316, \"Egyezik\", \"Nem egyezik\")","v":{"$error":"#REF!"}}]
[7962651098,"BM T PN16, NO, 32×3/4\"x32 belső menetes t-idom",662,{"$f":"IF(#REF!=A317, \"Egyezik\", \"Nem egyezik\")","v":{"$error":"#REF!"}}]
["E 85 250325","BM T PN16, PO, 25×1\"x25 belső menetes t-idom",581,{"$f":"IF(#REF!=A318, \"Egyezik\", \"Nem egyezik\")","v":{"$error":"#REF!"}}]
["E 85 250225","BM T PN16, PO, 25×3/4\"x25 belső menetes t-idom",645,{"$f":"IF(#REF!=A319, \"Egyezik\", \"Nem egyezik\")","v":{"$error":"#REF!"}}]
["6BAR 320332","BM T PN16, PO, 32×1\"x32 belső menetes t-idom",839,{"$f":"IF(#REF!=A320, \"Egyezik\", \"Nem egyezik\")","v":{"$error":"#REF!"}}]
["02160070","BM T PN16, PO, 32×3/4\"x32 belső menetes t-idom",840,{"$f":"IF(#REF!=A321, \"Egyezik\", \"Nem egyezik\")","v":{"$error":"#REF!"}}]
["E 85 400340","BM T PN16, PO, 40×1\"x40 belső menetes t-idom",1136,{"$f":"IF(#REF!=A322, \"Egyezik\", \"Nem egyezik\")","v":{"$error":"#REF!"}}]
["E 85 400440","BM T PN16, PO, 40×5/4\"x40 belső menetes t-idom",1136,{"$f":"IF(#REF!=A323, \"Egyezik\", \"Nem egyezik\")","v":{"$error":"#REF!"}}]
["33129","BM T PN16, PO, 50×1\"x50 belső menetes t-idom",1527,{"$f":"IF(#REF!=A324, \"Egyezik\", \"Nem egyezik\")","v":{"$error":"#REF!"}}]
[2160120,"BM T PN16, PO, 50×6/4\"x50 belső menetes t-idom",1609,{"$f":"IF(#REF!=A325, \"Egyezik\", \"Nem egyezik\")","v":{"$error":"#REF!"}}]
["33130","BM T PN16, PO, 63×1\"x63 belső menetes t-idom",2632,{"$f":"IF(#REF!=A326, \"Egyezik\", \"Nem egyezik\")","v":{"$error":"#REF!"}}]
["E 85 630763","BM T PN16, PO, 63×2\"x63 belső menetes t-idom",3129,{"$f":"IF(#REF!=A327, \"Egyezik\", \"Nem egyezik\")","v":{"$error":"#REF!"}}]
["39174000","BM T PN16, PO, 63×6/4\"x63 belső menetes t-idom",3920,{"$f":"IF(#REF!=A328, \"Egyezik\", \"Nem egyezik\")","v":{"$error":"#REF!"}}]
["BMT75x2 1/2\"x75","BM T PN16, PO, 75×2.5\"x75 belső menetes t-idom",4414,{"$f":"IF(#REF!=A329, \"Egyezik\", \"Nem egyezik\")","v":{"$error":"#REF!"}}]
["05100160","BM T PN16, PO, 90×3\"x90 belső menetes t-idom",6778,{"$f":"IF(#REF!=A330, \"Egyezik\", \"Nem egyezik\")","v":{"$error":"#REF!"}}]
["IR.622.0301","Bővítő BK 1\"x1/2\"",178,{"$f":"IF(#REF!=A331, \"Egyezik\", \"Nem egyezik\")","v":{"$error":"#REF!"}}]
["IR.622.0302","Bővítő BK 1\"x3/4\"",188,{"$f":"IF(#REF!=A332, \"Egyezik\", \"Nem egyezik\")","v":{"$error":"#REF!"}}]
["IR.622.0605","Bővítő BK 2\"x6/4\"",555,{"$f":"IF(#REF!=A333, \"Egyezik\", \"Nem egyezik\")","v":{"$error":"#REF!"}}]
["IR.622.0201","Bővítő BK 3/4\"x1/2\"",158,{"$f":"IF(#REF!=A334, \"Egyezik\", \"Nem egyezik\")","v":{"$error":"#REF!"}}]
["IR.622.0403","Bővítő BK 5/4\"x1\"",272,{"$f":"IF(#REF!=A335, \"Egyezik\", \"Nem egyezik\")","v":{"$error":"#REF!"}}]
["IR.662.0504","Bővítő BK 6/4\"x5/4\"",346,{"$f":"IF(#REF!=A336, \"Egyezik\", \"Nem egyezik\")","v":{"$error":"#REF!"}}]
["BRIO","BRIO 2000-M",12205,{"$f":"IF(#REF!=A337, \"Egyezik\", \"Nem egyezik\")","v":{"$error":"#REF!"}}]
["200.4180410","C-Dial, BELTÉRI, 4 zónás vezérlő",11863,{"$f":"IF(#REF!=A338, \"Egyezik\", \"Nem egyezik\")","v":{"$error":"#REF!"}}]
["200.4180610","C-Dial, BELTÉRI, 6 zónás vezérlő",13486,{"$f":"IF(#REF!=A339, \"Egyezik\", \"Nem egyezik\")","v":{"$error":"#REF!"}}]
["53-210","Cellfast 3 méretű csapcsatlakozó, 1/2\", 3/4\", 1\" BM",956,{"$f":"IF(#REF!=A340, \"Egyezik\", \"Nem egyezik\")","v":{"$error":"#REF!"}}]
["53-540","Cellfast 4 funkciós locsoló pisztoly készlet 1/2\"",7944,{"$f":"IF(#REF!=A341, \"Egyezik\", \"Nem egyezik\")","v":{"$error":"#REF!"}}]
["35-004","Cellfast damil, 2.4 mm, kör, 15 m",634,{"$f":"IF(#REF!=A342, \"Egyezik\", \"Nem egyezik\")","v":{"$error":"#REF!"}}]
["52-220","Cellfast elosztó, 2 utas, BM 3/4\", 1\"",1643,{"$f":"IF(#REF!=A343, \"Egyezik\", \"Nem egyezik\")","v":{"$error":"#REF!"}}]
["52-240","Cellfast elosztó, 4 utas, BM 3/4\", 1\"",3430,{"$f":"IF(#REF!=A344, \"Egyezik\", \"Nem egyezik\")","v":{"$error":"#REF!"}}]
["19-002","Cellfast ízzadócső, ÁTM: 1/2\", 15 m",4166,{"$f":"IF(#REF!=A345, \"Egyezik\", \"Nem egyezik\")","v":{"$error":"#REF!"}}]
["19-002","Cellfast ízzadócső, ÁTM: 1/2\", 7.5 m",3035,{"$f":"IF(#REF!=A346, \"Egyezik\", \"Nem egyezik\")","v":{"$error":"#REF!"}}]
["40-002","Cellfast Kertészeti ásó hegyes",6950,{"$f":"IF(#REF!=A347, \"Egyezik\", \"Nem egyezik\")","v":{"$error":"#REF!"}}]
["40-001","Cellfast Kertészeti ásó íves",6950,{"$f":"IF(#REF!=A348, \"Egyezik\", \"Nem egyezik\")","v":{"$error":"#REF!"}}]
["KAY","Cellfast Kertészeti csatornaásó",3240,{"$f":"IF(#REF!=A349, \"Egyezik\", \"Nem egyezik\")","v":{"$error":"#REF!"}}]
["92-013","Cellfast Kesztyű, speciális",4247,{"$f":"IF(#REF!=A350, \"Egyezik\", \"Nem egyezik\")","v":{"$error":"#REF!"}}]
["53-510","Cellfast Klasszikus többfunkciós locsoló szett 1/2\"",5194,{"$f":"IF(#REF!=A351, \"Egyezik\", \"Nem egyezik\")","v":{"$error":"#REF!"}}]
["53-515","Cellfast Klasszikus többfunkciós locsoló szett 3/4\"",5493,{"$f":"IF(#REF!=A352, \"Egyezik\", \"Nem egyezik\")","v":{"$error":"#REF!"}}]
["16-200","Cellfast Locsolótömlő Hobby ***** ATS2, 6 rétegű, 1/2\" 25m",6862,{"$f":"IF(#REF!=A353, \"Egyezik\", \"Nem egyezik\")","v":{"$error":"#REF!"}}]
["16-201","Cellfast Locsolótömlő Hobby ***** ATS2, 6 rétegű, 1/2\" 50m",13442,{"$f":"IF(#REF!=A354, \"Egyezik\", \"Nem egyezik\")","v":{"$error":"#REF!"}}]
["16-220","Cellfast Locsolótömlő Hobby ***** ATS2, 6 rétegű, 3/4\" 25m",11431,{"$f":"IF(#REF!=A355, \"Egyezik\", \"Nem egyezik\")","v":{"$error":"#REF!"}}]
["16-221","Cellfast Locsolótömlő Hobby ***** ATS2, 6 rétegű, 3/4\" 50m",22401,{"$f":"IF(#REF!=A356, \"Egyezik\", \"Nem egyezik\")","v":{"$error":"#REF!"}}]
["16-209","Cellfast Locsolótömlő Hobby set 1/2\" 20m",9023,{"$f":"IF(#REF!=A357, \"Egyezik\", \"Nem egyezik\")","v":{"$error":"#REF!"}}]
["13-100","Cellfast Locsolótömlő Smart *** ATS Variant, 3 rétegű, 1/2\" 25m",5031,{"$f":"IF(#REF!=A358, \"Egyezik\", \"Nem egyezik\")","v":{"$error":"#REF!"}}]
["13-101","Cellfast Locsolótömlő Smart *** ATS Variant, 3 rétegű, 1/2\" 50m",10055,{"$f":"IF(#REF!=A359, \"Egyezik\", \"Nem egyezik\")","v":{"$error":"#REF!"}}]
["13-120","Cellfast Locsolótömlő Smart *** ATS Variant, 3 rétegű, 3/4\" 25m",8685,{"$f":"IF(#REF!=A360, \"Egyezik\", \"Nem egyezik\")","v":{"$error":"#REF!"}}]
["13-121","Cellfast Locsolótömlő Smart *** ATS Variant, 3 rétegű, 3/4\" 50m",17371,{"$f":"IF(#REF!=A361, \"Egyezik\", \"Nem egyezik\")","v":{"$error":"#REF!"}}]
["50-725","Cellfast O-gyűrű szett",388,{"$f":"IF(#REF!=A362, \"Egyezik\", \"Nem egyezik\")","v":{"$error":"#REF!"}}]
["22-102","Cellfast Slag vízmérték 25m",4017,{"$f":"IF(#REF!=A363, \"Egyezik\", \"Nem egyezik\")","v":{"$error":"#REF!"}}]
["53-530","Cellfast Többfunkciós locsoló pisztoly készlet 1/2\"",7319,{"$f":"IF(#REF!=A364, \"Egyezik\", \"Nem egyezik\")","v":{"$error":"#REF!"}}]
["53-535","Cellfast Többfunkciós locsoló pisztoly készlet 3/4\"",7624,{"$f":"IF(#REF!=A365, \"Egyezik\", \"Nem egyezik\")","v":{"$error":"#REF!"}}]
["53-120","Cellfast tömlő gyorscsatlakozó, Ergo Stop 1/2\"",1118,{"$f":"IF(#REF!=A366, \"Egyezik\", \"Nem egyezik\")","v":{"$error":"#REF!"}}]
["53-125","Cellfast tömlő gyorscsatlakozó, Ergo Stop 3/4\"",1305,{"$f":"IF(#REF!=A367, \"Egyezik\", \"Nem egyezik\")","v":{"$error":"#REF!"}}]
["55-050","Cellfast Tömlőkocsi, fém, Explorer",20975,{"$f":"IF(#REF!=A368, \"Egyezik\", \"Nem egyezik\")","v":{"$error":"#REF!"}}]
["40-100","Cellfast Univerzális gereblye fém nyéllel",5146,{"$f":"IF(#REF!=A369, \"Egyezik\", \"Nem egyezik\")","v":{"$error":"#REF!"}}]
["42-002","Cellfast Ültető lapát keskeny",2252,{"$f":"IF(#REF!=A370, \"Egyezik\", \"Nem egyezik\")","v":{"$error":"#REF!"}}]
["42-001","Cellfast Ültető lapát széles",2252,{"$f":"IF(#REF!=A371, \"Egyezik\", \"Nem egyezik\")","v":{"$error":"#REF!"}}]
["1080006016","COBRA bilincs, fém, 16mm",133,{"$f":"IF(#REF!=A372, \"Egyezik\", \"Nem egyezik\")","v":{"$error":"#REF!"}}]
["1087006020","COBRA bilincs, fém, 20mm",142,{"$f":"IF(#REF!=A373, \"Egyezik\", \"Nem egyezik\")","v":{"$error":"#REF!"}}]
["56113","CPV2071B mágnesszelep 3/4\" BB",5293,{"$f":"IF(#REF!=A374, \"Egyezik\", \"Nem egyezik\")","v":{"$error":"#REF!"}}]
["56114","CPV2101B mágnesszelep 1\" BB 24V, átf. szab.",5511,{"$f":"IF(#REF!=A375, \"Egyezik\", \"Nem egyezik\")","v":{"$error":"#REF!"}}]
["CS-530","CS-530 fúvóka Hunter, (SZ2.7m x H5.5m)",530,{"$f":"IF(#REF!=A376, \"Egyezik\", \"Nem egyezik\")","v":{"$error":"#REF!"}}]
["csap20x20","Csap műanyag 20x20mm bordás",223,{"$f":"IF(#REF!=A377, \"Egyezik\", \"Nem egyezik\")","v":{"$error":"#REF!"}}]
["csap4x4","Csap műanyag 4x4mm",250,{"$f":"IF(#REF!=A378, \"Egyezik\", \"Nem egyezik\")","v":{"$error":"#REF!"}}]
[31590202,"Csap műanyag KB 3/4\" x 3/4\"",182,{"$f":"IF(#REF!=A379, \"Egyezik\", \"Nem egyezik\")","v":{"$error":"#REF!"}}]
[31560201,"Csap műanyag KM 3/4\" x 1/2\"",182,{"$f":"IF(#REF!=A380, \"Egyezik\", \"Nem egyezik\")","v":{"$error":"#REF!"}}]
[31560202,"Csap műanyag KM 3/4\" x 3/4\"",182,{"$f":"IF(#REF!=A381, \"Egyezik\", \"Nem egyezik\")","v":{"$error":"#REF!"}}]
["OR94000","Csapra szerelhető vezérlő, Orbit BUDDY III, 2 automata+1 manuális zóna",28192,{"$f":"IF(#REF!=A382, \"Egyezik\", \"Nem egyezik\")","v":{"$error":"#REF!"}}]
["OR94206","Csapra szerelhető vezérlő, Orbit HT-6",18473,{"$f":"IF(#REF!=A383, \"Egyezik\", \"Nem egyezik\")","v":{"$error":"#REF!"}}]
["OR94148","Csapra szerelhető vezérlő, Orbit HT-6, 2 zónás",19960,{"$f":"IF(#REF!=A384, \"Egyezik\", \"Nem egyezik\")","v":{"$error":"#REF!"}}]
["200.4094700","Csapra szerelhető vezérlő, Rain AMICO +",11139,{"$f":"IF(#REF!=A385, \"Egyezik\", \"Nem egyezik\")","v":{"$error":"#REF!"}}]
["200.4044502","Csapra szerelhető vezérlő, Rain AMICO 2+, 2 zónás",17745,{"$f":"IF(#REF!=A386, \"Egyezik\", \"Nem egyezik\")","v":{"$error":"#REF!"}}]
["1ZEHTMR","Csapra szerelhető vezérlő, Rain Bird 1ZEHTMR",17151,{"$f":"IF(#REF!=A387, \"Egyezik\", \"Nem egyezik\")","v":{"$error":"#REF!"}}]
["200.6800100","Csapra szerelhető vezérlő, Rain CLICK",7892,{"$f":"IF(#REF!=A388, \"Egyezik\", \"Nem egyezik\")","v":{"$error":"#REF!"}}]
["200.6800200","Csapra szerelhető vezérlő, Rain CLICK +",9746,{"$f":"IF(#REF!=A389, \"Egyezik\", \"Nem egyezik\")","v":{"$error":"#REF!"}}]
["200.6800300","Csapra szerelhető vezérlő, Rain CLICK BLUETOOTH",11316,{"$f":"IF(#REF!=A390, \"Egyezik\", \"Nem egyezik\")","v":{"$error":"#REF!"}}]
["200.6800400","Csapra szerelhető vezérlő, Rain CLICK MIST",7892,{"$f":"IF(#REF!=A391, \"Egyezik\", \"Nem egyezik\")","v":{"$error":"#REF!"}}]
["TTT-985371091","Csapra szerelhető vezérlő, Toro ETT",18155,{"$f":"IF(#REF!=A392, \"Egyezik\", \"Nem egyezik\")","v":{"$error":"#REF!"}}]
["4SPINS","Csatlakozó dugalj szivattyúhoz",3055,{"$f":"IF(#REF!=A393, \"Egyezik\", \"Nem egyezik\")","v":{"$error":"#REF!"}}]
["PLA201000832","Csepegésgátló Rondó Mikroszóró Fúvókához",378,{"$f":"IF(#REF!=A394, \"Egyezik\", \"Nem egyezik\")","v":{"$error":"#REF!"}}]
["XFS2333100","Csepegtető CSŐ, BEÁSHATÓ, PC, LPE 16mm/30cm, Rain Bird, 100m tekercsben",32037,{"$f":"IF(#REF!=A395, \"Egyezik\", \"Nem egyezik\")","v":{"$error":"#REF!"}}]
["16PC uniram","Csepegtető CSŐ, BEÁSHATÓ, PC, LPE 16mm/33cm",192,{"$f":"IF(#REF!=A396, \"Egyezik\", \"Nem egyezik\")","v":{"$error":"#REF!"}}]
["IRDL 1630-2","Csepegtető CSŐ, LPE 16mm/33cm, 2l/h",95,{"$f":"IF(#REF!=A397, \"Egyezik\", \"Nem egyezik\")","v":{"$error":"#REF!"}}]
["800.5020102","Csepegtető CSŐ, LPE 16mm/33cm, 2l/h, barna, RAIN, 100m tekercsben",9055,{"$f":"IF(#REF!=A398, \"Egyezik\", \"Nem egyezik\")","v":{"$error":"#REF!"}}]
["3496 5233","Csepegtető CSŐ, LPE 16mm/33cm, 2l/h, PP, 100 m tekercsben",95,{"$f":"IF(#REF!=A399, \"Egyezik\", \"Nem egyezik\")","v":{"$error":"#REF!"}}]
["800.5020450","Csepegtető CSŐ, LPE 16mm/33cm, 2l/h, RAIN, 100m tekercsben",8054,{"$f":"IF(#REF!=A400, \"Egyezik\", \"Nem egyezik\")","v":{"$error":"#REF!"}}]
["IMON163010","Csepegtető CSŐ, LPE 16mm/33cm, 2l/h, SIPLAST, 100m tekercsben",11200,{"$f":"IF(#REF!=A401, \"Egyezik\", \"Nem egyezik\")","v":{"$error":"#REF!"}}]
["09100343","Csepegtető CSŐ, LPE 20mm/33cm, 2l/h !!!",124,{"$f":"IF(#REF!=A402, \"Egyezik\", \"Nem egyezik\")","v":{"$error":"#REF!"}}]
["IMON203010","Csepegtető CSŐ, LPE 20mm/33cm, 2l/h, SIPLAST, 100m tekercsben",15000,{"$f":"IF(#REF!=A403, \"Egyezik\", \"Nem egyezik\")","v":{"$error":"#REF!"}}]
["IRDL 2030-4","Csepegtető CSŐ, LPE 20mm/33cm, 4l/h",124,{"$f":"IF(#REF!=A404, \"Egyezik\", \"Nem egyezik\")","v":{"$error":"#REF!"}}]
["09110110","Csepegtető CSŐ, LPE 20mm/33cm, 4l/h BARNA",134,{"$f":"IF(#REF!=A405, \"Egyezik\", \"Nem egyezik\")","v":{"$error":"#REF!"}}]
["3496 5433","Csepegtető CSŐ, LPE 20mm/33cm, 4l/h, PP",124,{"$f":"IF(#REF!=A406, \"Egyezik\", \"Nem egyezik\")","v":{"$error":"#REF!"}}]
[8002410032,"Csepegtető CSŐ, LPE 6mm/15cm, 2l/h, barna, 30m tekercsben",2986,{"$f":"IF(#REF!=A407, \"Egyezik\", \"Nem egyezik\")","v":{"$error":"#REF!"}}]
["LDQ0806100","Csepegtető CSŐ, LPE 6mm/15cm, 2l/h, Rain Bird",6947,{"$f":"IF(#REF!=A408, \"Egyezik\", \"Nem egyezik\")","v":{"$error":"#REF!"}}]
[9110014,"Csepegtető CSŐ, PC, LPE 16mm/30cm, 2l/h",139,{"$f":"IF(#REF!=A409, \"Egyezik\", \"Nem egyezik\")","v":{"$error":"#REF!"}}]
[8002410042,"Csepegtető CSŐ, PC, LPE 16mm/30cm, 2l/h, barna, 150m tekercsben",19897,{"$f":"IF(#REF!=A410, \"Egyezik\", \"Nem egyezik\")","v":{"$error":"#REF!"}}]
[8002410040,"Csepegtető CSŐ, PC, LPE 16mm/30cm, 2l/h, barna, 30m tekercsben",4597,{"$f":"IF(#REF!=A411, \"Egyezik\", \"Nem egyezik\")","v":{"$error":"#REF!"}}]
[8002410041,"Csepegtető CSŐ, PC, LPE 16mm/30cm, 2l/h, barna, 75m tekercsben",10827,{"$f":"IF(#REF!=A412, \"Egyezik\", \"Nem egyezik\")","v":{"$error":"#REF!"}}]
["XFD2333100","Csepegtető CSŐ, PC, LPE 16mm/30cm, Rain Bird, 100m tekercsben",15600,{"$f":"IF(#REF!=A413, \"Egyezik\", \"Nem egyezik\")","v":{"$error":"#REF!"}}]
[9110109,"Csepegtető CSŐ, PC, LPE 20mm/30cm, 2l/h",206,{"$f":"IF(#REF!=A414, \"Egyezik\", \"Nem egyezik\")","v":{"$error":"#REF!"}}]
["3498/2033","Csepegtető CSŐ, SLIM, 16mm/33cm, 2l/h",72,{"$f":"IF(#REF!=A415, \"Egyezik\", \"Nem egyezik\")","v":{"$error":"#REF!"}}]
["IDNG020","Csepegtető GOMBA, 2l/h, Irritec, KÉK",90,{"$f":"IF(#REF!=A416, \"Egyezik\", \"Nem egyezik\")","v":{"$error":"#REF!"}}]
["IDNG020","Csepegtető GOMBA, 2l/h, Netafim",50,{"$f":"IF(#REF!=A417, \"Egyezik\", \"Nem egyezik\")","v":{"$error":"#REF!"}}]
["IDNG040","Csepegtető GOMBA, 4l/h, Irritec, ZÖLD",90,{"$f":"IF(#REF!=A418, \"Egyezik\", \"Nem egyezik\")","v":{"$error":"#REF!"}}]
["II KEY 050","Csepegtető GOMBA, kulcsos",55,{"$f":"IF(#REF!=A419, \"Egyezik\", \"Nem egyezik\")","v":{"$error":"#REF!"}}]
["09070049","Csepegtető GOMBA, PC, 2l/h Axios",66,{"$f":"IF(#REF!=A420, \"Egyezik\", \"Nem egyezik\")","v":{"$error":"#REF!"}}]
["08002410065","Csepegtető GOMBA, PC, 2l/h, Agrifim, KÉK",109,{"$f":"IF(#REF!=A421, \"Egyezik\", \"Nem egyezik\")","v":{"$error":"#REF!"}}]
["IDCG020","Csepegtető GOMBA, PC, 2l/h, Irritec, KÉK",130,{"$f":"IF(#REF!=A422, \"Egyezik\", \"Nem egyezik\")","v":{"$error":"#REF!"}}]
["PCJ-LNC-2","Csepegtető GOMBA, PC, 2l/h, Netafim",130,{"$f":"IF(#REF!=A423, \"Egyezik\", \"Nem egyezik\")","v":{"$error":"#REF!"}}]
["09070040","Csepegtető GOMBA, PC, 4l/h",135,{"$f":"IF(#REF!=A424, \"Egyezik\", \"Nem egyezik\")","v":{"$error":"#REF!"}}]
["08002410065","Csepegtető GOMBA, PC, 4l/h, Agrifim, FEKETE",109,{"$f":"IF(#REF!=A425, \"Egyezik\", \"Nem egyezik\")","v":{"$error":"#REF!"}}]
["IDCG040","Csepegtető GOMBA, PC, 4l/h, Irritec, ZÖLD",130,{"$f":"IF(#REF!=A426, \"Egyezik\", \"Nem egyezik\")","v":{"$error":"#REF!"}}]
["09330050","Csepegtető GOMBA, PC, 4l/h, Supertif",0,{"$f":"IF(#REF!=A427, \"Egyezik\", \"Nem egyezik\")","v":{"$error":"#REF!"}}]
[8002410063,"Csepegtető GOMBA, PC, 8l/h, Agrifim, PIROS",109,{"$f":"IF(#REF!=A428, \"Egyezik\", \"Nem egyezik\")","v":{"$error":"#REF!"}}]
["IDCG080","Csepegtető GOMBA, PC, 8l/h, Irritec, PIROS",130,{"$f":"IF(#REF!=A429, \"Egyezik\", \"Nem egyezik\")","v":{"$error":"#REF!"}}]
["IDIN020","Csepegtető GOMBA, TISZTÍTHATÓ, 2l/h",66,{"$f":"IF(#REF!=A430, \"Egyezik\", \"Nem egyezik\")","v":{"$error":"#REF!"}}]
["09070020","Csepegtető gombához elosztó",53,{"$f":"IF(#REF!=A431, \"Egyezik\", \"Nem egyezik\")","v":{"$error":"#REF!"}}]
["20020020","Csepegtető RÖGZÍTŐ kampó 20 mm",0,{"$f":"IF(#REF!=A432, \"Egyezik\", \"Nem egyezik\")","v":{"$error":"#REF!"}}]
["A13080-16/20","Csepegtető RÖGZÍTŐ leszúrótüske 16/20 mm",37,{"$f":"IF(#REF!=A433, \"Egyezik\", \"Nem egyezik\")","v":{"$error":"#REF!"}}]
["08006410373","Csepegtető RÖGZÍTŐ leszúrótüske FÉM 16/20 mm",37,{"$f":"IF(#REF!=A434, \"Egyezik\", \"Nem egyezik\")","v":{"$error":"#REF!"}}]
["05300040","Csepegtető SZALAG, indító elem 17 mm",132,{"$f":"IF(#REF!=A435, \"Egyezik\", \"Nem egyezik\")","v":{"$error":"#REF!"}}]
["07190050","Csepegtető SZALAG, indító elem; hengeres, bordás csap 20x17 mm",284,{"$f":"IF(#REF!=A436, \"Egyezik\", \"Nem egyezik\")","v":{"$error":"#REF!"}}]
["09200020","Csepegtető SZALAG, POLITAPE 6mil, 3l/h/m, 20cm (3000m)",0,{"$f":"IF(#REF!=A437, \"Egyezik\", \"Nem egyezik\")","v":{"$error":"#REF!"}}]
["09200020","Csepegtető SZALAG, POLITAPE 6mil, 4l/h, 10cm (500m)",18,{"$f":"IF(#REF!=A438, \"Egyezik\", \"Nem egyezik\")","v":{"$error":"#REF!"}}]
["05380030","Csepegtető SZALAG, T elem 17x17x17 mm",216,{"$f":"IF(#REF!=A439, \"Egyezik\", \"Nem egyezik\")","v":{"$error":"#REF!"}}]
["0530020","Csepegtető SZALAG, toldó elem 17x17 mm",71,{"$f":"IF(#REF!=A440, \"Egyezik\", \"Nem egyezik\")","v":{"$error":"#REF!"}}]
["05330230","Csepegtető SZALAG, toldó elem, kúpos 20x17 mm",0,{"$f":"IF(#REF!=A441, \"Egyezik\", \"Nem egyezik\")","v":{"$error":"#REF!"}}]
["05340010","Csepegtető SZALAG, végzáró 17 mm",0,{"$f":"IF(#REF!=A442, \"Egyezik\", \"Nem egyezik\")","v":{"$error":"#REF!"}}]
["CSLY 16/20","Csőlyukasztó FOGÓ, 16/20mm",3621,{"$f":"IF(#REF!=A443, \"Egyezik\", \"Nem egyezik\")","v":{"$error":"#REF!"}}]
["14020090","Csőlyukasztó FOGÓ, 25-32 mm",0,{"$f":"IF(#REF!=A444, \"Egyezik\", \"Nem egyezik\")","v":{"$error":"#REF!"}}]
["IFUS030","Csőlyukasztó szerszám, 3mm, kék",1293,{"$f":"IF(#REF!=A445, \"Egyezik\", \"Nem egyezik\")","v":{"$error":"#REF!"}}]
[8006410200,"Csőlyukasztó szerszám, 4mm, zöld",990,{"$f":"IF(#REF!=A446, \"Egyezik\", \"Nem egyezik\")","v":{"$error":"#REF!"}}]
["695.4022000","Csőlyukasztó TÜSKE, 3mm, sárga",277,{"$f":"IF(#REF!=A447, \"Egyezik\", \"Nem egyezik\")","v":{"$error":"#REF!"}}]
["05160","Csősorjázó <200mm",15150,{"$f":"IF(#REF!=A448, \"Egyezik\", \"Nem egyezik\")","v":{"$error":"#REF!"}}]
["14040020","Csősorjázó 20-63 mm",10584,{"$f":"IF(#REF!=A449, \"Egyezik\", \"Nem egyezik\")","v":{"$error":"#REF!"}}]
["00930","Csősorjázó ROTHENBERGER 4-36 mm",5440,{"$f":"IF(#REF!=A450, \"Egyezik\", \"Nem egyezik\")","v":{"$error":"#REF!"}}]
["200.2611000","Csővágó olló 32mm BLU-LOCK",2154,{"$f":"IF(#REF!=A451, \"Egyezik\", \"Nem egyezik\")","v":{"$error":"#REF!"}}]
["210.8050000","Csővágó olló 40 mm, BLAZING Switchblade Pro",4067,{"$f":"IF(#REF!=A452, \"Egyezik\", \"Nem egyezik\")","v":{"$error":"#REF!"}}]
["KPEOLLÓ/42","Csővágó olló 42mm, áttételes",4416,{"$f":"IF(#REF!=A453, \"Egyezik\", \"Nem egyezik\")","v":{"$error":"#REF!"}}]
["KPEOLLÓ/63","Csővágó olló 63 mm, áttételes",81083,{"$f":"IF(#REF!=A454, \"Egyezik\", \"Nem egyezik\")","v":{"$error":"#REF!"}}]
["210.8050001","Csővágó olló Csere Penge, BLAZING Switchblade Pro 5000-hez",2673,{"$f":"IF(#REF!=A455, \"Egyezik\", \"Nem egyezik\")","v":{"$error":"#REF!"}}]
["FIN/T/2.7.136K","Damil  Tecomek 2.7/200 kör",4914,{"$f":"IF(#REF!=A456, \"Egyezik\", \"Nem egyezik\")","v":{"$error":"#REF!"}}]
["DAMIL2.7/283m","Damil 2.7/283m szögletes",7800,{"$f":"IF(#REF!=A457, \"Egyezik\", \"Nem egyezik\")","v":{"$error":"#REF!"}}]
["GP/2.4/82/SZ","Damil GP 2.4/82m szögletes",2147,{"$f":"IF(#REF!=A458, \"Egyezik\", \"Nem egyezik\")","v":{"$error":"#REF!"}}]
["FIN/U/2.4/1.36sz","Damil Grassmaster 2.4/246m szögletes 1.36kg",6045,{"$f":"IF(#REF!=A459, \"Egyezik\", \"Nem egyezik\")","v":{"$error":"#REF!"}}]
["FIN/U/2.4/1.36","Damil Grassmaster 2.4/256m kör",5801,{"$f":"IF(#REF!=A460, \"Egyezik\", \"Nem egyezik\")","v":{"$error":"#REF!"}}]
["FIN/U/2.4/0.5sz","Damil Grassmaster 2.4/69m szögletes",1937,{"$f":"IF(#REF!=A461, \"Egyezik\", \"Nem egyezik\")","v":{"$error":"#REF!"}}]
["FIN/U/2.4/0.5","Damil Grassmaster 2.4/79m kör",2027,{"$f":"IF(#REF!=A462, \"Egyezik\", \"Nem egyezik\")","v":{"$error":"#REF!"}}]
["FIN/U/2.7/1.36sz","Damil Grassmaster 2.7/202m szögletes 1.36kg",5330,{"$f":"IF(#REF!=A463, \"Egyezik\", \"Nem egyezik\")","v":{"$error":"#REF!"}}]
["FIN/U/2.7/1.36","Damil Grassmaster 2.7/210m kör 1.36kg",5801,{"$f":"IF(#REF!=A464, \"Egyezik\", \"Nem egyezik\")","v":{"$error":"#REF!"}}]
["FIN/U/2.7/2.5sz","Damil Grassmaster 2.7/334m szögletes 2.5kg",7189,{"$f":"IF(#REF!=A465, \"Egyezik\", \"Nem egyezik\")","v":{"$error":"#REF!"}}]
["FIN/U/2.7/2.25 8433","Damil Grassmaster 2.7/351m kör",7440,{"$f":"IF(#REF!=A466, \"Egyezik\", \"Nem egyezik\")","v":{"$error":"#REF!"}}]
["FIN/U/2.7/0.5sz","Damil Grassmaster 2.7/55m szögletes",0,{"$f":"IF(#REF!=A467, \"Egyezik\", \"Nem egyezik\")","v":{"$error":"#REF!"}}]
["FIN/U/2.7/0.5","Damil Grassmaster 2.7/66m kör",2027,{"$f":"IF(#REF!=A468, \"Egyezik\", \"Nem egyezik\")","v":{"$error":"#REF!"}}]
["FIN/U/3.0/1.36","Damil Grassmaster 3.0/169m kör",5801,{"$f":"IF(#REF!=A469, \"Egyezik\", \"Nem egyezik\")","v":{"$error":"#REF!"}}]
["FIN/U/3.0/0.5","Damil Grassmaster 3.0/52m szögletes",1922,{"$f":"IF(#REF!=A470, \"Egyezik\", \"Nem egyezik\")","v":{"$error":"#REF!"}}]
["24-06028","Damilfej GP AutoCut 40-2, 46-2, 12x1.5Z",3746,{"$f":"IF(#REF!=A471, \"Egyezik\", \"Nem egyezik\")","v":{"$error":"#REF!"}}]
["63019001B","Damilfej OM 130 mm 2.4mm csavaros új",2860,{"$f":"IF(#REF!=A472, \"Egyezik\", \"Nem egyezik\")","v":{"$error":"#REF!"}}]
["DDC-4-220","DDC 4, 4 zónás vezérlő",24413,{"$f":"IF(#REF!=A473, \"Egyezik\", \"Nem egyezik\")","v":{"$error":"#REF!"}}]
["DDC6","DDC 6, 6 zónás vezérlő",29296,{"$f":"IF(#REF!=A474, \"Egyezik\", \"Nem egyezik\")","v":{"$error":"#REF!"}}]
["DDC8","DDC 8, 8 zónás vezérlő",43787,{"$f":"IF(#REF!=A475, \"Egyezik\", \"Nem egyezik\")","v":{"$error":"#REF!"}}]
["DDC6","DDC elemes 6 zónás vezérlő",70549,{"$f":"IF(#REF!=A476, \"Egyezik\", \"Nem egyezik\")","v":{"$error":"#REF!"}}]
["D \"E\" 1\" K-B","DURA. Egyenes 1\" KM/Hollander",1299,{"$f":"IF(#REF!=A477, \"Egyezik\", \"Nem egyezik\")","v":{"$error":"#REF!"}}]
["D + 1\" K-B-B-B","DURA. Kereszt idom 1\"",3526,{"$f":"IF(#REF!=A478, \"Egyezik\", \"Nem egyezik\")","v":{"$error":"#REF!"}}]
["D 90 1\" B-B","DURA. Könyök 1\" BB",2065,{"$f":"IF(#REF!=A479, \"Egyezik\", \"Nem egyezik\")","v":{"$error":"#REF!"}}]
["D 90 1\" K-B","DURA. Könyök 1\" KM/Hollander",1860,{"$f":"IF(#REF!=A480, \"Egyezik\", \"Nem egyezik\")","v":{"$error":"#REF!"}}]
["D \"T\" 1\" K-B-B","DURA. T-idom 1\"",2528,{"$f":"IF(#REF!=A481, \"Egyezik\", \"Nem egyezik\")","v":{"$error":"#REF!"}}]
["075-DV-FF","DV-075, 24V mágnesszelep 3/4\" BM",7650,{"$f":"IF(#REF!=A482, \"Egyezik\", \"Nem egyezik\")","v":{"$error":"#REF!"}}]
["100-DV-FF 24V","DV-100, 24V mágnesszelep 1\" BB",7650,{"$f":"IF(#REF!=A483, \"Egyezik\", \"Nem egyezik\")","v":{"$error":"#REF!"}}]
["100-DV-MM","DV-100, 24V mágnesszelep 1\" KK",7880,{"$f":"IF(#REF!=A484, \"Egyezik\", \"Nem egyezik\")","v":{"$error":"#REF!"}}]
["100-DV 9V","DV-100, 9V mágnesszelep 1\" BB",13150,{"$f":"IF(#REF!=A485, \"Egyezik\", \"Nem egyezik\")","v":{"$error":"#REF!"}}]
["100-DV-MM 9V","DV-100, 9V mágnesszelep 1\" KK",13020,{"$f":"IF(#REF!=A486, \"Egyezik\", \"Nem egyezik\")","v":{"$error":"#REF!"}}]
["101-DV-FF","DVF-100, 24V mágnesszelep 1\" BB átfolyás szabályozóval",10210,{"$f":"IF(#REF!=A487, \"Egyezik\", \"Nem egyezik\")","v":{"$error":"#REF!"}}]
["EAGLE 751 assy","EAGLE 751 belső rotor",36673,{"$f":"IF(#REF!=A488, \"Egyezik\", \"Nem egyezik\")","v":{"$error":"#REF!"}}]
["EAGLE 751E","EAGLE 751 E 40 szórófej",96647,{"$f":"IF(#REF!=A489, \"Egyezik\", \"Nem egyezik\")","v":{"$error":"#REF!"}}]
["EAGLE-900E","Eagle 900 E szórófej (Teljes kör)",102300,{"$f":"IF(#REF!=A490, \"Egyezik\", \"Nem egyezik\")","v":{"$error":"#REF!"}}]
["EAGLE-900","Eagle 900 szórófej (Teljes kör)",85070,{"$f":"IF(#REF!=A491, \"Egyezik\", \"Nem egyezik\")","v":{"$error":"#REF!"}}]
["EAGLE-GRASS","EAGLE 900/950 fejhez műfű tető és gallér",32230,{"$f":"IF(#REF!=A492, \"Egyezik\", \"Nem egyezik\")","v":{"$error":"#REF!"}}]
["EAGLE 950E","EAGLE 950 E 28",101850,{"$f":"IF(#REF!=A493, \"Egyezik\", \"Nem egyezik\")","v":{"$error":"#REF!"}}]
["EAGLE 950E/H ASSY","EAGLE 950 E/H belső rotor",61520,{"$f":"IF(#REF!=A494, \"Egyezik\", \"Nem egyezik\")","v":{"$error":"#REF!"}}]
["EAGLE 950E/H BODY","EAGLE 950 E/H ház",0,{"$f":"IF(#REF!=A495, \"Egyezik\", \"Nem egyezik\")","v":{"$error":"#REF!"}}]
["EAGLE-950","Eagle 950 Szórófej (Körcikk)",97100,{"$f":"IF(#REF!=A496, \"Egyezik\", \"Nem egyezik\")","v":{"$error":"#REF!"}}]
["EAGLE-NOZZLE","Eagle fúvóka",3690,{"$f":"IF(#REF!=A497, \"Egyezik\", \"Nem egyezik\")","v":{"$error":"#REF!"}}]
["212067","Eagle fúvóka nagytelj.",7600,{"$f":"IF(#REF!=A498, \"Egyezik\", \"Nem egyezik\")","v":{"$error":"#REF!"}}]
["B99500","Eagle műfű tető",42930,{"$f":"IF(#REF!=A499, \"Egyezik\", \"Nem egyezik\")","v":{"$error":"#REF!"}}]
["ECO041090","Eco Rotator MP 1000 90-210",3380,{"$f":"IF(#REF!=A500, \"Egyezik\", \"Nem egyezik\")","v":{"$error":"#REF!"}}]
["ECO042090","Eco Rotator MP 2000 90-210",3380,{"$f":"IF(#REF!=A501, \"Egyezik\", \"Nem egyezik\")","v":{"$error":"#REF!"}}]
["ECO043090","Eco Rotator MP 3000 90-210",3380,{"$f":"IF(#REF!=A502, \"Egyezik\", \"Nem egyezik\")","v":{"$error":"#REF!"}}]
["ELC401IE","ECO-LOGIC 4, 4 zónás vezérlő, BELTÉRI",14170,{"$f":"IF(#REF!=A503, \"Egyezik\", \"Nem egyezik\")","v":{"$error":"#REF!"}}]
["ELC601IE","ECO-LOGIC 6, 6 zónás vezérlő, BELTÉRI",16094,{"$f":"IF(#REF!=A504, \"Egyezik\", \"Nem egyezik\")","v":{"$error":"#REF!"}}]
["51019067","Efco 17E/41R elektroms láncfűrész",18055,{"$f":"IF(#REF!=A505, \"Egyezik\", \"Nem egyezik\")","v":{"$error":"#REF!"}}]
["EKOTE26511","EKOTE műtrágya, 2-3 hónapos, 26-05-11+3MgO, 25kg",12623,{"$f":"IF(#REF!=A506, \"Egyezik\", \"Nem egyezik\")","v":{"$error":"#REF!"}}]
["BAT_9V_6LP3146","Elem, Duracell Industrial 9V 6LP3146 (9V)",765,{"$f":"IF(#REF!=A507, \"Egyezik\", \"Nem egyezik\")","v":{"$error":"#REF!"}}]
["BAT_AA_LR6","Elem, Duracell Industrial AA LR6 (1.5V)",250,{"$f":"IF(#REF!=A508, \"Egyezik\", \"Nem egyezik\")","v":{"$error":"#REF!"}}]
["BAT_AAA_LR03","Elem, Duracell Industrial AAA LR03 (1.5V)",255,{"$f":"IF(#REF!=A509, \"Egyezik\", \"Nem egyezik\")","v":{"$error":"#REF!"}}]
["BAT_CR2032","Elem, GP CR2032 (3V)",385,{"$f":"IF(#REF!=A510, \"Egyezik\", \"Nem egyezik\")","v":{"$error":"#REF!"}}]
["ELLEN003","Ellensúly szintkapcsolóhoz (sárga)",920,{"$f":"IF(#REF!=A511, \"Egyezik\", \"Nem egyezik\")","v":{"$error":"#REF!"}}]
["EPCT4227","Elpumps CT 4274",18105,{"$f":"IF(#REF!=A512, \"Egyezik\", \"Nem egyezik\")","v":{"$error":"#REF!"}}]
["ES515","ES-515 fúvóka Hunter",530,{"$f":"IF(#REF!=A513, \"Egyezik\", \"Nem egyezik\")","v":{"$error":"#REF!"}}]
["LNKWIFI","ESP LNK WiFi modul",23148,{"$f":"IF(#REF!=A514, \"Egyezik\", \"Nem egyezik\")","v":{"$error":"#REF!"}}]
["EA25/5M","ESPA Aspri 25/5M szivattyú",89764,{"$f":"IF(#REF!=A515, \"Egyezik\", \"Nem egyezik\")","v":{"$error":"#REF!"}}]
["ESP-LX mod12","ESP-LXM(E) 12 zónás modul",54621,{"$f":"IF(#REF!=A516, \"Egyezik\", \"Nem egyezik\")","v":{"$error":"#REF!"}}]
["ESP-LX mod","ESP-LXM(E) 8 zónás modul",40616,{"$f":"IF(#REF!=A517, \"Egyezik\", \"Nem egyezik\")","v":{"$error":"#REF!"}}]
["F44122","ESP-LXME 12 moduláris vezérlő, 12-48 zónáig, MŰANYAG HÁZAS",191243,{"$f":"IF(#REF!=A518, \"Egyezik\", \"Nem egyezik\")","v":{"$error":"#REF!"}}]
["F44082","ESP-LXME 8 moduláris vezérlő, 8-48 zónáig, MŰANYAG HÁZAS",119594,{"$f":"IF(#REF!=A519, \"Egyezik\", \"Nem egyezik\")","v":{"$error":"#REF!"}}]
["ESP4ME13Z","ESP-Me moduláris vezérlő, 4-13 zónáig, KÜLTÉRI",50698,{"$f":"IF(#REF!=A520, \"Egyezik\", \"Nem egyezik\")","v":{"$error":"#REF!"}}]
["ESP4MEWIFI","ESP-Me moduláris vezérlő, 4-22 zónáig, KÜLTÉRI, LNK ready",62288,{"$f":"IF(#REF!=A521, \"Egyezik\", \"Nem egyezik\")","v":{"$error":"#REF!"}}]
["ESPSM3","ESP-Me, ESPSM3, 3 zónás bővítőmodul",9730,{"$f":"IF(#REF!=A522, \"Egyezik\", \"Nem egyezik\")","v":{"$error":"#REF!"}}]
["ESPSM6","ESP-Me, ESPSM6, 6 zónás bővítőmodul",19914,{"$f":"IF(#REF!=A523, \"Egyezik\", \"Nem egyezik\")","v":{"$error":"#REF!"}}]
["RZX4i","ESP-RZX, BELTÉRI, 4 zónás vezérlő",21310,{"$f":"IF(#REF!=A524, \"Egyezik\", \"Nem egyezik\")","v":{"$error":"#REF!"}}]
["RZX8i","ESP-RZX, BELTÉRI, 8 zónás vezérlő",28410,{"$f":"IF(#REF!=A525, \"Egyezik\", \"Nem egyezik\")","v":{"$error":"#REF!"}}]
["RZXe4i","ESP-RZXe, BELTÉRI, 4 zónás vezérlő, LNK ready",23388,{"$f":"IF(#REF!=A526, \"Egyezik\", \"Nem egyezik\")","v":{"$error":"#REF!"}}]
["RZXe6i","ESP-RZXe, BELTÉRI, 6 zónás vezérlő, LNK ready",25562,{"$f":"IF(#REF!=A527, \"Egyezik\", \"Nem egyezik\")","v":{"$error":"#REF!"}}]
["RZXe8i","ESP-RZXe, BELTÉRI, 8 zónás vezérlő, LNK ready",30866,{"$f":"IF(#REF!=A528, \"Egyezik\", \"Nem egyezik\")","v":{"$error":"#REF!"}}]
["RZXe4","ESP-RZXe, KÜLTÉRI, 4 zónás vezérlő, LNK ready",33032,{"$f":"IF(#REF!=A529, \"Egyezik\", \"Nem egyezik\")","v":{"$error":"#REF!"}}]
["RZXe6","ESP-RZXe, KÜLTÉRI, 6 zónás vezérlő, LNK ready",37841,{"$f":"IF(#REF!=A530, \"Egyezik\", \"Nem egyezik\")","v":{"$error":"#REF!"}}]
["RZXe8","ESP-RZXe, KÜLTÉRI, 8 zónás vezérlő, LNK ready",49854,{"$f":"IF(#REF!=A531, \"Egyezik\", \"Nem egyezik\")","v":{"$error":"#REF!"}}]
["0796 2103 492","ET PN10, NO, 25x25 egyenes toldó",328,{"$f":"IF(#REF!=A532, \"Egyezik\", \"Nem egyezik\")","v":{"$error":"#REF!"}}]
["0796 2103 493","ET PN10, NO, 32x32 egyenes toldó",420,{"$f":"IF(#REF!=A533, \"Egyezik\", \"Nem egyezik\")","v":{"$error":"#REF!"}}]
[7962651192,"ET PN16, NO, 25x25 egyenes toldó",430,{"$f":"IF(#REF!=A534, \"Egyezik\", \"Nem egyezik\")","v":{"$error":"#REF!"}}]
[7962651193,"ET PN16, NO, 32x32 egyenes toldó",541,{"$f":"IF(#REF!=A535, \"Egyezik\", \"Nem egyezik\")","v":{"$error":"#REF!"}}]
[7962651194,"ET PN16, NO, 40x40 egyenes toldó",945,{"$f":"IF(#REF!=A536, \"Egyezik\", \"Nem egyezik\")","v":{"$error":"#REF!"}}]
["E105 4040","ET PN16, PA, 40x40 egyenes toldó",864,{"$f":"IF(#REF!=A537, \"Egyezik\", \"Nem egyezik\")","v":{"$error":"#REF!"}}]
["E105 2525","ET PN16, PO, 25x25 egyenes toldó",526,{"$f":"IF(#REF!=A538, \"Egyezik\", \"Nem egyezik\")","v":{"$error":"#REF!"}}]
["E105 3232","ET PN16, PO, 32x32 egyenes toldó",665,{"$f":"IF(#REF!=A539, \"Egyezik\", \"Nem egyezik\")","v":{"$error":"#REF!"}}]
["E105 5050","ET PN16, PO, 50x50 egyenes toldó",1182,{"$f":"IF(#REF!=A540, \"Egyezik\", \"Nem egyezik\")","v":{"$error":"#REF!"}}]
["E105 6363","ET PN16, PO, 63x63 egyenes toldó",1631,{"$f":"IF(#REF!=A541, \"Egyezik\", \"Nem egyezik\")","v":{"$error":"#REF!"}}]
["7575","ET PN16, PO, 75x75 egyenes toldó",3082,{"$f":"IF(#REF!=A542, \"Egyezik\", \"Nem egyezik\")","v":{"$error":"#REF!"}}]
["E105 9090","ET PN16, PO, 90x90 egyenes toldó",4577,{"$f":"IF(#REF!=A543, \"Egyezik\", \"Nem egyezik\")","v":{"$error":"#REF!"}}]
["ET-SYSTEM","ET-Sytem Hunter",148448,{"$f":"IF(#REF!=A544, \"Egyezik\", \"Nem egyezik\")","v":{"$error":"#REF!"}}]
["ET-WIND","ET-Sytem Hunter szélérzékelő",148448,{"$f":"IF(#REF!=A545, \"Egyezik\", \"Nem egyezik\")","v":{"$error":"#REF!"}}]
["DPC-10","EVAK DPC-10 Digitális szivattyúvezérlő",19686,{"$f":"IF(#REF!=A546, \"Egyezik\", \"Nem egyezik\")","v":{"$error":"#REF!"}}]
["DPC-10A","EVAK DPC-10A Digitális szivattyúvezérlő, villásdugóval",25194,{"$f":"IF(#REF!=A547, \"Egyezik\", \"Nem egyezik\")","v":{"$error":"#REF!"}}]
["DPC-16","EVAK DPC-16 Digitális szivattyúvezérlő",26811,{"$f":"IF(#REF!=A548, \"Egyezik\", \"Nem egyezik\")","v":{"$error":"#REF!"}}]
["EZFLO+ 138802","Ez-Flo Plus mágnesszelep membrán",2400,{"$f":"IF(#REF!=A549, \"Egyezik\", \"Nem egyezik\")","v":{"$error":"#REF!"}}]
["EZFLO+","Ez-Flo Plus mágnesszelep, 1\" KK 24V",7451,{"$f":"IF(#REF!=A550, \"Egyezik\", \"Nem egyezik\")","v":{"$error":"#REF!"}}]
["EZR-KIT","EZ-Remote távirányító, GreenKeeper-hez",66878,{"$f":"IF(#REF!=A551, \"Egyezik\", \"Nem egyezik\")","v":{"$error":"#REF!"}}]
["FREEZE","Fagyérzékelő Freeze Clik",18125,{"$f":"IF(#REF!=A552, \"Egyezik\", \"Nem egyezik\")","v":{"$error":"#REF!"}}]
["FALCON PC-SS","FALCON 6504 PC rozsdamentes szórófej",18331,{"$f":"IF(#REF!=A553, \"Egyezik\", \"Nem egyezik\")","v":{"$error":"#REF!"}}]
["FALCON PC","FALCON 6504 PC szórófej fúvóka nélkül",17713,{"$f":"IF(#REF!=A554, \"Egyezik\", \"Nem egyezik\")","v":{"$error":"#REF!"}}]
["FALCON PC-SS-HS","FALCON 6504 PC-SS-HS, gyorsforgású rozsdamentes",28131,{"$f":"IF(#REF!=A555, \"Egyezik\", \"Nem egyezik\")","v":{"$error":"#REF!"}}]
["B8160004","Falcon/8005 Fúvóka #04 FEKETE 11,9m",10,{"$f":"IF(#REF!=A556, \"Egyezik\", \"Nem egyezik\")","v":{"$error":"#REF!"}}]
["B8160006","Falcon/8005 Fúvóka #06 VILÁGOSKÉK 13,7m",10,{"$f":"IF(#REF!=A557, \"Egyezik\", \"Nem egyezik\")","v":{"$error":"#REF!"}}]
["B8160008","Falcon/8005 Fúvóka #08 SÖTÉTZÖLD 14,9m",10,{"$f":"IF(#REF!=A558, \"Egyezik\", \"Nem egyezik\")","v":{"$error":"#REF!"}}]
["B8160010","Falcon/8005 Fúvóka #10 SZÜRKE 16,7m",10,{"$f":"IF(#REF!=A559, \"Egyezik\", \"Nem egyezik\")","v":{"$error":"#REF!"}}]
["B8160012","Falcon/8005 Fúvóka #12 BEIGE 18,3m",10,{"$f":"IF(#REF!=A560, \"Egyezik\", \"Nem egyezik\")","v":{"$error":"#REF!"}}]
["B8160014","Falcon/8005 Fúvóka #14 VILÁGOSZÖLD 19,2m",10,{"$f":"IF(#REF!=A561, \"Egyezik\", \"Nem egyezik\")","v":{"$error":"#REF!"}}]
["B8160016","Falcon/8005 Fúvóka #16 SÖTÉTBARNA 20,4m",10,{"$f":"IF(#REF!=A562, \"Egyezik\", \"Nem egyezik\")","v":{"$error":"#REF!"}}]
["B8160018","Falcon/8005 Fúvóka #18 SÖTÉTKÉK 20,6m",10,{"$f":"IF(#REF!=A563, \"Egyezik\", \"Nem egyezik\")","v":{"$error":"#REF!"}}]
["B8160020","Falcon/8005 Fúvóka #20 PIROS 21,6m",10,{"$f":"IF(#REF!=A564, \"Egyezik\", \"Nem egyezik\")","v":{"$error":"#REF!"}}]
["B8160022","Falcon/8005 Fúvóka #22 CITROMSÁRGA 22,4m",10,{"$f":"IF(#REF!=A565, \"Egyezik\", \"Nem egyezik\")","v":{"$error":"#REF!"}}]
["B8160024","Falcon/8005 Fúvóka #24 NARANCSSÁRGA 23,0m",10,{"$f":"IF(#REF!=A566, \"Egyezik\", \"Nem egyezik\")","v":{"$error":"#REF!"}}]
["B8160026","Falcon/8005 Fúvóka #26 FEHÉR 23,2m",10,{"$f":"IF(#REF!=A567, \"Egyezik\", \"Nem egyezik\")","v":{"$error":"#REF!"}}]
["RZWS-10-25","Faöntöző Hunter 1025",4360,{"$f":"IF(#REF!=A568, \"Egyezik\", \"Nem egyezik\")","v":{"$error":"#REF!"}}]
["RZWS-18-50-CV","Faöntöző Hunter 1850",9640,{"$f":"IF(#REF!=A569, \"Egyezik\", \"Nem egyezik\")","v":{"$error":"#REF!"}}]
["RZWS-18-25","Faöntöző Hunter RZWS-18-25, 45cm, 1 l/min (0.25 GPM)",10332,{"$f":"IF(#REF!=A570, \"Egyezik\", \"Nem egyezik\")","v":{"$error":"#REF!"}}]
["89-1727","FB25PC tőöntöző, Toro fúvóka",598,{"$f":"IF(#REF!=A571, \"Egyezik\", \"Nem egyezik\")","v":{"$error":"#REF!"}}]
["FD-102","FD-102 Rain Bird dekóder",33794,{"$f":"IF(#REF!=A572, \"Egyezik\", \"Nem egyezik\")","v":{"$error":"#REF!"}}]
["FLEXSG","Fejbekötő CSŐ, HUNTER",346,{"$f":"IF(#REF!=A573, \"Egyezik\", \"Nem egyezik\")","v":{"$error":"#REF!"}}]
["SP-FLEX","Fejbekötő CSŐ, SP-FLEX",329,{"$f":"IF(#REF!=A574, \"Egyezik\", \"Nem egyezik\")","v":{"$error":"#REF!"}}]
[8002460001,"Fejbekötő CSŐ, Super Flexee",294,{"$f":"IF(#REF!=A575, \"Egyezik\", \"Nem egyezik\")","v":{"$error":"#REF!"}}]
["0800 2460 005","Fejbekötő IDOM, NO Egyenes 1/2\"×16mm",99,{"$f":"IF(#REF!=A576, \"Egyezik\", \"Nem egyezik\")","v":{"$error":"#REF!"}}]
["0800 2460 006","Fejbekötő IDOM, NO Egyenes 3/4\"×16mm",99,{"$f":"IF(#REF!=A577, \"Egyezik\", \"Nem egyezik\")","v":{"$error":"#REF!"}}]
["0800 2460 008","Fejbekötő IDOM, NO Könyök 1/2\"×16mm",99,{"$f":"IF(#REF!=A578, \"Egyezik\", \"Nem egyezik\")","v":{"$error":"#REF!"}}]
["0800 2460 009","Fejbekötő IDOM, NO Könyök 3/4\"×16mm",99,{"$f":"IF(#REF!=A579, \"Egyezik\", \"Nem egyezik\")","v":{"$error":"#REF!"}}]
["0800 2460 010","Fejbekötő IDOM, NO T-idom 16x16x16 mm",99,{"$f":"IF(#REF!=A580, \"Egyezik\", \"Nem egyezik\")","v":{"$error":"#REF!"}}]
["0800 2460 007","Fejbekötő IDOM, NO Toldó 16x16 mm",99,{"$f":"IF(#REF!=A581, \"Egyezik\", \"Nem egyezik\")","v":{"$error":"#REF!"}}]
["SBA-050","Fejbekötő IDOM, RB Egyenes 1/2\"×16mm",99,{"$f":"IF(#REF!=A582, \"Egyezik\", \"Nem egyezik\")","v":{"$error":"#REF!"}}]
["SBA-075","Fejbekötő IDOM, RB Egyenes 3/4\"×16mm",99,{"$f":"IF(#REF!=A583, \"Egyezik\", \"Nem egyezik\")","v":{"$error":"#REF!"}}]
["SBE-050","Fejbekötő IDOM, RB Könyök 1/2\"×16mm",99,{"$f":"IF(#REF!=A584, \"Egyezik\", \"Nem egyezik\")","v":{"$error":"#REF!"}}]
["SBE-075","Fejbekötő IDOM, RB Könyök 3/4\"×16mm",99,{"$f":"IF(#REF!=A585, \"Egyezik\", \"Nem egyezik\")","v":{"$error":"#REF!"}}]
["SBTEE","Fejbekötő IDOM, RB T-idom 16x16x16 mm",99,{"$f":"IF(#REF!=A586, \"Egyezik\", \"Nem egyezik\")","v":{"$error":"#REF!"}}]
["SBCPLG","Fejbekötő IDOM, RB Toldó 16x16 mm",99,{"$f":"IF(#REF!=A587, \"Egyezik\", \"Nem egyezik\")","v":{"$error":"#REF!"}}]
["F10","Felco 10 metszőolló",14000,{"$f":"IF(#REF!=A588, \"Egyezik\", \"Nem egyezik\")","v":{"$error":"#REF!"}}]
["F230","Felco 230 áttételes rávágó ágvágó olló",32402,{"$f":"IF(#REF!=A589, \"Egyezik\", \"Nem egyezik\")","v":{"$error":"#REF!"}}]
["F231","Felco 231 áttételes rávágó ágvágó olló",32402,{"$f":"IF(#REF!=A590, \"Egyezik\", \"Nem egyezik\")","v":{"$error":"#REF!"}}]
["F4-F902","Felco 4 + fenőkő metszőolló",8898,{"$f":"IF(#REF!=A591, \"Egyezik\", \"Nem egyezik\")","v":{"$error":"#REF!"}}]
["F6","Felco 6 metszőolló",10000,{"$f":"IF(#REF!=A592, \"Egyezik\", \"Nem egyezik\")","v":{"$error":"#REF!"}}]
["F600","Felco 600 becsukható bicskafűrész",5402,{"$f":"IF(#REF!=A593, \"Egyezik\", \"Nem egyezik\")","v":{"$error":"#REF!"}}]
["F7","Felco 7 metszőolló",14000,{"$f":"IF(#REF!=A594, \"Egyezik\", \"Nem egyezik\")","v":{"$error":"#REF!"}}]
["F8","Felco 8 metszőolló",10497,{"$f":"IF(#REF!=A595, \"Egyezik\", \"Nem egyezik\")","v":{"$error":"#REF!"}}]
["F9","Felco 9 metszőolló",10496,{"$f":"IF(#REF!=A596, \"Egyezik\", \"Nem egyezik\")","v":{"$error":"#REF!"}}]
["F902","Felco 902 fenőkő",3504,{"$f":"IF(#REF!=A597, \"Egyezik\", \"Nem egyezik\")","v":{"$error":"#REF!"}}]
["F903","Felco 903 fenőkő",4402,{"$f":"IF(#REF!=A598, \"Egyezik\", \"Nem egyezik\")","v":{"$error":"#REF!"}}]
["F910","Felco 910 papucs tok",4197,{"$f":"IF(#REF!=A599, \"Egyezik\", \"Nem egyezik\")","v":{"$error":"#REF!"}}]
["F912","Felco 912 tok",3497,{"$f":"IF(#REF!=A600, \"Egyezik\", \"Nem egyezik\")","v":{"$error":"#REF!"}}]
["F980","Felco 980 spray",2197,{"$f":"IF(#REF!=A601, \"Egyezik\", \"Nem egyezik\")","v":{"$error":"#REF!"}}]
["F990","Felco 990 kenőzsír",1804,{"$f":"IF(#REF!=A602, \"Egyezik\", \"Nem egyezik\")","v":{"$error":"#REF!"}}]
["1.9050","Felco kés 1.90 50 általános",2300,{"$f":"IF(#REF!=A603, \"Egyezik\", \"Nem egyezik\")","v":{"$error":"#REF!"}}]
["3.9050","Felco kés 3.90 50",1898,{"$f":"IF(#REF!=A604, \"Egyezik\", \"Nem egyezik\")","v":{"$error":"#REF!"}}]
["130000","Fiskars adapter, univerzális, QuickFit",2354,{"$f":"IF(#REF!=A605, \"Egyezik\", \"Nem egyezik\")","v":{"$error":"#REF!"}}]
[112490,"Fiskars ágvágó, PowerGearX (L)",19677,{"$f":"IF(#REF!=A606, \"Egyezik\", \"Nem egyezik\")","v":{"$error":"#REF!"}}]
["JO9633","Fiskars alkatrész, rugó, dupla spirál, (P53 (111330), P54 (111340))",220,{"$f":"IF(#REF!=A607, \"Egyezik\", \"Nem egyezik\")","v":{"$error":"#REF!"}}]
["JO9644","Fiskars alkatrész, rugó, kicsi, 3cm*0,6cm, (111430, 111440, 111450, 859975)",100,{"$f":"IF(#REF!=A608, \"Egyezik\", \"Nem egyezik\")","v":{"$error":"#REF!"}}]
["JO9654","Fiskars alkatrész, rugó, nagy, 4.7cm*0,8cm, (111540)",100,{"$f":"IF(#REF!=A609, \"Egyezik\", \"Nem egyezik\")","v":{"$error":"#REF!"}}]
["JO9636","Fiskars alkatrész, rugó, UP82/UP86 ágvágókhoz",150,{"$f":"IF(#REF!=A610, \"Egyezik\", \"Nem egyezik\")","v":{"$error":"#REF!"}}]
[131410,"Fiskars ásó, hegyes, Ergonomic",7079,{"$f":"IF(#REF!=A611, \"Egyezik\", \"Nem egyezik\")","v":{"$error":"#REF!"}}]
[131413,"Fiskars ásó, hegyes, Solid",5504,{"$f":"IF(#REF!=A612, \"Egyezik\", \"Nem egyezik\")","v":{"$error":"#REF!"}}]
[131400,"Fiskars ásólapát, Ergonomic",7079,{"$f":"IF(#REF!=A613, \"Egyezik\", \"Nem egyezik\")","v":{"$error":"#REF!"}}]
[131403,"Fiskars ásólapát, Solid",5504,{"$f":"IF(#REF!=A614, \"Egyezik\", \"Nem egyezik\")","v":{"$error":"#REF!"}}]
[123840,"Fiskars fűrész, SW84, penge hossz: 33 cm",11803,{"$f":"IF(#REF!=A615, \"Egyezik\", \"Nem egyezik\")","v":{"$error":"#REF!"}}]
[123870,"Fiskars fűrész, Xtract SW73-S, penge hossz: 16 cm",6685,{"$f":"IF(#REF!=A616, \"Egyezik\", \"Nem egyezik\")","v":{"$error":"#REF!"}}]
[135510,"Fiskars gereblye, Ergonomic, 14 fog",5898,{"$f":"IF(#REF!=A617, \"Egyezik\", \"Nem egyezik\")","v":{"$error":"#REF!"}}]
[135715,"Fiskars gereblye, Solid",4638,{"$f":"IF(#REF!=A618, \"Egyezik\", \"Nem egyezik\")","v":{"$error":"#REF!"}}]
[136500,"Fiskars kapa, Ergonomic",5268,{"$f":"IF(#REF!=A619, \"Egyezik\", \"Nem egyezik\")","v":{"$error":"#REF!"}}]
[135713,"Fiskars kapa, Solid",4638,{"$f":"IF(#REF!=A620, \"Egyezik\", \"Nem egyezik\")","v":{"$error":"#REF!"}}]
[160004,"Fiskars kerti kesztyű, 10-es méret",3937,{"$f":"IF(#REF!=A621, \"Egyezik\", \"Nem egyezik\")","v":{"$error":"#REF!"}}]
[132400,"Fiskars lapát, Ergonomic",7079,{"$f":"IF(#REF!=A622, \"Egyezik\", \"Nem egyezik\")","v":{"$error":"#REF!"}}]
[132403,"Fiskars lapát, Solid",5504,{"$f":"IF(#REF!=A623, \"Egyezik\", \"Nem egyezik\")","v":{"$error":"#REF!"}}]
[135014,"Fiskars lombseprű fej, Solid (L)",2512,{"$f":"IF(#REF!=A624, \"Egyezik\", \"Nem egyezik\")","v":{"$error":"#REF!"}}]
[135024,"Fiskars lombseprű fej, Solid (M)",1725,{"$f":"IF(#REF!=A625, \"Egyezik\", \"Nem egyezik\")","v":{"$error":"#REF!"}}]
[135570,"Fiskars lombseprű, Ergonomic",6291,{"$f":"IF(#REF!=A626, \"Egyezik\", \"Nem egyezik\")","v":{"$error":"#REF!"}}]
[135090,"Fiskars lombseprű, Solid (XL)",6685,{"$f":"IF(#REF!=A627, \"Egyezik\", \"Nem egyezik\")","v":{"$error":"#REF!"}}]
[111012,"Fiskars metszőolló, PowerGearX, PX94",7918,{"$f":"IF(#REF!=A628, \"Egyezik\", \"Nem egyezik\")","v":{"$error":"#REF!"}}]
[111960,"Fiskars metszőolló, Professzionális, P90",8560,{"$f":"IF(#REF!=A629, \"Egyezik\", \"Nem egyezik\")","v":{"$error":"#REF!"}}]
[111260,"Fiskars metszőolló, SingleStep, P26",3142,{"$f":"IF(#REF!=A630, \"Egyezik\", \"Nem egyezik\")","v":{"$error":"#REF!"}}]
[135001,"Fiskars nyél, Solid",2985,{"$f":"IF(#REF!=A631, \"Egyezik\", \"Nem egyezik\")","v":{"$error":"#REF!"}}]
[136510,"Fiskars talajlazító, Ergonomic",5504,{"$f":"IF(#REF!=A632, \"Egyezik\", \"Nem egyezik\")","v":{"$error":"#REF!"}}]
[135714,"Fiskars talajlazító, Solid",4638,{"$f":"IF(#REF!=A633, \"Egyezik\", \"Nem egyezik\")","v":{"$error":"#REF!"}}]
[137210,"Fiskars ültetőkanál, keskeny, Premium",2748,{"$f":"IF(#REF!=A634, \"Egyezik\", \"Nem egyezik\")","v":{"$error":"#REF!"}}]
[137200,"Fiskars ültetőkanál, Premium",2748,{"$f":"IF(#REF!=A635, \"Egyezik\", \"Nem egyezik\")","v":{"$error":"#REF!"}}]
[133400,"Fiskars villa, Ergonomic",9047,{"$f":"IF(#REF!=A636, \"Egyezik\", \"Nem egyezik\")","v":{"$error":"#REF!"}}]
["FlexMist","Flex Mist párásító fúvóka, Orbit",869,{"$f":"IF(#REF!=A637, \"Egyezik\", \"Nem egyezik\")","v":{"$error":"#REF!"}}]
["fcs1kbE","Flexicső EGYENES, 600mm, 1\" KB",3449,{"$f":"IF(#REF!=A638, \"Egyezik\", \"Nem egyezik\")","v":{"$error":"#REF!"}}]
["fcs1kbK","Flexicső KÖNYÖK, 600mm, 1\" KB",3899,{"$f":"IF(#REF!=A639, \"Egyezik\", \"Nem egyezik\")","v":{"$error":"#REF!"}}]
["FLOW-CLICK","Flow-Click átfolyás érzékelő",101015,{"$f":"IF(#REF!=A640, \"Egyezik\", \"Nem egyezik\")","v":{"$error":"#REF!"}}]
["G885E","G885E Golf szórófej",72995,{"$f":"IF(#REF!=A641, \"Egyezik\", \"Nem egyezik\")","v":{"$error":"#REF!"}}]
["fúvóka G9*","G90/95 Golf Fúvóka készlet",4673,{"$f":"IF(#REF!=A642, \"Egyezik\", \"Nem egyezik\")","v":{"$error":"#REF!"}}]
["G900-TOOL","G900 szórófejhez szerszám",16885,{"$f":"IF(#REF!=A643, \"Egyezik\", \"Nem egyezik\")","v":{"$error":"#REF!"}}]
["G900E","G990E Golf szórófej",101390,{"$f":"IF(#REF!=A644, \"Egyezik\", \"Nem egyezik\")","v":{"$error":"#REF!"}}]
["H G995 Hidr.","G995 ADJ hidraulikus vez. szórófej",75900,{"$f":"IF(#REF!=A645, \"Egyezik\", \"Nem egyezik\")","v":{"$error":"#REF!"}}]
["G995E","G995E Golf szórófej",116738,{"$f":"IF(#REF!=A646, \"Egyezik\", \"Nem egyezik\")","v":{"$error":"#REF!"}}]
["04219","GEKA gyorscsatlakozó 1\" BM",1422,{"$f":"IF(#REF!=A647, \"Egyezik\", \"Nem egyezik\")","v":{"$error":"#REF!"}}]
["04219KM","GEKA gyorscsatlakozó 1\" KM",1422,{"$f":"IF(#REF!=A648, \"Egyezik\", \"Nem egyezik\")","v":{"$error":"#REF!"}}]
["04445","GEKA gyorscsatlakozó 1/2\" BM",1476,{"$f":"IF(#REF!=A649, \"Egyezik\", \"Nem egyezik\")","v":{"$error":"#REF!"}}]
["04444","GEKA gyorscsatlakozó 3/4\" BM",1202,{"$f":"IF(#REF!=A650, \"Egyezik\", \"Nem egyezik\")","v":{"$error":"#REF!"}}]
["04216","GEKA gyorscsatlakozó 3/4\" TÖMLŐVÉG",1422,{"$f":"IF(#REF!=A651, \"Egyezik\", \"Nem egyezik\")","v":{"$error":"#REF!"}}]
["","GEKA tömítés",0,{"$f":"IF(#REF!=A652, \"Egyezik\", \"Nem egyezik\")","v":{"$error":"#REF!"}}]
["Geot 1.5","Geotextil 2 m széles",408,{"$f":"IF(#REF!=A653, \"Egyezik\", \"Nem egyezik\")","v":{"$error":"#REF!"}}]
["2605205100","Geotextil 200g/m2 FEHÉR 2 m széles Geotess",473,{"$f":"IF(#REF!=A654, \"Egyezik\", \"Nem egyezik\")","v":{"$error":"#REF!"}}]
["DR+G NA100","Geotextíliával bevont PVC dréncső NA100",473,{"$f":"IF(#REF!=A655, \"Egyezik\", \"Nem egyezik\")","v":{"$error":"#REF!"}}]
["2231002741","Gerber csontfűrész, Vital",3929,{"$f":"IF(#REF!=A656, \"Egyezik\", \"Nem egyezik\")","v":{"$error":"#REF!"}}]
["MLuxGer","Gereblye MAGMA LUX",2741,{"$f":"IF(#REF!=A657, \"Egyezik\", \"Nem egyezik\")","v":{"$error":"#REF!"}}]
["GerNyel","Gereblye Piros Nyelezett",2162,{"$f":"IF(#REF!=A658, \"Egyezik\", \"Nem egyezik\")","v":{"$error":"#REF!"}}]
["08540602","Golyóscsap, FÉM, 1\" BB, LAPÁTKAROS",2394,{"$f":"IF(#REF!=A659, \"Egyezik\", \"Nem egyezik\")","v":{"$error":"#REF!"}}]
["09890612","Golyóscsap, FÉM, 1\" BB, T-fogantyús",1837,{"$f":"IF(#REF!=A660, \"Egyezik\", \"Nem egyezik\")","v":{"$error":"#REF!"}}]
["CSKB1_T HOLL","Golyóscsap, FÉM, 1\" KB, Hollanderes",2682,{"$f":"IF(#REF!=A661, \"Egyezik\", \"Nem egyezik\")","v":{"$error":"#REF!"}}]
["CSKB1_T","Golyóscsap, FÉM, 1\" KB, T-fogantyús",2876,{"$f":"IF(#REF!=A662, \"Egyezik\", \"Nem egyezik\")","v":{"$error":"#REF!"}}]
["CSAP 1/2\"","Golyóscsap, FÉM, 1/2\" KB, T-fogantyús",1459,{"$f":"IF(#REF!=A663, \"Egyezik\", \"Nem egyezik\")","v":{"$error":"#REF!"}}]
["CSKB2Mof","Golyóscsap, FÉM, 2\" BB karos",6203,{"$f":"IF(#REF!=A664, \"Egyezik\", \"Nem egyezik\")","v":{"$error":"#REF!"}}]
["RA11009","Golyóscsap, FÉM, 2\" BB karos, RUBALP",5639,{"$f":"IF(#REF!=A665, \"Egyezik\", \"Nem egyezik\")","v":{"$error":"#REF!"}}]
["CSKB2Mof","Golyóscsap, FÉM, 2\" KB fix",6398,{"$f":"IF(#REF!=A666, \"Egyezik\", \"Nem egyezik\")","v":{"$error":"#REF!"}}]
["RA11010","Golyóscsap, FÉM, 2.5\" BB, LAPÁTKAROS",14089,{"$f":"IF(#REF!=A667, \"Egyezik\", \"Nem egyezik\")","v":{"$error":"#REF!"}}]
["CSKB3/4_T","Golyóscsap, FÉM, 3/4\" KB, T-fogantyús",1943,{"$f":"IF(#REF!=A668, \"Egyezik\", \"Nem egyezik\")","v":{"$error":"#REF!"}}]
[8540702,"Golyóscsap, FÉM, 5/4\" BB LAPÁTKAROS",3491,{"$f":"IF(#REF!=A669, \"Egyezik\", \"Nem egyezik\")","v":{"$error":"#REF!"}}]
["CSKB5/4","Golyóscsap, FÉM, 5/4\" KB",4875,{"$f":"IF(#REF!=A670, \"Egyezik\", \"Nem egyezik\")","v":{"$error":"#REF!"}}]
["CSBB6/4","Golyóscsap, FÉM, 6/4\" BB",2544,{"$f":"IF(#REF!=A671, \"Egyezik\", \"Nem egyezik\")","v":{"$error":"#REF!"}}]
["08540802","Golyóscsap, FÉM, 6/4\" BB, LAPÁTKAROS",5656,{"$f":"IF(#REF!=A672, \"Egyezik\", \"Nem egyezik\")","v":{"$error":"#REF!"}}]
["CSKB6/4","Golyóscsap, FÉM, 6/4\" KB",7574,{"$f":"IF(#REF!=A673, \"Egyezik\", \"Nem egyezik\")","v":{"$error":"#REF!"}}]
["CSBB1_T_MOF","Golyóscsap, MOFÉM, 1\" BB, T-fogantyús",4890,{"$f":"IF(#REF!=A674, \"Egyezik\", \"Nem egyezik\")","v":{"$error":"#REF!"}}]
["CSBB1/2_T_MOF","Golyóscsap, MOFÉM, 1/2\" BB, T-fogantyú",1967,{"$f":"IF(#REF!=A675, \"Egyezik\", \"Nem egyezik\")","v":{"$error":"#REF!"}}]
["CSBB2_T_MOF","Golyóscsap, MOFÉM, 2\" BB, T-fogantyús",22939,{"$f":"IF(#REF!=A676, \"Egyezik\", \"Nem egyezik\")","v":{"$error":"#REF!"}}]
["CSBB3/4_T_MOF","Golyóscsap, MOFÉM, 3/4\" BB, T-fogantyú",3253,{"$f":"IF(#REF!=A677, \"Egyezik\", \"Nem egyezik\")","v":{"$error":"#REF!"}}]
["MOF5/5","Golyóscsap, MOFÉM, 5/4\" BB, T-fogantyú",8419,{"$f":"IF(#REF!=A678, \"Egyezik\", \"Nem egyezik\")","v":{"$error":"#REF!"}}]
["CSBB6/4_T_MOF","Golyóscsap, MOFÉM, 6/4\" BB, T-fogantyú",15254,{"$f":"IF(#REF!=A679, \"Egyezik\", \"Nem egyezik\")","v":{"$error":"#REF!"}}]
["18VCFF-D","Golyóscsap, MŰA, 1\" BB, fém betéttel",2094,{"$f":"IF(#REF!=A680, \"Egyezik\", \"Nem egyezik\")","v":{"$error":"#REF!"}}]
["143.10000915","Golyóscsap, MŰA, 1\" K x 1\" HOLLANDER, fém betéttel",1840,{"$f":"IF(#REF!=A681, \"Egyezik\", \"Nem egyezik\")","v":{"$error":"#REF!"}}]
["143.1000100","Golyóscsap, MŰA, 1\" KK, fém betéttel",2094,{"$f":"IF(#REF!=A682, \"Egyezik\", \"Nem egyezik\")","v":{"$error":"#REF!"}}]
["18VCFF-B","Golyóscsap, MŰA, 1/2\" BB, fém betéttel",1261,{"$f":"IF(#REF!=A683, \"Egyezik\", \"Nem egyezik\")","v":{"$error":"#REF!"}}]
["07040060","Golyóscsap, MŰA, 2\" BB, fém betéttel",8024,{"$f":"IF(#REF!=A684, \"Egyezik\", \"Nem egyezik\")","v":{"$error":"#REF!"}}]
["18VCFF-C","Golyóscsap, MŰA, 3/4\" BB, fém betéttel",1539,{"$f":"IF(#REF!=A685, \"Egyezik\", \"Nem egyezik\")","v":{"$error":"#REF!"}}]
["18VCFF-E","Golyóscsap, MŰA, 5/4\" BB, fém betéttel",3533,{"$f":"IF(#REF!=A686, \"Egyezik\", \"Nem egyezik\")","v":{"$error":"#REF!"}}]
["18VCFF-F","Golyóscsap, MŰA, 6/4\" BB, fém betéttel",4241,{"$f":"IF(#REF!=A687, \"Egyezik\", \"Nem egyezik\")","v":{"$error":"#REF!"}}]
["CSBB1_TÉL_K","Golyóscsap, TÉLI elzáró  szár 1\"",1945,{"$f":"IF(#REF!=A688, \"Egyezik\", \"Nem egyezik\")","v":{"$error":"#REF!"}}]
["CSBB3/4_tel_k","Golyóscsap, TÉLI elzáró szár 3/4\"",1993,{"$f":"IF(#REF!=A689, \"Egyezik\", \"Nem egyezik\")","v":{"$error":"#REF!"}}]
["CSBB1_TÉL_T","Golyóscsap, TÉLI elzáró T kulcs",1148,{"$f":"IF(#REF!=A690, \"Egyezik\", \"Nem egyezik\")","v":{"$error":"#REF!"}}]
["CSBB1_TÉL","Golyóscsap, TÉLI elzáró,  1\" BB",3986,{"$f":"IF(#REF!=A691, \"Egyezik\", \"Nem egyezik\")","v":{"$error":"#REF!"}}]
["CSBB3/4_TÉL","Golyóscsap, TÉLI elzáró,  3/4\" BB",5150,{"$f":"IF(#REF!=A692, \"Egyezik\", \"Nem egyezik\")","v":{"$error":"#REF!"}}]
["CSBB3/4_TÉL M","Golyóscsap, TÉLI elzáró,  3/4\" BB, MOFÉM",5150,{"$f":"IF(#REF!=A693, \"Egyezik\", \"Nem egyezik\")","v":{"$error":"#REF!"}}]
["CU301","Grundfos áll. nyom.tar csom.",90605,{"$f":"IF(#REF!=A694, \"Egyezik\", \"Nem egyezik\")","v":{"$error":"#REF!"}}]
["CH-2-30","Grundfos CH 2-30",64930,{"$f":"IF(#REF!=A695, \"Egyezik\", \"Nem egyezik\")","v":{"$error":"#REF!"}}]
["G CH 4-60","Grundfos CH 4-60",68467,{"$f":"IF(#REF!=A696, \"Egyezik\", \"Nem egyezik\")","v":{"$error":"#REF!"}}]
["G CH 8-60 400V","Grundfos CH 8-60 400V",121102,{"$f":"IF(#REF!=A697, \"Egyezik\", \"Nem egyezik\")","v":{"$error":"#REF!"}}]
["GRU-CR108","Grundfos CR 10-8",264180,{"$f":"IF(#REF!=A698, \"Egyezik\", \"Nem egyezik\")","v":{"$error":"#REF!"}}]
["CU300","Grundfos CU300 nyomástartó csomag",82166,{"$f":"IF(#REF!=A699, \"Egyezik\", \"Nem egyezik\")","v":{"$error":"#REF!"}}]
["JP5","Grundfos JP 5 szivattyú",57120,{"$f":"IF(#REF!=A700, \"Egyezik\", \"Nem egyezik\")","v":{"$error":"#REF!"}}]
["GRU-JP5","Grundfos JP 5 szivattyú + PC15",77920,{"$f":"IF(#REF!=A701, \"Egyezik\", \"Nem egyezik\")","v":{"$error":"#REF!"}}]
["GRU-JP6","Grundfos JP 6 szivattyú",58083,{"$f":"IF(#REF!=A702, \"Egyezik\", \"Nem egyezik\")","v":{"$error":"#REF!"}}]
["GRU-KP150AV1","Grundfos KP 150 AV 1",41832,{"$f":"IF(#REF!=A703, \"Egyezik\", \"Nem egyezik\")","v":{"$error":"#REF!"}}]
["MQ 3-45B","Grundfos MQ 3-45B",113189,{"$f":"IF(#REF!=A704, \"Egyezik\", \"Nem egyezik\")","v":{"$error":"#REF!"}}]
["GFF4-16","Grundfos nyomáskapcsoló FF4-16",35245,{"$f":"IF(#REF!=A705, \"Egyezik\", \"Nem egyezik\")","v":{"$error":"#REF!"}}]
["NYK4-8","Grundfos nyomáskapcsoló FF4-8",28900,{"$f":"IF(#REF!=A706, \"Egyezik\", \"Nem egyezik\")","v":{"$error":"#REF!"}}]
["GRU-PM1","Grundfos PM 1 áramláskapcsoló",19800,{"$f":"IF(#REF!=A707, \"Egyezik\", \"Nem egyezik\")","v":{"$error":"#REF!"}}]
["GRU-PM2","Grundfos PM 2 áramláskapcsoló",32220,{"$f":"IF(#REF!=A708, \"Egyezik\", \"Nem egyezik\")","v":{"$error":"#REF!"}}]
["GRU-PC","Grundfos PressControl",25566,{"$f":"IF(#REF!=A709, \"Egyezik\", \"Nem egyezik\")","v":{"$error":"#REF!"}}]
["SP8A15","Grundfos SP 8A-15",321452,{"$f":"IF(#REF!=A710, \"Egyezik\", \"Nem egyezik\")","v":{"$error":"#REF!"}}]
["SP9A16","Grundfos SP 9A-16 Frekvenciaváltóval, védőköpenycsővel, nyomástávadóval, szonda",1159523,{"$f":"IF(#REF!=A711, \"Egyezik\", \"Nem egyezik\")","v":{"$error":"#REF!"}}]
["SQ 1-50","Grundfos SQ 1-50",131986,{"$f":"IF(#REF!=A712, \"Egyezik\", \"Nem egyezik\")","v":{"$error":"#REF!"}}]
["gru-sq255","Grundfos SQ 2-55",152690,{"$f":"IF(#REF!=A713, \"Egyezik\", \"Nem egyezik\")","v":{"$error":"#REF!"}}]
["gru-sq270","Grundfos SQ 2-70",137664,{"$f":"IF(#REF!=A714, \"Egyezik\", \"Nem egyezik\")","v":{"$error":"#REF!"}}]
["gru-sq285","Grundfos SQ 2-85",148680,{"$f":"IF(#REF!=A715, \"Egyezik\", \"Nem egyezik\")","v":{"$error":"#REF!"}}]
["SQ 3-65","Grundfos SQ 3-105",284000,{"$f":"IF(#REF!=A716, \"Egyezik\", \"Nem egyezik\")","v":{"$error":"#REF!"}}]
["SQ 3-40","Grundfos SQ 3-40",149602,{"$f":"IF(#REF!=A717, \"Egyezik\", \"Nem egyezik\")","v":{"$error":"#REF!"}}]
["gru-sq355","Grundfos SQ 3-55",196320,{"$f":"IF(#REF!=A718, \"Egyezik\", \"Nem egyezik\")","v":{"$error":"#REF!"}}]
["SQ3-55+30m","Grundfos SQ 3-55 + 30m kábel",191013,{"$f":"IF(#REF!=A719, \"Egyezik\", \"Nem egyezik\")","v":{"$error":"#REF!"}}]
["SQ 3-65","Grundfos SQ 3-65",202563,{"$f":"IF(#REF!=A720, \"Egyezik\", \"Nem egyezik\")","v":{"$error":"#REF!"}}]
["gru-sq550","Grundfos SQ 5-50",206790,{"$f":"IF(#REF!=A721, \"Egyezik\", \"Nem egyezik\")","v":{"$error":"#REF!"}}]
["gru-sq550","Grundfos SQ 5-50 + 30m kábel",208253,{"$f":"IF(#REF!=A722, \"Egyezik\", \"Nem egyezik\")","v":{"$error":"#REF!"}}]
["SQ/5-70","Grundfos SQ 5-70",250380,{"$f":"IF(#REF!=A723, \"Egyezik\", \"Nem egyezik\")","v":{"$error":"#REF!"}}]
["SQ-7-40","Grundfos SQ 7-40",293923,{"$f":"IF(#REF!=A724, \"Egyezik\", \"Nem egyezik\")","v":{"$error":"#REF!"}}]
["SQ-2-55E","Grundfos SQE 2-55",149183,{"$f":"IF(#REF!=A725, \"Egyezik\", \"Nem egyezik\")","v":{"$error":"#REF!"}}]
["SQE 5-70","Grundfos SQE 5-70",252377,{"$f":"IF(#REF!=A726, \"Egyezik\", \"Nem egyezik\")","v":{"$error":"#REF!"}}]
["130x800","Grundfos szívóköpenycső készlet",105800,{"$f":"IF(#REF!=A727, \"Egyezik\", \"Nem egyezik\")","v":{"$error":"#REF!"}}]
["Gyeprács BV","Gyeprács 7db/m2",445,{"$f":"IF(#REF!=A728, \"Egyezik\", \"Nem egyezik\")","v":{"$error":"#REF!"}}]
["DCN3000","Gyepszegély DCN 3000, 6 mm, M:10 cm, H:6,1 m",3032,{"$f":"IF(#REF!=A729, \"Egyezik\", \"Nem egyezik\")","v":{"$error":"#REF!"}}]
["DCN4000","Gyepszegély DCN 4000, 8 mm, M:10 cm, H:6,1 m",4299,{"$f":"IF(#REF!=A730, \"Egyezik\", \"Nem egyezik\")","v":{"$error":"#REF!"}}]
["DCN5200","Gyepszegély DCN 5200, 12 mm, M:10 cm, H:6,1 m",4693,{"$f":"IF(#REF!=A731, \"Egyezik\", \"Nem egyezik\")","v":{"$error":"#REF!"}}]
["EEA1","Gyepszegély EVEREDGE A1 Klasszik fémszegély 1000x75x1,6mm BARNA",2500,{"$f":"IF(#REF!=A732, \"Egyezik\", \"Nem egyezik\")","v":{"$error":"#REF!"}}]
["EEA7","Gyepszegély EVEREDGE A7 Klasszik fémszegély 1000x75x1,6mm",2500,{"$f":"IF(#REF!=A733, \"Egyezik\", \"Nem egyezik\")","v":{"$error":"#REF!"}}]
["GyepSz FEK","Gyepszegély FEKETE, H:1 m",900,{"$f":"IF(#REF!=A734, \"Egyezik\", \"Nem egyezik\")","v":{"$error":"#REF!"}}]
["GyepSz ZOLD","Gyepszegély ZÖLD, H:1 m",900,{"$f":"IF(#REF!=A735, \"Egyezik\", \"Nem egyezik\")","v":{"$error":"#REF!"}}]
["BBC-06-3","Háromágú vágókés 300x3.0mmx20mm",2015,{"$f":"IF(#REF!=A736, \"Egyezik\", \"Nem egyezik\")","v":{"$error":"#REF!"}}]
["HC-1200M","HC, 12 zónás bővítő modul",45383,{"$f":"IF(#REF!=A737, \"Egyezik\", \"Nem egyezik\")","v":{"$error":"#REF!"}}]
["HC-1201i-E","HC, BELTÉRI, 12 zónás vezérlő, Wi-Fi képes",84281,{"$f":"IF(#REF!=A738, \"Egyezik\", \"Nem egyezik\")","v":{"$error":"#REF!"}}]
["HC-601i-E","HC, BELTÉRI, 6 zónás vezérlő, Wi-Fi képes",72352,{"$f":"IF(#REF!=A739, \"Egyezik\", \"Nem egyezik\")","v":{"$error":"#REF!"}}]
["HCPLANENTHUSIAST","HC, kiterjesztett előfizetés kártya 1 évre",15239,{"$f":"IF(#REF!=A740, \"Egyezik\", \"Nem egyezik\")","v":{"$error":"#REF!"}}]
["HC-50F-50F","HCV visszacsapó szelep BB 1/2\"",2035,{"$f":"IF(#REF!=A741, \"Egyezik\", \"Nem egyezik\")","v":{"$error":"#REF!"}}]
["HC-50F-50M","HCV visszacsapó szelep KB 1/2\"",2035,{"$f":"IF(#REF!=A742, \"Egyezik\", \"Nem egyezik\")","v":{"$error":"#REF!"}}]
["HC-75F-75M","HCV visszacsapó szelep KB 3/4\"",2352,{"$f":"IF(#REF!=A743, \"Egyezik\", \"Nem egyezik\")","v":{"$error":"#REF!"}}]
["HT-100L","Hidrofor tartály Álló 1\" 100L",35500,{"$f":"IF(#REF!=A744, \"Egyezik\", \"Nem egyezik\")","v":{"$error":"#REF!"}}]
["HT-150L","Hidrofor tartály Álló 1\" 150L",64158,{"$f":"IF(#REF!=A745, \"Egyezik\", \"Nem egyezik\")","v":{"$error":"#REF!"}}]
["HT-200L","Hidrofor tartály Álló 1\" 200L",67200,{"$f":"IF(#REF!=A746, \"Egyezik\", \"Nem egyezik\")","v":{"$error":"#REF!"}}]
["HID50Á","Hidrofor tartály Álló 1\" 50L",20866,{"$f":"IF(#REF!=A747, \"Egyezik\", \"Nem egyezik\")","v":{"$error":"#REF!"}}]
["US060361CS0000","Hidrofor tartály Álló 1\" 60L",18800,{"$f":"IF(#REF!=A748, \"Egyezik\", \"Nem egyezik\")","v":{"$error":"#REF!"}}]
["HT-80L","Hidrofor tartály Álló 1\" 80L",30441,{"$f":"IF(#REF!=A749, \"Egyezik\", \"Nem egyezik\")","v":{"$error":"#REF!"}}]
["AR5","Hidrofor tartály Álló 3/4\" KM, 5L",6444,{"$f":"IF(#REF!=A750, \"Egyezik\", \"Nem egyezik\")","v":{"$error":"#REF!"}}]
["HT/24l","Hidrofor tartály Fekvő 1\" 24l",6500,{"$f":"IF(#REF!=A751, \"Egyezik\", \"Nem egyezik\")","v":{"$error":"#REF!"}}]
["294041","Hidromasszázs szivattyú, SAM 2-240, 230V",49882,{"$f":"IF(#REF!=A752, \"Egyezik\", \"Nem egyezik\")","v":{"$error":"#REF!"}}]
["CU301","Hidromat szivattyú védelem",62496,{"$f":"IF(#REF!=A753, \"Egyezik\", \"Nem egyezik\")","v":{"$error":"#REF!"}}]
["06220050","Hollanderes egyenes, PVC, BM 2\"",2960,{"$f":"IF(#REF!=A754, \"Egyezik\", \"Nem egyezik\")","v":{"$error":"#REF!"}}]
["HW-FK06-3/4\"AA","Honeywell vízszűrő +3/4\" nyomáscsökkentő",22136,{"$f":"IF(#REF!=A755, \"Egyezik\", \"Nem egyezik\")","v":{"$error":"#REF!"}}]
["HW-FF06-1AA","Honeywell vízszűrő 1\"",15060,{"$f":"IF(#REF!=A756, \"Egyezik\", \"Nem egyezik\")","v":{"$error":"#REF!"}}]
["HW-FK06-1\"AA","Honeywell vízszűrő 1\" + nyomáscsökkentő",28117,{"$f":"IF(#REF!=A757, \"Egyezik\", \"Nem egyezik\")","v":{"$error":"#REF!"}}]
["61030067R","Hővédő Sparta 250T",1170,{"$f":"IF(#REF!=A758, \"Egyezik\", \"Nem egyezik\")","v":{"$error":"#REF!"}}]
["100-HVF-FF","HV-100 24V mágnesszelep, 1\" BB, átf. szab.",6494,{"$f":"IF(#REF!=A759, \"Egyezik\", \"Nem egyezik\")","v":{"$error":"#REF!"}}]
["100-HV-MM","HV-100 24V mágnesszelep, 1\" KK",5015,{"$f":"IF(#REF!=A760, \"Egyezik\", \"Nem egyezik\")","v":{"$error":"#REF!"}}]
["CIKLON 1","Hydrociklon 1\" 25-65 l/perc között",50000,{"$f":"IF(#REF!=A761, \"Egyezik\", \"Nem egyezik\")","v":{"$error":"#REF!"}}]
["CIKLON 1/2\"","Hydrociklon 1/2\" 10-25 l/perc között",26000,{"$f":"IF(#REF!=A762, \"Egyezik\", \"Nem egyezik\")","v":{"$error":"#REF!"}}]
["CIKLON 2\"","Hydrociklon 2\" 100-250 l/perc között",150000,{"$f":"IF(#REF!=A763, \"Egyezik\", \"Nem egyezik\")","v":{"$error":"#REF!"}}]
["CIKLON 6/4\"","Hydrociklon 6/4\" 65-150 l/perc között",110000,{"$f":"IF(#REF!=A764, \"Egyezik\", \"Nem egyezik\")","v":{"$error":"#REF!"}}]
["H I-20-04-SS","I-20 fém kiem. rotoros szórófej",10275,{"$f":"IF(#REF!=A765, \"Egyezik\", \"Nem egyezik\")","v":{"$error":"#REF!"}}]
["H I-20-04","I-20 rotoros szórófej",7630,{"$f":"IF(#REF!=A766, \"Egyezik\", \"Nem egyezik\")","v":{"$error":"#REF!"}}]
["H I-25-04","I-25 szórófej, 10cm kiemelkedés, állítható 50-360°",14207,{"$f":"IF(#REF!=A767, \"Egyezik\", \"Nem egyezik\")","v":{"$error":"#REF!"}}]
["H I-25-04-SS","I-25-SS szórófej, 10cm kiemelkedés, fém nyak, állítható 50-360°",16354,{"$f":"IF(#REF!=A768, \"Egyezik\", \"Nem egyezik\")","v":{"$error":"#REF!"}}]
["ICD100","ICD-100, 1 zónás dekóder",31335,{"$f":"IF(#REF!=A769, \"Egyezik\", \"Nem egyezik\")","v":{"$error":"#REF!"}}]
["FűmagFin","ICL fűmag, FINESSE, 10kg, 25g/m^2",15323,{"$f":"IF(#REF!=A770, \"Egyezik\", \"Nem egyezik\")","v":{"$error":"#REF!"}}]
["FűmagFin5","ICL fűmag, FINESSE, 5kg, 25g/m^2",9563,{"$f":"IF(#REF!=A771, \"Egyezik\", \"Nem egyezik\")","v":{"$error":"#REF!"}}]
["FűmagPerf","ICL fűmag, PERFORMANCE, 10kg, 35g/m^2",15598,{"$f":"IF(#REF!=A772, \"Egyezik\", \"Nem egyezik\")","v":{"$error":"#REF!"}}]
["FűmagPerf5","ICL fűmag, PERFORMANCE, 5kg, 35g/m^2",13125,{"$f":"IF(#REF!=A773, \"Egyezik\", \"Nem egyezik\")","v":{"$error":"#REF!"}}]
["FűmagSREGENERATOR+","ICL fűmag, REGENERATOR PLUS, 10kg",18750,{"$f":"IF(#REF!=A774, \"Egyezik\", \"Nem egyezik\")","v":{"$error":"#REF!"}}]
["FűmagSSTRONG","ICL fűmag, STRONG, 10kg",18087,{"$f":"IF(#REF!=A775, \"Egyezik\", \"Nem egyezik\")","v":{"$error":"#REF!"}}]
["FűmagS&S","ICL fűmag, SUN&SHADE, 10kg, 25g/m^2",16940,{"$f":"IF(#REF!=A776, \"Egyezik\", \"Nem egyezik\")","v":{"$error":"#REF!"}}]
["FűmagS&S5","ICL fűmag, SUN&SHADE, 5kg, 25g/m^2",10534,{"$f":"IF(#REF!=A777, \"Egyezik\", \"Nem egyezik\")","v":{"$error":"#REF!"}}]
["FűmagSSUPREME","ICL fűmag, SUPREME, 10kg",18500,{"$f":"IF(#REF!=A778, \"Egyezik\", \"Nem egyezik\")","v":{"$error":"#REF!"}}]
["6015/3105","ICL fűmag, TOSCANA, 10kg",19800,{"$f":"IF(#REF!=A779, \"Egyezik\", \"Nem egyezik\")","v":{"$error":"#REF!"}}]
["Everris 4-5","ICL műtrágya, ALL ROUND, 4-5 HÓNAP, 15 kg, 330m^2",15035,{"$f":"IF(#REF!=A780, \"Egyezik\", \"Nem egyezik\")","v":{"$error":"#REF!"}}]
["Everris Flora","ICL műtrágya, FLORA, 5-6 HÓNAP 15 kg",16926,{"$f":"IF(#REF!=A781, \"Egyezik\", \"Nem egyezik\")","v":{"$error":"#REF!"}}]
["Everris 8-9","ICL műtrágya, FULL SEASON, 8-9 HÓNAP, 15 kg",15535,{"$f":"IF(#REF!=A782, \"Egyezik\", \"Nem egyezik\")","v":{"$error":"#REF!"}}]
["Everris 2-3","ICL műtrágya, MAINTENANCE, 2-3 HÓNAP, NPK 24+5+12; 15 kg; 420m^2",12106,{"$f":"IF(#REF!=A783, \"Egyezik\", \"Nem egyezik\")","v":{"$error":"#REF!"}}]
["Everris MCS","ICL műtrágya, MOHÁSODÁS CSÖKK., 15 kg, 450-500m^2",14343,{"$f":"IF(#REF!=A784, \"Egyezik\", \"Nem egyezik\")","v":{"$error":"#REF!"}}]
["Everris NEW","ICL műtrágya, NEW GRASS (3 hónap), 15 kg, 420m^2",13493,{"$f":"IF(#REF!=A785, \"Egyezik\", \"Nem egyezik\")","v":{"$error":"#REF!"}}]
["Everris OES","ICL műtrágya, OSMOCOTE Exact Standard, 25 kg",34450,{"$f":"IF(#REF!=A786, \"Egyezik\", \"Nem egyezik\")","v":{"$error":"#REF!"}}]
["Everris OSM F","ICL műtrágya, OSMOCOTE Flora",19652,{"$f":"IF(#REF!=A787, \"Egyezik\", \"Nem egyezik\")","v":{"$error":"#REF!"}}]
["Everris ŐT","ICL műtrágya, PRE-WINTER, 15 kg",13650,{"$f":"IF(#REF!=A788, \"Egyezik\", \"Nem egyezik\")","v":{"$error":"#REF!"}}]
["Everris 5826","ICL műtrágya, SHADE SPECIAL 11+5+5+8 FE, 15 kg, 430m^2",11843,{"$f":"IF(#REF!=A789, \"Egyezik\", \"Nem egyezik\")","v":{"$error":"#REF!"}}]
["Everris SFGT","ICL műtrágya, SIERRA FORM GT, 20 kg, 25+5+11",18688,{"$f":"IF(#REF!=A790, \"Egyezik\", \"Nem egyezik\")","v":{"$error":"#REF!"}}]
["Everris SM B 25","ICL műtrágya, SPORTSMASTER BALANCED, NPK18-8-17+2MgO+Fe, 25 kg, 800-1000m^2",14403,{"$f":"IF(#REF!=A791, \"Egyezik\", \"Nem egyezik\")","v":{"$error":"#REF!"}}]
["Everris SM HK 25","ICL műtrágya, SPORTSMASTER High K, 25 kg, 800-1000m^2",14815,{"$f":"IF(#REF!=A792, \"Egyezik\", \"Nem egyezik\")","v":{"$error":"#REF!"}}]
["Everris SM HN 25","ICL műtrágya, SPORTSMASTER High N, 25 kg, 800-1000m^2",14403,{"$f":"IF(#REF!=A793, \"Egyezik\", \"Nem egyezik\")","v":{"$error":"#REF!"}}]
["Everris SM REN","ICL műtrágya, SPORTSMASTER Renovator, 25 kg, 23+23+05",15067,{"$f":"IF(#REF!=A794, \"Egyezik\", \"Nem egyezik\")","v":{"$error":"#REF!"}}]
["Everris SHM 20","ICL műtrágya, STEP HI-MAG, 20 kg, trace element",22464,{"$f":"IF(#REF!=A795, \"Egyezik\", \"Nem egyezik\")","v":{"$error":"#REF!"}}]
["Everris STRESS","ICL műtrágya, STRESS C.(2-3 hónap), 15 kg",13130,{"$f":"IF(#REF!=A796, \"Egyezik\", \"Nem egyezik\")","v":{"$error":"#REF!"}}]
["Everris GYOM","ICL műtrágya, WEED CONTROL, NPK 22+05+05+2,4D+Dikamba, 10 kg, 500m^2",10303,{"$f":"IF(#REF!=A797, \"Egyezik\", \"Nem egyezik\")","v":{"$error":"#REF!"}}]
["Everris GYOM","ICL műtrágya, WEED CONTROL, NPK 22+05+05+2,4D+Dikamba, 15 kg, 750m^2",15456,{"$f":"IF(#REF!=A798, \"Egyezik\", \"Nem egyezik\")","v":{"$error":"#REF!"}}]
["Everris HG II","ICL műtrűgyaszóró, EASY GREEN",19550,{"$f":"IF(#REF!=A799, \"Egyezik\", \"Nem egyezik\")","v":{"$error":"#REF!"}}]
["Everris HG II","ICL műtrűgyaszóró, HANDY GREEN II",5303,{"$f":"IF(#REF!=A800, \"Egyezik\", \"Nem egyezik\")","v":{"$error":"#REF!"}}]
["ICM 800","ICM 8 zónás bővítőmodul ICC vezérlőhöz",41088,{"$f":"IF(#REF!=A801, \"Egyezik\", \"Nem egyezik\")","v":{"$error":"#REF!"}}]
["IC600PL","I-CORE moduláris vezérlő, 6-30 zónáig, MŰANYAG HÁZAS",129900,{"$f":"IF(#REF!=A802, \"Egyezik\", \"Nem egyezik\")","v":{"$error":"#REF!"}}]
["IC600M","I-CORE moduláris vezérlő, 6-42 zónáig, FÉMHÁZAS",258030,{"$f":"IF(#REF!=A803, \"Egyezik\", \"Nem egyezik\")","v":{"$error":"#REF!"}}]
["ICM0600","I-CORE, ICM-600, 6 zónás bővítőmodul",30940,{"$f":"IF(#REF!=A804, \"Egyezik\", \"Nem egyezik\")","v":{"$error":"#REF!"}}]
["FC14300-S","I-CORE, szalagkábel IDC csatlakozókkal",906,{"$f":"IF(#REF!=A805, \"Egyezik\", \"Nem egyezik\")","v":{"$error":"#REF!"}}]
["H ICV-101","ICV mágnesszelep, 1\" BB 24V",17314,{"$f":"IF(#REF!=A806, \"Egyezik\", \"Nem egyezik\")","v":{"$error":"#REF!"}}]
["H ICV-151","ICV mágnesszelep, 6/4\" BB 24V",23837,{"$f":"IF(#REF!=A807, \"Egyezik\", \"Nem egyezik\")","v":{"$error":"#REF!"}}]
["200.4080410","I-Dial, BELTÉRI, 4 zónás vezérlő",18622,{"$f":"IF(#REF!=A808, \"Egyezik\", \"Nem egyezik\")","v":{"$error":"#REF!"}}]
["200.4080610","I-Dial, BELTÉRI, 6 zónás vezérlő",20676,{"$f":"IF(#REF!=A809, \"Egyezik\", \"Nem egyezik\")","v":{"$error":"#REF!"}}]
["200.4080810","I-Dial, BELTÉRI, 8 zónás vezérlő",25959,{"$f":"IF(#REF!=A810, \"Egyezik\", \"Nem egyezik\")","v":{"$error":"#REF!"}}]
["200.4083410","I-Dial, KÜLTÉRI, 4 zónás vezérlő",27181,{"$f":"IF(#REF!=A811, \"Egyezik\", \"Nem egyezik\")","v":{"$error":"#REF!"}}]
["200.4083610","I-Dial, KÜLTÉRI, 6 zónás vezérlő",29872,{"$f":"IF(#REF!=A812, \"Egyezik\", \"Nem egyezik\")","v":{"$error":"#REF!"}}]
["200.4083810","I-Dial, KÜLTÉRI, 8 zónás vezérlő",37453,{"$f":"IF(#REF!=A813, \"Egyezik\", \"Nem egyezik\")","v":{"$error":"#REF!"}}]
["Z-123602","Impulzus számláló, Zenner WR3 10l",31277,{"$f":"IF(#REF!=A814, \"Egyezik\", \"Nem egyezik\")","v":{"$error":"#REF!"}}]
["INST-04","INST-04-CV ipari szórófejház, 10 cm kiem",1896,{"$f":"IF(#REF!=A815, \"Egyezik\", \"Nem egyezik\")","v":{"$error":"#REF!"}}]
["IR102059","Jelölő spray narancs",1182,{"$f":"IF(#REF!=A816, \"Egyezik\", \"Nem egyezik\")","v":{"$error":"#REF!"}}]
["W01000","JTV mágnesszelep 1\" KK, 24V",7240,{"$f":"IF(#REF!=A817, \"Egyezik\", \"Nem egyezik\")","v":{"$error":"#REF!"}}]
["JRMAX-4-220","Junior MAX, BELTÉRI, 4 zónás vezérlő",18580,{"$f":"IF(#REF!=A818, \"Egyezik\", \"Nem egyezik\")","v":{"$error":"#REF!"}}]
["0796 2103 329","K PN10, NO, 25x25 könyök idom",347,{"$f":"IF(#REF!=A819, \"Egyezik\", \"Nem egyezik\")","v":{"$error":"#REF!"}}]
["0796 2103 330","K PN10, NO, 32x32 könyök idom",437,{"$f":"IF(#REF!=A820, \"Egyezik\", \"Nem egyezik\")","v":{"$error":"#REF!"}}]
[7962650999,"K PN16, NO, 25x25 könyök idom",442,{"$f":"IF(#REF!=A821, \"Egyezik\", \"Nem egyezik\")","v":{"$error":"#REF!"}}]
[7962651000,"K PN16, NO, 32x32 könyök idom",577,{"$f":"IF(#REF!=A822, \"Egyezik\", \"Nem egyezik\")","v":{"$error":"#REF!"}}]
[7962651001,"K PN16, NO, 40x40 könyök idom",1040,{"$f":"IF(#REF!=A823, \"Egyezik\", \"Nem egyezik\")","v":{"$error":"#REF!"}}]
["E120 2525","K PN16, PO, 25x25 könyök idom",528,{"$f":"IF(#REF!=A824, \"Egyezik\", \"Nem egyezik\")","v":{"$error":"#REF!"}}]
["E120 3232","K PN16, PO, 32x32 könyök idom",654,{"$f":"IF(#REF!=A825, \"Egyezik\", \"Nem egyezik\")","v":{"$error":"#REF!"}}]
["E120 4040","K PN16, PO, 40x40 könyök idom",911,{"$f":"IF(#REF!=A826, \"Egyezik\", \"Nem egyezik\")","v":{"$error":"#REF!"}}]
["E120 5050","K PN16, PO, 50x50 könyök idom",1270,{"$f":"IF(#REF!=A827, \"Egyezik\", \"Nem egyezik\")","v":{"$error":"#REF!"}}]
["E120 6363","K PN16, PO, 63x63 könyök idom",1543,{"$f":"IF(#REF!=A828, \"Egyezik\", \"Nem egyezik\")","v":{"$error":"#REF!"}}]
["05080080","K PN16, PO, 75x75 könyök idom",2990,{"$f":"IF(#REF!=A829, \"Egyezik\", \"Nem egyezik\")","v":{"$error":"#REF!"}}]
["E120 9090","K PN16, PO, 90x90 könyök idom",5141,{"$f":"IF(#REF!=A830, \"Egyezik\", \"Nem egyezik\")","v":{"$error":"#REF!"}}]
["H05 3x1.5","Kábel H05 RR-F 3x1,5mm^2",360,{"$f":"IF(#REF!=A831, \"Egyezik\", \"Nem egyezik\")","v":{"$error":"#REF!"}}]
["H073x1.5","Kábel H07RN-F 450/750 V 3x1,5mm^2",266,{"$f":"IF(#REF!=A832, \"Egyezik\", \"Nem egyezik\")","v":{"$error":"#REF!"}}]
["H073x2.5","Kábel H07RN-F 450/750 V 3x2,5mm^2",360,{"$f":"IF(#REF!=A833, \"Egyezik\", \"Nem egyezik\")","v":{"$error":"#REF!"}}]
["H074x1.5","Kábel H07RN-F 450/750 V 4x1,5mm^2",330,{"$f":"IF(#REF!=A834, \"Egyezik\", \"Nem egyezik\")","v":{"$error":"#REF!"}}]
["H074x2.5","Kábel H07RN-F 450/750 V 4x2,5mm^2",455,{"$f":"IF(#REF!=A835, \"Egyezik\", \"Nem egyezik\")","v":{"$error":"#REF!"}}]
["H074x4","Kábel H07RN-F 450/750 V 4x4mm^2",585,{"$f":"IF(#REF!=A836, \"Egyezik\", \"Nem egyezik\")","v":{"$error":"#REF!"}}]
["NYY 10/1,5","Kábel NYY 10x1.5mm^2",662,{"$f":"IF(#REF!=A837, \"Egyezik\", \"Nem egyezik\")","v":{"$error":"#REF!"}}]
["NYY 12/1,5","Kábel NYY 12x1.5mm^2",797,{"$f":"IF(#REF!=A838, \"Egyezik\", \"Nem egyezik\")","v":{"$error":"#REF!"}}]
["NYY 14/1,5","Kábel NYY 14x1.5mm^2",905,{"$f":"IF(#REF!=A839, \"Egyezik\", \"Nem egyezik\")","v":{"$error":"#REF!"}}]
["NYY 3/1,5","Kábel NYY 3x1.5mm^2",162,{"$f":"IF(#REF!=A840, \"Egyezik\", \"Nem egyezik\")","v":{"$error":"#REF!"}}]
["NYY 4/1,5","Kábel NYY 4x1.5mm^2",230,{"$f":"IF(#REF!=A841, \"Egyezik\", \"Nem egyezik\")","v":{"$error":"#REF!"}}]
["NYY 5/1,5","Kábel NYY 5x1.5mm^2",284,{"$f":"IF(#REF!=A842, \"Egyezik\", \"Nem egyezik\")","v":{"$error":"#REF!"}}]
["NYY 7/1,5","Kábel NYY 7x1.5mm^2",338,{"$f":"IF(#REF!=A843, \"Egyezik\", \"Nem egyezik\")","v":{"$error":"#REF!"}}]
["YSLY-JZ 10/0,75","Kábel YSLY-JZ 10 x 0.75mm2",282,{"$f":"IF(#REF!=A844, \"Egyezik\", \"Nem egyezik\")","v":{"$error":"#REF!"}}]
["YSLY-JZ 10/1,0","Kábel YSLY-JZ 10 x 1.0mm^2",345,{"$f":"IF(#REF!=A845, \"Egyezik\", \"Nem egyezik\")","v":{"$error":"#REF!"}}]
["YSLY-JZ 10/1,5","Kábel YSLY-JZ 10 x 1.5mm^2",0,{"$f":"IF(#REF!=A846, \"Egyezik\", \"Nem egyezik\")","v":{"$error":"#REF!"}}]
["YSLY-JZ 18/1,5","Kábel YSLY-JZ 18 x 1.5mm^2",0,{"$f":"IF(#REF!=A847, \"Egyezik\", \"Nem egyezik\")","v":{"$error":"#REF!"}}]
["YSLY-JZ 2/0,75","Kábel YSLY-JZ 2 x 0.75 mm2",74,{"$f":"IF(#REF!=A848, \"Egyezik\", \"Nem egyezik\")","v":{"$error":"#REF!"}}]
["YSLY-JZ 2/1,5","Kábel YSLY-JZ 2 x 1.5 mm2",120,{"$f":"IF(#REF!=A849, \"Egyezik\", \"Nem egyezik\")","v":{"$error":"#REF!"}}]
["YSLY-JZ 3/0,75","Kábel YSLY-JZ 3 x 0.75 mm2",104,{"$f":"IF(#REF!=A850, \"Egyezik\", \"Nem egyezik\")","v":{"$error":"#REF!"}}]
["YSLY-JZ 3/1,5","Kábel YSLY-JZ 3 x 1.5 mm2",139,{"$f":"IF(#REF!=A851, \"Egyezik\", \"Nem egyezik\")","v":{"$error":"#REF!"}}]
["YSLY-JZ 4/0,75","Kábel YSLY-JZ 4 x 0.75 mm2",135,{"$f":"IF(#REF!=A852, \"Egyezik\", \"Nem egyezik\")","v":{"$error":"#REF!"}}]
["YSLY-JZ 4/1,5","Kábel YSLY-JZ 4 x 1.5 mm2",210,{"$f":"IF(#REF!=A853, \"Egyezik\", \"Nem egyezik\")","v":{"$error":"#REF!"}}]
["YSLY-JZ 5/0,75","Kábel YSLY-JZ 5 x 0.75 mm2",150,{"$f":"IF(#REF!=A854, \"Egyezik\", \"Nem egyezik\")","v":{"$error":"#REF!"}}]
["YSLY-JZ 5/1,5","Kábel YSLY-JZ 5 x 1.5 mm2",304,{"$f":"IF(#REF!=A855, \"Egyezik\", \"Nem egyezik\")","v":{"$error":"#REF!"}}]
["YSLY-JZ 7/0,75","Kábel YSLY-JZ 7 x 0.75 mm2",204,{"$f":"IF(#REF!=A856, \"Egyezik\", \"Nem egyezik\")","v":{"$error":"#REF!"}}]
["YSLY-JZ 7/1,0","Kábel YSLY-JZ 7 x 1.0 mm2",263,{"$f":"IF(#REF!=A857, \"Egyezik\", \"Nem egyezik\")","v":{"$error":"#REF!"}}]
["YSLY-JZ 7/1,5","Kábel YSLY-JZ 7 x 1.5 mm2",435,{"$f":"IF(#REF!=A858, \"Egyezik\", \"Nem egyezik\")","v":{"$error":"#REF!"}}]
["KT415","Kábeltoldás 4*1.5mm^2 keresztmetszetig",9000,{"$f":"IF(#REF!=A859, \"Egyezik\", \"Nem egyezik\")","v":{"$error":"#REF!"}}]
["270.1300051","Kalapácsos öntözőfej AG 125 1/2\", szektoros",6316,{"$f":"IF(#REF!=A860, \"Egyezik\", \"Nem egyezik\")","v":{"$error":"#REF!"}}]
["270.1300031","Kalapácsos öntözőfej AG 135 3/4\"",11454,{"$f":"IF(#REF!=A861, \"Egyezik\", \"Nem egyezik\")","v":{"$error":"#REF!"}}]
["250.1513731","Kalapácsos öntözőfej AK 1/2\" Műanyag",1077,{"$f":"IF(#REF!=A862, \"Egyezik\", \"Nem egyezik\")","v":{"$error":"#REF!"}}]
["270.1300040","Kalapácsos öntözőfej AQ-20PC 1\"",6524,{"$f":"IF(#REF!=A863, \"Egyezik\", \"Nem egyezik\")","v":{"$error":"#REF!"}}]
["PERZMWD16","Kalapácsos öntözőfej FÚVÓKA ZM22, 16mm",1776,{"$f":"IF(#REF!=A864, \"Egyezik\", \"Nem egyezik\")","v":{"$error":"#REF!"}}]
["427B AG","Kalapácsos öntözőfej NaanDanJain 427B AG 1/2\" KM, szektoros",1900,{"$f":"IF(#REF!=A865, \"Egyezik\", \"Nem egyezik\")","v":{"$error":"#REF!"}}]
["PERZM22","Kalapácsos öntözőfej ZM22 360, 10mm fúvókával",16943,{"$f":"IF(#REF!=A866, \"Egyezik\", \"Nem egyezik\")","v":{"$error":"#REF!"}}]
["PERZM22W","Kalapácsos öntözőfej ZM22W, SZEKTOROS 34m, 24m3",29829,{"$f":"IF(#REF!=A867, \"Egyezik\", \"Nem egyezik\")","v":{"$error":"#REF!"}}]
["04050100","Kapillárcső 3,0x1,0",62,{"$f":"IF(#REF!=A868, \"Egyezik\", \"Nem egyezik\")","v":{"$error":"#REF!"}}]
["00116","Karima Alátét Fényes M16",13,{"$f":"IF(#REF!=A869, \"Egyezik\", \"Nem egyezik\")","v":{"$error":"#REF!"}}]
["00016","Karima Anya M16",30,{"$f":"IF(#REF!=A870, \"Egyezik\", \"Nem egyezik\")","v":{"$error":"#REF!"}}]
["KAC-M1660","Karima Csavar 16x60",119,{"$f":"IF(#REF!=A871, \"Egyezik\", \"Nem egyezik\")","v":{"$error":"#REF!"}}]
["1000-1800-01","Karima egységcsomag, NA100",3172,{"$f":"IF(#REF!=A872, \"Egyezik\", \"Nem egyezik\")","v":{"$error":"#REF!"}}]
["71216050","Karima Menetes 2\"",3249,{"$f":"IF(#REF!=A873, \"Egyezik\", \"Nem egyezik\")","v":{"$error":"#REF!"}}]
["KTNA100","Karima Tömítés AM NA 100",474,{"$f":"IF(#REF!=A874, \"Egyezik\", \"Nem egyezik\")","v":{"$error":"#REF!"}}]
["KTNA50","Karima Tömítés AM NA 50",204,{"$f":"IF(#REF!=A875, \"Egyezik\", \"Nem egyezik\")","v":{"$error":"#REF!"}}]
["0400-1817-30","Karimás csatlakozó SYSTEM 2000 karimás-tokos PE, PVC, 100/90, PN16",26273,{"$f":"IF(#REF!=A876, \"Egyezik\", \"Nem egyezik\")","v":{"$error":"#REF!"}}]
["270-9V","Karmantyú HORGANYZOTT, 2\"x2\"",723,{"$f":"IF(#REF!=A877, \"Egyezik\", \"Nem egyezik\")","v":{"$error":"#REF!"}}]
["IR.620.0303","Karmantyú MŰA, 1\"×1\"",106,{"$f":"IF(#REF!=A878, \"Egyezik\", \"Nem egyezik\")","v":{"$error":"#REF!"}}]
["IR.620.0101","Karmantyú MŰA, 1/2\"×1/2\"",72,{"$f":"IF(#REF!=A879, \"Egyezik\", \"Nem egyezik\")","v":{"$error":"#REF!"}}]
["IR.620.0606","Karmantyú MŰA, 2\"×2\"",490,{"$f":"IF(#REF!=A880, \"Egyezik\", \"Nem egyezik\")","v":{"$error":"#REF!"}}]
["IR.620.0202","Karmantyú MŰA, 3/4\"×3/4\"",80,{"$f":"IF(#REF!=A881, \"Egyezik\", \"Nem egyezik\")","v":{"$error":"#REF!"}}]
["IR.620.0404","Karmantyú MŰA, 5/4\"×5/4\"",288,{"$f":"IF(#REF!=A882, \"Egyezik\", \"Nem egyezik\")","v":{"$error":"#REF!"}}]
["IR.620.0505","Karmantyú MŰA, 6/4\"×6/4\"",364,{"$f":"IF(#REF!=A883, \"Egyezik\", \"Nem egyezik\")","v":{"$error":"#REF!"}}]
["VG-266561","Karmantyú RÉZ, 1\"",674,{"$f":"IF(#REF!=A884, \"Egyezik\", \"Nem egyezik\")","v":{"$error":"#REF!"}}]
["VG-266554","Karmantyú RÉZ, 3/4\"",458,{"$f":"IF(#REF!=A885, \"Egyezik\", \"Nem egyezik\")","v":{"$error":"#REF!"}}]
["Karm5/4Cu","Karmantyú RÉZ, 5/4\"",506,{"$f":"IF(#REF!=A886, \"Egyezik\", \"Nem egyezik\")","v":{"$error":"#REF!"}}]
["245-36V","Karmantyú szűkítő HORGANYZOTT, 2\"x1\"",0,{"$f":"IF(#REF!=A887, \"Egyezik\", \"Nem egyezik\")","v":{"$error":"#REF!"}}]
["240-38V","Karmantyú szűkítő HORGANYZOTT, 2\"x6/4\"",778,{"$f":"IF(#REF!=A888, \"Egyezik\", \"Nem egyezik\")","v":{"$error":"#REF!"}}]
["I62132B","Karmantyú szűkítő MŰA, 1\"x1/2\"",104,{"$f":"IF(#REF!=A889, \"Egyezik\", \"Nem egyezik\")","v":{"$error":"#REF!"}}]
["IR.621.0302","Karmantyú szűkítő MŰA, 1\"x3/4\"",108,{"$f":"IF(#REF!=A890, \"Egyezik\", \"Nem egyezik\")","v":{"$error":"#REF!"}}]
["IR.621.0604","Karmantyú szűkítő MŰA, 2\"x5/4\"",544,{"$f":"IF(#REF!=A891, \"Egyezik\", \"Nem egyezik\")","v":{"$error":"#REF!"}}]
["IR.621.0605","Karmantyú szűkítő MŰA, 2\"x6/4\"",446,{"$f":"IF(#REF!=A892, \"Egyezik\", \"Nem egyezik\")","v":{"$error":"#REF!"}}]
["I62175G","Karmantyú szűkítő MŰA, 2.5\"x2\"",1296,{"$f":"IF(#REF!=A893, \"Egyezik\", \"Nem egyezik\")","v":{"$error":"#REF!"}}]
["IR.621.0201","Karmantyú szűkítő MŰA, 3/4\"x1/2\"",82,{"$f":"IF(#REF!=A894, \"Egyezik\", \"Nem egyezik\")","v":{"$error":"#REF!"}}]
["IR.621.0403","Karmantyú szűkítő MŰA, 5/4\"x1\"",228,{"$f":"IF(#REF!=A895, \"Egyezik\", \"Nem egyezik\")","v":{"$error":"#REF!"}}]
["IR.621.0504","Karmantyú szűkítő MŰA, 6/4\"x5/4\"",338,{"$f":"IF(#REF!=A896, \"Egyezik\", \"Nem egyezik\")","v":{"$error":"#REF!"}}]
["V-SZŰK1*3/4BB","Karmantyú szűkítő RÉZ, 1\"x3/4\"",468,{"$f":"IF(#REF!=A897, \"Egyezik\", \"Nem egyezik\")","v":{"$error":"#REF!"}}]
["PGPBLUE","Kék fúvóka, S-075 és PGP-hez",200,{"$f":"IF(#REF!=A898, \"Egyezik\", \"Nem egyezik\")","v":{"$error":"#REF!"}}]
["IR.631.03","Kereszt idom BM 1\"",1031,{"$f":"IF(#REF!=A899, \"Egyezik\", \"Nem egyezik\")","v":{"$error":"#REF!"}}]
["IR.631.02","Kereszt idom BM 3/4\"",540,{"$f":"IF(#REF!=A900, \"Egyezik\", \"Nem egyezik\")","v":{"$error":"#REF!"}}]
["VBA-17186CEP","Kerti csapszekrény, CEPEX, fedeles, 3/4\" B-K",6554,{"$f":"IF(#REF!=A901, \"Egyezik\", \"Nem egyezik\")","v":{"$error":"#REF!"}}]
["VBA-17186","Kerti csapszekrény, RAIN BIRD, fedeles, 3/4\" B-K",7258,{"$f":"IF(#REF!=A902, \"Egyezik\", \"Nem egyezik\")","v":{"$error":"#REF!"}}]
["210.3000100","Kerti csapszekrény, RAIN, fedeles, 3/4\"B-K",4228,{"$f":"IF(#REF!=A903, \"Egyezik\", \"Nem egyezik\")","v":{"$error":"#REF!"}}]
["210.3000900","Kerti csapszekrény, RAIN, Pótcsap",1733,{"$f":"IF(#REF!=A904, \"Egyezik\", \"Nem egyezik\")","v":{"$error":"#REF!"}}]
["125.3000120","Kerti csapszekrény, RAIN, Pótfedél",1495,{"$f":"IF(#REF!=A905, \"Egyezik\", \"Nem egyezik\")","v":{"$error":"#REF!"}}]
["KCS1/2","Kerti golyóscsap KM 1/2\" tömlővéges",935,{"$f":"IF(#REF!=A906, \"Egyezik\", \"Nem egyezik\")","v":{"$error":"#REF!"}}]
["KCS3/4","Kerti golyóscsap KM 3/4\" tömlővéges",1320,{"$f":"IF(#REF!=A907, \"Egyezik\", \"Nem egyezik\")","v":{"$error":"#REF!"}}]
["RKCS1/2","Kerti golyóscsap RÉZ KM 1/2\" tömlővéges",2438,{"$f":"IF(#REF!=A908, \"Egyezik\", \"Nem egyezik\")","v":{"$error":"#REF!"}}]
["RKCS3/4","Kerti golyóscsap RÉZ KM 3/4\" tömlővéges",3572,{"$f":"IF(#REF!=A909, \"Egyezik\", \"Nem egyezik\")","v":{"$error":"#REF!"}}]
["AR-00472","Kerti golyóscsap, ARCO, 2 x KM 1/2\" tömlővéges",2913,{"$f":"IF(#REF!=A910, \"Egyezik\", \"Nem egyezik\")","v":{"$error":"#REF!"}}]
["325512NI","Kerti golyóscsap, ARNO KM 1/2\" tömlővéges",2243,{"$f":"IF(#REF!=A911, \"Egyezik\", \"Nem egyezik\")","v":{"$error":"#REF!"}}]
["325534NI","Kerti golyóscsap, ARNO KM 3/4\" tömlővéges",2880,{"$f":"IF(#REF!=A912, \"Egyezik\", \"Nem egyezik\")","v":{"$error":"#REF!"}}]
["28600402","Kerti golyóscsap, NILO KM 1/2\" tömlővéges",1110,{"$f":"IF(#REF!=A913, \"Egyezik\", \"Nem egyezik\")","v":{"$error":"#REF!"}}]
["28600502","Kerti golyóscsap, NILO KM 3/4\" tömlővéges",1575,{"$f":"IF(#REF!=A914, \"Egyezik\", \"Nem egyezik\")","v":{"$error":"#REF!"}}]
["KCS FA 3/4","Kerticsap FA borítással, KM 3/4\"",19500,{"$f":"IF(#REF!=A915, \"Egyezik\", \"Nem egyezik\")","v":{"$error":"#REF!"}}]
["KCS FÉM 3/4","Kerticsap FÉM borítással, KM 3/4\"",23543,{"$f":"IF(#REF!=A916, \"Egyezik\", \"Nem egyezik\")","v":{"$error":"#REF!"}}]
["KCS KRÓM 3/4","Kerticsap KRÓM borítással, KM 3/4\"",31500,{"$f":"IF(#REF!=A917, \"Egyezik\", \"Nem egyezik\")","v":{"$error":"#REF!"}}]
["70.1500.05V","Kerticsap SZÁR, menetes, KM 3/4\", 1.5 m",2285,{"$f":"IF(#REF!=A918, \"Egyezik\", \"Nem egyezik\")","v":{"$error":"#REF!"}}]
["KGPVC 110/5","KG PVC 110 mm, 5 m szálban",3000,{"$f":"IF(#REF!=A919, \"Egyezik\", \"Nem egyezik\")","v":{"$error":"#REF!"}}]
["OR37330","Kiemelő fém, állítható 40-70cm, KM 1/2\", 12A fúvókával",2913,{"$f":"IF(#REF!=A920, \"Egyezik\", \"Nem egyezik\")","v":{"$error":"#REF!"}}]
["O37332","Kiemelő fém, állítható 70-120cm, KM 1/2\", 12A fúvókával",4370,{"$f":"IF(#REF!=A921, \"Egyezik\", \"Nem egyezik\")","v":{"$error":"#REF!"}}]
[13060046,"Kiemelő műanyag, 48cm, 3/4\"x3/4\" KM",440,{"$f":"IF(#REF!=A922, \"Egyezik\", \"Nem egyezik\")","v":{"$error":"#REF!"}}]
["R1800EXT","Kiemelő RAIN BIRD 1800EXT, 15cm",1367,{"$f":"IF(#REF!=A923, \"Egyezik\", \"Nem egyezik\")","v":{"$error":"#REF!"}}]
["35-2636","Kiemelő TORO 6X, 570Z szórófejhez, 15cm",857,{"$f":"IF(#REF!=A924, \"Egyezik\", \"Nem egyezik\")","v":{"$error":"#REF!"}}]
["570-SR-18","Kiemelő TORO SR-18, 1/2\" KM, 45cm",1451,{"$f":"IF(#REF!=A925, \"Egyezik\", \"Nem egyezik\")","v":{"$error":"#REF!"}}]
["35-2631","Kiemelő TORO SR-6, 1/2\" KM, 15cm",857,{"$f":"IF(#REF!=A926, \"Egyezik\", \"Nem egyezik\")","v":{"$error":"#REF!"}}]
["0796 2103 392","KM E PN10, NO, 25×3/4\" külső menetes egyenes idom",177,{"$f":"IF(#REF!=A927, \"Egyezik\", \"Nem egyezik\")","v":{"$error":"#REF!"}}]
["0796 2103 395","KM E PN10, NO, 32×3/4\" külső menetes egyenes idom",234,{"$f":"IF(#REF!=A928, \"Egyezik\", \"Nem egyezik\")","v":{"$error":"#REF!"}}]
[7962651124,"KM E PN16, NO, 25×1\" külső menetes egyenes idom",233,{"$f":"IF(#REF!=A929, \"Egyezik\", \"Nem egyezik\")","v":{"$error":"#REF!"}}]
[7962651122,"KM E PN16, NO, 25×3/4\" külső menetes egyenes idom",233,{"$f":"IF(#REF!=A930, \"Egyezik\", \"Nem egyezik\")","v":{"$error":"#REF!"}}]
[7962651128,"KM E PN16, NO, 32×1\" külső menetes egyenes idom",307,{"$f":"IF(#REF!=A931, \"Egyezik\", \"Nem egyezik\")","v":{"$error":"#REF!"}}]
["0796 2651 129","KM E PN16, NO, 32×1\" külső menetes egyenes idom, FÉM",1559,{"$f":"IF(#REF!=A932, \"Egyezik\", \"Nem egyezik\")","v":{"$error":"#REF!"}}]
[7962651127,"KM E PN16, NO, 32×3/4\" külső menetes egyenes idom",307,{"$f":"IF(#REF!=A933, \"Egyezik\", \"Nem egyezik\")","v":{"$error":"#REF!"}}]
[7962651130,"KM E PN16, NO, 32×5/4\" külső menetes egyenes idom",307,{"$f":"IF(#REF!=A934, \"Egyezik\", \"Nem egyezik\")","v":{"$error":"#REF!"}}]
[7962651132,"KM E PN16, NO, 40×1\" külső menetes egyenes idom",591,{"$f":"IF(#REF!=A935, \"Egyezik\", \"Nem egyezik\")","v":{"$error":"#REF!"}}]
["0796 2651 133","KM E PN16, NO, 40×5/4\" külső menetes egyenes idom",0,{"$f":"IF(#REF!=A936, \"Egyezik\", \"Nem egyezik\")","v":{"$error":"#REF!"}}]
["02010010","KM E PN16, PO, 20×1/2\" külső menetes egyenes idom (KPE)",241,{"$f":"IF(#REF!=A937, \"Egyezik\", \"Nem egyezik\")","v":{"$error":"#REF!"}}]
["05010040","KM E PN16, PO, 20×3/4\" külső menetes egyenes idom (KPE)",247,{"$f":"IF(#REF!=A938, \"Egyezik\", \"Nem egyezik\")","v":{"$error":"#REF!"}}]
["02010050","KM E PN16, PO, 25×1\" külső menetes egyenes idom",291,{"$f":"IF(#REF!=A939, \"Egyezik\", \"Nem egyezik\")","v":{"$error":"#REF!"}}]
["E 95 2501","KM E PN16, PO, 25×1/2\" külső menetes egyenes idom",291,{"$f":"IF(#REF!=A940, \"Egyezik\", \"Nem egyezik\")","v":{"$error":"#REF!"}}]
["E 95 2502","KM E PN16, PO, 25×3/4\" külső menetes egyenes idom",283,{"$f":"IF(#REF!=A941, \"Egyezik\", \"Nem egyezik\")","v":{"$error":"#REF!"}}]
["E 95 3203","KM E PN16, PO, 32×1\" külső menetes egyenes idom",354,{"$f":"IF(#REF!=A942, \"Egyezik\", \"Nem egyezik\")","v":{"$error":"#REF!"}}]
["E 95 3202","KM E PN16, PO, 32×3/4\" külső menetes egyenes idom",365,{"$f":"IF(#REF!=A943, \"Egyezik\", \"Nem egyezik\")","v":{"$error":"#REF!"}}]
["02010080","KM E PN16, PO, 32×5/4\" külső menetes egyenes idom",388,{"$f":"IF(#REF!=A944, \"Egyezik\", \"Nem egyezik\")","v":{"$error":"#REF!"}}]
["E 95 4003","KM E PN16, PO, 40×1\" külső menetes egyenes idom",540,{"$f":"IF(#REF!=A945, \"Egyezik\", \"Nem egyezik\")","v":{"$error":"#REF!"}}]
["E 95 4004","KM E PN16, PO, 40×5/4\" külső menetes egyenes idom",540,{"$f":"IF(#REF!=A946, \"Egyezik\", \"Nem egyezik\")","v":{"$error":"#REF!"}}]
["E 95 4005","KM E PN16, PO, 40×6/4\" külső menetes egyenes idom",540,{"$f":"IF(#REF!=A947, \"Egyezik\", \"Nem egyezik\")","v":{"$error":"#REF!"}}]
["E 95 5006","KM E PN16, PO, 50×2\" külső menetes egyenes idom",706,{"$f":"IF(#REF!=A948, \"Egyezik\", \"Nem egyezik\")","v":{"$error":"#REF!"}}]
["E 95 5004","KM E PN16, PO, 50×5/4\" külső menetes egyenes idom",706,{"$f":"IF(#REF!=A949, \"Egyezik\", \"Nem egyezik\")","v":{"$error":"#REF!"}}]
["E 95 5005","KM E PN16, PO, 50×6/4\" külső menetes egyenes idom",706,{"$f":"IF(#REF!=A950, \"Egyezik\", \"Nem egyezik\")","v":{"$error":"#REF!"}}]
["02010160","KM E PN16, PO, 63×2\" külső menetes egyenes idom",1001,{"$f":"IF(#REF!=A951, \"Egyezik\", \"Nem egyezik\")","v":{"$error":"#REF!"}}]
["KME63x2 1/2","KM E PN16, PO, 63×2.5\" külső menetes egyenes idom",1002,{"$f":"IF(#REF!=A952, \"Egyezik\", \"Nem egyezik\")","v":{"$error":"#REF!"}}]
["E 95 6305","KM E PN16, PO, 63×6/4\" külső menetes egyenes idom",1002,{"$f":"IF(#REF!=A953, \"Egyezik\", \"Nem egyezik\")","v":{"$error":"#REF!"}}]
["KME75x2","KM E PN16, PO, 75×2\" külső menetes egyenes idom",1997,{"$f":"IF(#REF!=A954, \"Egyezik\", \"Nem egyezik\")","v":{"$error":"#REF!"}}]
["E 95 9002","KM E PN16, PO, 90×2\" külső menetes egyenes idom",3150,{"$f":"IF(#REF!=A955, \"Egyezik\", \"Nem egyezik\")","v":{"$error":"#REF!"}}]
["E95 9003","KM E PN16, PO, 90×3\" külső menetes egyenes idom",3132,{"$f":"IF(#REF!=A956, \"Egyezik\", \"Nem egyezik\")","v":{"$error":"#REF!"}}]
["IP.602.1601","KM egyenes csatlakozó 16x1/2\"",36,{"$f":"IF(#REF!=A957, \"Egyezik\", \"Nem egyezik\")","v":{"$error":"#REF!"}}]
["IP.602.1602","KM egyenes csatlakozó 16x3/4\"",50,{"$f":"IF(#REF!=A958, \"Egyezik\", \"Nem egyezik\")","v":{"$error":"#REF!"}}]
["IP.602.2001","KM egyenes csatlakozó 20x1/2\"",50,{"$f":"IF(#REF!=A959, \"Egyezik\", \"Nem egyezik\")","v":{"$error":"#REF!"}}]
["IP.602.2002","KM egyenes csatlakozó 20x3/4\"",57,{"$f":"IF(#REF!=A960, \"Egyezik\", \"Nem egyezik\")","v":{"$error":"#REF!"}}]
["0796 2103 415","KM K PN10, NO, 25×1/2\" külső menetes könyök idom",236,{"$f":"IF(#REF!=A961, \"Egyezik\", \"Nem egyezik\")","v":{"$error":"#REF!"}}]
["0796 2103 413","KM K PN10, NO, 25×3/4\" külső menetes könyök idom",236,{"$f":"IF(#REF!=A962, \"Egyezik\", \"Nem egyezik\")","v":{"$error":"#REF!"}}]
["0796 2103 416","KM K PN10, NO, 32×1\" külső menetes könyök idom",295,{"$f":"IF(#REF!=A963, \"Egyezik\", \"Nem egyezik\")","v":{"$error":"#REF!"}}]
["0796 2103 417","KM K PN10, NO, 32×3/4\" külső menetes könyök idom",295,{"$f":"IF(#REF!=A964, \"Egyezik\", \"Nem egyezik\")","v":{"$error":"#REF!"}}]
[7962651144,"KM K PN16, NO, 25×1\" külső menetes könyök idom",319,{"$f":"IF(#REF!=A965, \"Egyezik\", \"Nem egyezik\")","v":{"$error":"#REF!"}}]
[7962651142,"KM K PN16, NO, 25×1/2\" külső menetes könyök idom",319,{"$f":"IF(#REF!=A966, \"Egyezik\", \"Nem egyezik\")","v":{"$error":"#REF!"}}]
[7962651143,"KM K PN16, NO, 25×3/4\" külső menetes könyök idom",319,{"$f":"IF(#REF!=A967, \"Egyezik\", \"Nem egyezik\")","v":{"$error":"#REF!"}}]
[7962651146,"KM K PN16, NO, 32×1\" külső menetes könyök idom",393,{"$f":"IF(#REF!=A968, \"Egyezik\", \"Nem egyezik\")","v":{"$error":"#REF!"}}]
[7962651145,"KM K PN16, NO, 32×3/4\" külső menetes könyök idom",393,{"$f":"IF(#REF!=A969, \"Egyezik\", \"Nem egyezik\")","v":{"$error":"#REF!"}}]
["E130 2503","KM K PN16, PO, 25×1\" külső menetes könyök idom",348,{"$f":"IF(#REF!=A970, \"Egyezik\", \"Nem egyezik\")","v":{"$error":"#REF!"}}]
["E130 2501","KM K PN16, PO, 25×1/2\" külső menetes könyök idom",348,{"$f":"IF(#REF!=A971, \"Egyezik\", \"Nem egyezik\")","v":{"$error":"#REF!"}}]
["E130 2502","KM K PN16, PO, 25×3/4\" külső menetes könyök idom",348,{"$f":"IF(#REF!=A972, \"Egyezik\", \"Nem egyezik\")","v":{"$error":"#REF!"}}]
["E130 3203","KM K PN16, PO, 32×1\" külső menetes könyök idom",452,{"$f":"IF(#REF!=A973, \"Egyezik\", \"Nem egyezik\")","v":{"$error":"#REF!"}}]
["E130 3202","KM K PN16, PO, 32×3/4\" külső menetes könyök idom",452,{"$f":"IF(#REF!=A974, \"Egyezik\", \"Nem egyezik\")","v":{"$error":"#REF!"}}]
["E130 4004","KM K PN16, PO, 40×5/4\" külső menetes könyök idom",578,{"$f":"IF(#REF!=A975, \"Egyezik\", \"Nem egyezik\")","v":{"$error":"#REF!"}}]
["E130 5005","KM K PN16, PO, 50×6/4\" külső menetes könyök idom",786,{"$f":"IF(#REF!=A976, \"Egyezik\", \"Nem egyezik\")","v":{"$error":"#REF!"}}]
["E130 6307","KM K PN16, PO, 63×2\" külső menetes könyök idom",1089,{"$f":"IF(#REF!=A977, \"Egyezik\", \"Nem egyezik\")","v":{"$error":"#REF!"}}]
["E130 6306","KM K PN16, PO, 63×6/4\" külső menetes könyök idom",1037,{"$f":"IF(#REF!=A978, \"Egyezik\", \"Nem egyezik\")","v":{"$error":"#REF!"}}]
["05060121","KM K PN16, PO, 75×2.5\" külső menetes könyök idom",1993,{"$f":"IF(#REF!=A979, \"Egyezik\", \"Nem egyezik\")","v":{"$error":"#REF!"}}]
["IP.641.1601","KM könyök 16×1/2\"",70,{"$f":"IF(#REF!=A980, \"Egyezik\", \"Nem egyezik\")","v":{"$error":"#REF!"}}]
["IP.641.1602","KM könyök 16×3/4\"",98,{"$f":"IF(#REF!=A981, \"Egyezik\", \"Nem egyezik\")","v":{"$error":"#REF!"}}]
["IP.641.2001","KM könyök 20x1/2\"",55,{"$f":"IF(#REF!=A982, \"Egyezik\", \"Nem egyezik\")","v":{"$error":"#REF!"}}]
["IP.641.2002","KM könyök 20x3/4\"",55,{"$f":"IF(#REF!=A983, \"Egyezik\", \"Nem egyezik\")","v":{"$error":"#REF!"}}]
["IP.608.160116","KM T elem 16x1/2\"x16",40,{"$f":"IF(#REF!=A984, \"Egyezik\", \"Nem egyezik\")","v":{"$error":"#REF!"}}]
["IP.608.160216","KM T elem 16x3/4x16",52,{"$f":"IF(#REF!=A985, \"Egyezik\", \"Nem egyezik\")","v":{"$error":"#REF!"}}]
["IP.608.200120","KM T elem 20x1/2\"x20",60,{"$f":"IF(#REF!=A986, \"Egyezik\", \"Nem egyezik\")","v":{"$error":"#REF!"}}]
["IP.608.200220","KM T elem 20x3/4\"x20",79,{"$f":"IF(#REF!=A987, \"Egyezik\", \"Nem egyezik\")","v":{"$error":"#REF!"}}]
[7962651157,"KM T PN16, NO, 25×3/4\"x25 külső menetes t-idom",614,{"$f":"IF(#REF!=A988, \"Egyezik\", \"Nem egyezik\")","v":{"$error":"#REF!"}}]
["0796 2651 160","KM T PN16, NO, 32×1\"x32 külső menetes t-idom",784,{"$f":"IF(#REF!=A989, \"Egyezik\", \"Nem egyezik\")","v":{"$error":"#REF!"}}]
["PAKMT25125","KM T PN16, PA, 25×1\"x25 külső menetes t-idom",614,{"$f":"IF(#REF!=A990, \"Egyezik\", \"Nem egyezik\")","v":{"$error":"#REF!"}}]
["E 90 250225","KM T PN16, PO, 25×3/4\"x25 külső menetes t-idom",614,{"$f":"IF(#REF!=A991, \"Egyezik\", \"Nem egyezik\")","v":{"$error":"#REF!"}}]
["E 90 320332","KM T PN16, PO, 32×1\"x32 külső menetes t-idom",788,{"$f":"IF(#REF!=A992, \"Egyezik\", \"Nem egyezik\")","v":{"$error":"#REF!"}}]
["E 90 400340","KM T PN16, PO, 40×1\"x40 külső menetes t-idom",1094,{"$f":"IF(#REF!=A993, \"Egyezik\", \"Nem egyezik\")","v":{"$error":"#REF!"}}]
["E 90 400440","KM T PN16, PO, 40×5/4\"x40 külső menetes t-idom",1100,{"$f":"IF(#REF!=A994, \"Egyezik\", \"Nem egyezik\")","v":{"$error":"#REF!"}}]
["E 90 500550","KM T PN16, PO, 50×6/4\"x50 külső menetes t-idom",1540,{"$f":"IF(#REF!=A995, \"Egyezik\", \"Nem egyezik\")","v":{"$error":"#REF!"}}]
["E 90 630663","KM T PN16, PO, 63×2\"x63 külső menetes t-idom",2985,{"$f":"IF(#REF!=A996, \"Egyezik\", \"Nem egyezik\")","v":{"$error":"#REF!"}}]
[16064,"Kompresszor csatlakozó 1/4\", bronz",1074,{"$f":"IF(#REF!=A997, \"Egyezik\", \"Nem egyezik\")","v":{"$error":"#REF!"}}]
["IP.640.1616","Könyök 16x16",38,{"$f":"IF(#REF!=A998, \"Egyezik\", \"Nem egyezik\")","v":{"$error":"#REF!"}}]
["IP.640.2020","Könyök 20x20",42,{"$f":"IF(#REF!=A999, \"Egyezik\", \"Nem egyezik\")","v":{"$error":"#REF!"}}]
["92-12V","Könyök 4\" KB Horganyzott",6537,{"$f":"IF(#REF!=A1000, \"Egyezik\", \"Nem egyezik\")","v":{"$error":"#REF!"}}]
["IR.626.0303","Könyök BM MŰA, 1\"",198,{"$f":"IF(#REF!=A1001, \"Egyezik\", \"Nem egyezik\")","v":{"$error":"#REF!"}}]
["IR.626.0101","Könyök BM MŰA, 1/2\"",133,{"$f":"IF(#REF!=A1002, \"Egyezik\", \"Nem egyezik\")","v":{"$error":"#REF!"}}]
["IR.626.0606","Könyök BM MŰA, 2\"",986,{"$f":"IF(#REF!=A1003, \"Egyezik\", \"Nem egyezik\")","v":{"$error":"#REF!"}}]
["IR.626.0202","Könyök BM MŰA, 3/4\"",166,{"$f":"IF(#REF!=A1004, \"Egyezik\", \"Nem egyezik\")","v":{"$error":"#REF!"}}]
["IR.626.0404","Könyök BM MŰA, 5/4\"",388,{"$f":"IF(#REF!=A1005, \"Egyezik\", \"Nem egyezik\")","v":{"$error":"#REF!"}}]
["IR.626.0505","Könyök BM MŰA, 6/4\"",648,{"$f":"IF(#REF!=A1006, \"Egyezik\", \"Nem egyezik\")","v":{"$error":"#REF!"}}]
["90BMCU1","Könyök BM RÉZ 1\"",1100,{"$f":"IF(#REF!=A1007, \"Egyezik\", \"Nem egyezik\")","v":{"$error":"#REF!"}}]
["90BMCU34","Könyök BM RÉZ, 3/4\"",718,{"$f":"IF(#REF!=A1008, \"Egyezik\", \"Nem egyezik\")","v":{"$error":"#REF!"}}]
["IR.627.0303","Könyök KB MŰA, 1\"",144,{"$f":"IF(#REF!=A1009, \"Egyezik\", \"Nem egyezik\")","v":{"$error":"#REF!"}}]
["IR.627.0202","Könyök KB MŰA, 3/4\"",120,{"$f":"IF(#REF!=A1010, \"Egyezik\", \"Nem egyezik\")","v":{"$error":"#REF!"}}]
["6120030","Könyök KB MŰA, 3/4\" x 1/2\"",228,{"$f":"IF(#REF!=A1011, \"Egyezik\", \"Nem egyezik\")","v":{"$error":"#REF!"}}]
["IR.627.0404","Könyök KB MŰA, 5/4\"",302,{"$f":"IF(#REF!=A1012, \"Egyezik\", \"Nem egyezik\")","v":{"$error":"#REF!"}}]
["90KBCU1","Könyök KB RÉZ 1\"",1286,{"$f":"IF(#REF!=A1013, \"Egyezik\", \"Nem egyezik\")","v":{"$error":"#REF!"}}]
["90KBCU34","Könyök KB RÉZ 3/4\"",829,{"$f":"IF(#REF!=A1014, \"Egyezik\", \"Nem egyezik\")","v":{"$error":"#REF!"}}]
["06100080","Könyök KM MŰA, 1\"",118,{"$f":"IF(#REF!=A1015, \"Egyezik\", \"Nem egyezik\")","v":{"$error":"#REF!"}}]
["6100110","Könyök KM MŰA, 2\"",910,{"$f":"IF(#REF!=A1016, \"Egyezik\", \"Nem egyezik\")","v":{"$error":"#REF!"}}]
[33100202,"Könyök KM MŰA, 3/4\"",126,{"$f":"IF(#REF!=A1017, \"Egyezik\", \"Nem egyezik\")","v":{"$error":"#REF!"}}]
[33090201,"Könyök KM MŰA, 3/4\"x1/2\"",125,{"$f":"IF(#REF!=A1018, \"Egyezik\", \"Nem egyezik\")","v":{"$error":"#REF!"}}]
["kotel08","Kötél 8mm",153,{"$f":"IF(#REF!=A1019, \"Egyezik\", \"Nem egyezik\")","v":{"$error":"#REF!"}}]
["280-6V","Közcsavar HORGANYZOTT, 1\"x1\"",204,{"$f":"IF(#REF!=A1020, \"Egyezik\", \"Nem egyezik\")","v":{"$error":"#REF!"}}]
["280-8V","Közcsavar HORGANYZOTT, 6/4\"x6/4\"",442,{"$f":"IF(#REF!=A1021, \"Egyezik\", \"Nem egyezik\")","v":{"$error":"#REF!"}}]
["IR.607.0303","Közcsavar MŰA, 1\"x1\"",56,{"$f":"IF(#REF!=A1022, \"Egyezik\", \"Nem egyezik\")","v":{"$error":"#REF!"}}]
["IR.607.0101","Közcsavar MŰA, 1/2\"x1/2\"",32,{"$f":"IF(#REF!=A1023, \"Egyezik\", \"Nem egyezik\")","v":{"$error":"#REF!"}}]
["IR.607.0606","Közcsavar MŰA, 2\"x2\"",258,{"$f":"IF(#REF!=A1024, \"Egyezik\", \"Nem egyezik\")","v":{"$error":"#REF!"}}]
[33010202,"Közcsavar MŰA, 3/4\"x3/4\"",49,{"$f":"IF(#REF!=A1025, \"Egyezik\", \"Nem egyezik\")","v":{"$error":"#REF!"}}]
["I607250","Közcsavar MŰA, 3/4\"x3/4\" IRRITEC",49,{"$f":"IF(#REF!=A1026, \"Egyezik\", \"Nem egyezik\")","v":{"$error":"#REF!"}}]
["IR.619.0404","Közcsavar MŰA, 5/4\"x5/4\"",94,{"$f":"IF(#REF!=A1027, \"Egyezik\", \"Nem egyezik\")","v":{"$error":"#REF!"}}]
["IR.607.0505","Közcsavar MŰA, 6/4\"x6/4\"",162,{"$f":"IF(#REF!=A1028, \"Egyezik\", \"Nem egyezik\")","v":{"$error":"#REF!"}}]
[266608,"Közcsavar RÉZ, 1\"x1\"",656,{"$f":"IF(#REF!=A1029, \"Egyezik\", \"Nem egyezik\")","v":{"$error":"#REF!"}}]
["VG-266592","Közcsavar RÉZ, 1/2\"",383,{"$f":"IF(#REF!=A1030, \"Egyezik\", \"Nem egyezik\")","v":{"$error":"#REF!"}}]
["K1/4Cu","Közcsavar RÉZ, 1/4\"",194,{"$f":"IF(#REF!=A1031, \"Egyezik\", \"Nem egyezik\")","v":{"$error":"#REF!"}}]
["KCS 2\" BRONZ","Közcsavar RÉZ, 2\"",1454,{"$f":"IF(#REF!=A1032, \"Egyezik\", \"Nem egyezik\")","v":{"$error":"#REF!"}}]
[266608,"Közcsavar RÉZ, 3/4\"",396,{"$f":"IF(#REF!=A1033, \"Egyezik\", \"Nem egyezik\")","v":{"$error":"#REF!"}}]
["245-36V","Közcsavar szűkítő HORGANYZOTT, 2\"x1\"",791,{"$f":"IF(#REF!=A1034, \"Egyezik\", \"Nem egyezik\")","v":{"$error":"#REF!"}}]
["IR.619.0301","Közcsavar szűkítő MŰA, 1\"x1/2\"",47,{"$f":"IF(#REF!=A1035, \"Egyezik\", \"Nem egyezik\")","v":{"$error":"#REF!"}}]
["IR.619.0302","Közcsavar szűkítő MŰA, 1\"x3/4\"",46,{"$f":"IF(#REF!=A1036, \"Egyezik\", \"Nem egyezik\")","v":{"$error":"#REF!"}}]
["IR.619.0605","Közcsavar szűkítő MŰA, 2\"x1\"",206,{"$f":"IF(#REF!=A1037, \"Egyezik\", \"Nem egyezik\")","v":{"$error":"#REF!"}}]
["IR.619.0605","Közcsavar szűkítő MŰA, 2\"x6/4\"",186,{"$f":"IF(#REF!=A1038, \"Egyezik\", \"Nem egyezik\")","v":{"$error":"#REF!"}}]
["I61975G","Közcsavar szűkítő MŰA, 2.5\"x2\"",834,{"$f":"IF(#REF!=A1039, \"Egyezik\", \"Nem egyezik\")","v":{"$error":"#REF!"}}]
[33020201,"Közcsavar szűkítő MŰA, 3/4\"x1/2\"",37,{"$f":"IF(#REF!=A1040, \"Egyezik\", \"Nem egyezik\")","v":{"$error":"#REF!"}}]
["I61925B","Közcsavar szűkítő MŰA, 3/4\"x1/2\" IRRITEC",34,{"$f":"IF(#REF!=A1041, \"Egyezik\", \"Nem egyezik\")","v":{"$error":"#REF!"}}]
["IR.619.0403","Közcsavar szűkítő MŰA, 5/4\"x1\"",80,{"$f":"IF(#REF!=A1042, \"Egyezik\", \"Nem egyezik\")","v":{"$error":"#REF!"}}]
["IR.619.0402","Közcsavar szűkítő MŰA, 5/4\"x3/4\"",106,{"$f":"IF(#REF!=A1043, \"Egyezik\", \"Nem egyezik\")","v":{"$error":"#REF!"}}]
["IR.619.0503","Közcsavar szűkítő MŰA, 6/4\"x1\"",110,{"$f":"IF(#REF!=A1044, \"Egyezik\", \"Nem egyezik\")","v":{"$error":"#REF!"}}]
["IR.619.0504","Közcsavar szűkítő MŰA, 6/4\"x5/4\"",168,{"$f":"IF(#REF!=A1045, \"Egyezik\", \"Nem egyezik\")","v":{"$error":"#REF!"}}]
["VG-266547","Közcsavar szűkítő, RÉZ 1\"x3/4\"",543,{"$f":"IF(#REF!=A1046, \"Egyezik\", \"Nem egyezik\")","v":{"$error":"#REF!"}}]
["K1/2x1/4Cu","Közcsavar szűkítő, RÉZ 1/2\"x1/4\"",405,{"$f":"IF(#REF!=A1047, \"Egyezik\", \"Nem egyezik\")","v":{"$error":"#REF!"}}]
["VG-SZŰK3/4*1/2KK","Közcsavar szűkítő, RÉZ 3/4\"x1/2\"",360,{"$f":"IF(#REF!=A1048, \"Egyezik\", \"Nem egyezik\")","v":{"$error":"#REF!"}}]
["3160/1003","Közcsavar TARTÁLYHOZ 1\"x1\"",255,{"$f":"IF(#REF!=A1049, \"Egyezik\", \"Nem egyezik\")","v":{"$error":"#REF!"}}]
["F38363","KPE bilincs, gumis, 23-26 mm",250,{"$f":"IF(#REF!=A1050, \"Egyezik\", \"Nem egyezik\")","v":{"$error":"#REF!"}}]
["F38365","KPE bilincs, gumis, 32-35 mm",266,{"$f":"IF(#REF!=A1051, \"Egyezik\", \"Nem egyezik\")","v":{"$error":"#REF!"}}]
["KPE 25P3","KPE cső, 25mm/ 3 bar, öntözőrendszerhez",0,{"$f":"IF(#REF!=A1052, \"Egyezik\", \"Nem egyezik\")","v":{"$error":"#REF!"}}]
["KPE 25P6","KPE cső, 25mm/ 6 bar, öntözőrendszerhez",103,{"$f":"IF(#REF!=A1053, \"Egyezik\", \"Nem egyezik\")","v":{"$error":"#REF!"}}]
["01010085","KPE cső, 25mm/10 bar, ivóvíz",140,{"$f":"IF(#REF!=A1054, \"Egyezik\", \"Nem egyezik\")","v":{"$error":"#REF!"}}]
["KPE 25P10","KPE cső, 25mm/10 bar, öntözőrendszerhez",133,{"$f":"IF(#REF!=A1055, \"Egyezik\", \"Nem egyezik\")","v":{"$error":"#REF!"}}]
["KPE 32P6","KPE cső, 32mm/ 6 bar, öntözőrendszerhez",156,{"$f":"IF(#REF!=A1056, \"Egyezik\", \"Nem egyezik\")","v":{"$error":"#REF!"}}]
["KPE 32P6 50m","KPE cső, 32mm/ 6 bar, öntözőrendszerhez, 50m tekercsben",7785,{"$f":"IF(#REF!=A1057, \"Egyezik\", \"Nem egyezik\")","v":{"$error":"#REF!"}}]
["KPE 32P8","KPE cső, 32mm/ 8 bar, öntözőrendszerhez",188,{"$f":"IF(#REF!=A1058, \"Egyezik\", \"Nem egyezik\")","v":{"$error":"#REF!"}}]
["01010145","KPE cső, 32mm/10 bar, ivóvíz",219,{"$f":"IF(#REF!=A1059, \"Egyezik\", \"Nem egyezik\")","v":{"$error":"#REF!"}}]
["KPE 32P10","KPE cső, 32mm/10 bar, öntözőrendszerhez",219,{"$f":"IF(#REF!=A1060, \"Egyezik\", \"Nem egyezik\")","v":{"$error":"#REF!"}}]
["KPE 32P10 50m","KPE cső, 32mm/10 bar, öntözőrendszerhez, 50 m tekercsben",10935,{"$f":"IF(#REF!=A1061, \"Egyezik\", \"Nem egyezik\")","v":{"$error":"#REF!"}}]
["KPE 40P6","KPE cső, 40mm/ 6 bar, öntözőrendszerhez",239,{"$f":"IF(#REF!=A1062, \"Egyezik\", \"Nem egyezik\")","v":{"$error":"#REF!"}}]
["KPE 40P10","KPE cső, 40mm/10bar, öntözőrendszerhez",333,{"$f":"IF(#REF!=A1063, \"Egyezik\", \"Nem egyezik\")","v":{"$error":"#REF!"}}]
["KPE 50 P10 PE100","KPE cső, 50mm/10bar, ivóvíz, PE100",512,{"$f":"IF(#REF!=A1064, \"Egyezik\", \"Nem egyezik\")","v":{"$error":"#REF!"}}]
["KPE 50P10","KPE cső, 50mm/10bar, öntözőrendszerhez",512,{"$f":"IF(#REF!=A1065, \"Egyezik\", \"Nem egyezik\")","v":{"$error":"#REF!"}}]
["KPE 50P6","KPE cső, 50mm/6bar, öntözőrendszerhez",485,{"$f":"IF(#REF!=A1066, \"Egyezik\", \"Nem egyezik\")","v":{"$error":"#REF!"}}]
["KPE 63P10","KPE cső, 63mm/10 bar, öntözőrendszerhez",806,{"$f":"IF(#REF!=A1067, \"Egyezik\", \"Nem egyezik\")","v":{"$error":"#REF!"}}]
["KPE 63P16","KPE cső, 63mm/16 bar, öntözőrendszerhez",1166,{"$f":"IF(#REF!=A1068, \"Egyezik\", \"Nem egyezik\")","v":{"$error":"#REF!"}}]
["KPE 75P10","KPE cső, 75mm/10 bar, öntözőrendszerhez",1149,{"$f":"IF(#REF!=A1069, \"Egyezik\", \"Nem egyezik\")","v":{"$error":"#REF!"}}]
["KPE 90P10","KPE cső, 90mm/10 bar, öntözőrendszerhez",1655,{"$f":"IF(#REF!=A1070, \"Egyezik\", \"Nem egyezik\")","v":{"$error":"#REF!"}}]
["KPE 90P16","KPE cső, 90mm/16 bar, öntözőrendszerhez",2390,{"$f":"IF(#REF!=A1071, \"Egyezik\", \"Nem egyezik\")","v":{"$error":"#REF!"}}]
["3073 1025","KPE cső, PN10, PE80 25 mm, ivóvíz",133,{"$f":"IF(#REF!=A1072, \"Egyezik\", \"Nem egyezik\")","v":{"$error":"#REF!"}}]
["3073 1032","KPE cső, PN10, PE80 32 mm, ivóvíz",219,{"$f":"IF(#REF!=A1073, \"Egyezik\", \"Nem egyezik\")","v":{"$error":"#REF!"}}]
["3073 1040","KPE cső, PN10, PE80 40 mm, ivóvíz",333,{"$f":"IF(#REF!=A1074, \"Egyezik\", \"Nem egyezik\")","v":{"$error":"#REF!"}}]
["3079 6032","KPE cső, PN6, PE80 32 mm, ivóvíz",156,{"$f":"IF(#REF!=A1075, \"Egyezik\", \"Nem egyezik\")","v":{"$error":"#REF!"}}]
["KPE-KULCS 16040","KPE fitting kulcs 16-40 mm",1400,{"$f":"IF(#REF!=A1076, \"Egyezik\", \"Nem egyezik\")","v":{"$error":"#REF!"}}]
["KPE-KULCS 32063","KPE fitting kulcs 40-63 mm",1780,{"$f":"IF(#REF!=A1077, \"Egyezik\", \"Nem egyezik\")","v":{"$error":"#REF!"}}]
["I81116C","Kúpos Egyenes KM 16x3/4\"",97,{"$f":"IF(#REF!=A1078, \"Egyezik\", \"Nem egyezik\")","v":{"$error":"#REF!"}}]
["I81116C","Kúpos Egyenes KM 20x3/4\"",130,{"$f":"IF(#REF!=A1079, \"Egyezik\", \"Nem egyezik\")","v":{"$error":"#REF!"}}]
["04510040","Kúpos Egyenes KM 20X3/4\" POLI",0,{"$f":"IF(#REF!=A1080, \"Egyezik\", \"Nem egyezik\")","v":{"$error":"#REF!"}}]
["I810160","Kúpos Egyenes toldó 16x16",130,{"$f":"IF(#REF!=A1081, \"Egyezik\", \"Nem egyezik\")","v":{"$error":"#REF!"}}]
["04530010","Kúpos Egyenes toldó 16x16 POLI",139,{"$f":"IF(#REF!=A1082, \"Egyezik\", \"Nem egyezik\")","v":{"$error":"#REF!"}}]
["I810200","Kúpos Egyenes toldó 20x20",178,{"$f":"IF(#REF!=A1083, \"Egyezik\", \"Nem egyezik\")","v":{"$error":"#REF!"}}]
["04530020","Kúpos Egyenes toldó 20x20 POLI",0,{"$f":"IF(#REF!=A1084, \"Egyezik\", \"Nem egyezik\")","v":{"$error":"#REF!"}}]
["I823160","Kúpos Könyök 16x16",178,{"$f":"IF(#REF!=A1085, \"Egyezik\", \"Nem egyezik\")","v":{"$error":"#REF!"}}]
["I823200","Kúpos Könyök 20x20",223,{"$f":"IF(#REF!=A1086, \"Egyezik\", \"Nem egyezik\")","v":{"$error":"#REF!"}}]
["04560030","Kúpos Könyök 20x20 POLI",0,{"$f":"IF(#REF!=A1087, \"Egyezik\", \"Nem egyezik\")","v":{"$error":"#REF!"}}]
["I82416B","Kúpos Könyök KM 16x1/2\"",137,{"$f":"IF(#REF!=A1088, \"Egyezik\", \"Nem egyezik\")","v":{"$error":"#REF!"}}]
["I82416C","Kúpos Könyök KM 16x3/4\"",137,{"$f":"IF(#REF!=A1089, \"Egyezik\", \"Nem egyezik\")","v":{"$error":"#REF!"}}]
["I82416B","Kúpos Könyök KM 20x1/2\"",185,{"$f":"IF(#REF!=A1090, \"Egyezik\", \"Nem egyezik\")","v":{"$error":"#REF!"}}]
["I82416C","Kúpos Könyök KM 20x3/4\"",185,{"$f":"IF(#REF!=A1091, \"Egyezik\", \"Nem egyezik\")","v":{"$error":"#REF!"}}]
["I81220A","Kúpos Szűkítő toldó 20x16",204,{"$f":"IF(#REF!=A1092, \"Egyezik\", \"Nem egyezik\")","v":{"$error":"#REF!"}}]
["I814160","Kúpos T-idom 16x16x16",267,{"$f":"IF(#REF!=A1093, \"Egyezik\", \"Nem egyezik\")","v":{"$error":"#REF!"}}]
["I814200","Kúpos T-idom 20x20x20",338,{"$f":"IF(#REF!=A1094, \"Egyezik\", \"Nem egyezik\")","v":{"$error":"#REF!"}}]
["I81616B","Kúpos T-idom KM 16x1/2\"x16",187,{"$f":"IF(#REF!=A1095, \"Egyezik\", \"Nem egyezik\")","v":{"$error":"#REF!"}}]
["I81616C","Kúpos T-idom KM 16x3/4\"x16",209,{"$f":"IF(#REF!=A1096, \"Egyezik\", \"Nem egyezik\")","v":{"$error":"#REF!"}}]
["I81620B","Kúpos T-idom KM 20x1/2\"x20",252,{"$f":"IF(#REF!=A1097, \"Egyezik\", \"Nem egyezik\")","v":{"$error":"#REF!"}}]
["I81620C","Kúpos T-idom KM 20x3/4\"x20",252,{"$f":"IF(#REF!=A1098, \"Egyezik\", \"Nem egyezik\")","v":{"$error":"#REF!"}}]
["I81420A","Kúpos T-idom szűkítő 20x16x20",295,{"$f":"IF(#REF!=A1099, \"Egyezik\", \"Nem egyezik\")","v":{"$error":"#REF!"}}]
["I813160","Kúpos Végdugó 16",101,{"$f":"IF(#REF!=A1100, \"Egyezik\", \"Nem egyezik\")","v":{"$error":"#REF!"}}]
["I813200","Kúpos Végdugó 20",118,{"$f":"IF(#REF!=A1101, \"Egyezik\", \"Nem egyezik\")","v":{"$error":"#REF!"}}]
["SKUTFEJ","KÚTFEJ 125-150mm, 1\" BB",7200,{"$f":"IF(#REF!=A1102, \"Egyezik\", \"Nem egyezik\")","v":{"$error":"#REF!"}}]
["F108590602","Lábszelep szűrőkosár 1\"",513,{"$f":"IF(#REF!=A1103, \"Egyezik\", \"Nem egyezik\")","v":{"$error":"#REF!"}}]
["F108590902","Lábszelep szűrőkosár 2\"",842,{"$f":"IF(#REF!=A1104, \"Egyezik\", \"Nem egyezik\")","v":{"$error":"#REF!"}}]
["F108590502","Lábszelep szűrőkosár 3/4\"",325,{"$f":"IF(#REF!=A1105, \"Egyezik\", \"Nem egyezik\")","v":{"$error":"#REF!"}}]
["F108590702","Lábszelep szűrőkosár 5/4\"",604,{"$f":"IF(#REF!=A1106, \"Egyezik\", \"Nem egyezik\")","v":{"$error":"#REF!"}}]
["F108590802","Lábszelep szűrőkosár 6/4\"",737,{"$f":"IF(#REF!=A1107, \"Egyezik\", \"Nem egyezik\")","v":{"$error":"#REF!"}}]
["MLuxL","Lapát MAGMA LUX",1880,{"$f":"IF(#REF!=A1108, \"Egyezik\", \"Nem egyezik\")","v":{"$error":"#REF!"}}]
["Trup-lapát","Lapát TRUPER",3990,{"$f":"IF(#REF!=A1109, \"Egyezik\", \"Nem egyezik\")","v":{"$error":"#REF!"}}]
["MLuxLÜ","Lapát Üvegszálas MAGMA LUX",2399,{"$f":"IF(#REF!=A1110, \"Egyezik\", \"Nem egyezik\")","v":{"$error":"#REF!"}}]
["H LCS-515","LCS-515 fúvóka Hunter, (SZ1.5m x H4.5m)",530,{"$f":"IF(#REF!=A1111, \"Egyezik\", \"Nem egyezik\")","v":{"$error":"#REF!"}}]
["AS312250","Légbeszívó szelep",6868,{"$f":"IF(#REF!=A1112, \"Egyezik\", \"Nem egyezik\")","v":{"$error":"#REF!"}}]
["08006410383","Légbeszívó szelep, KM 1/2\", Agrifim",323,{"$f":"IF(#REF!=A1113, \"Egyezik\", \"Nem egyezik\")","v":{"$error":"#REF!"}}]
["XBER12","Légbeszívó szelep, KM 1/2\", Rain Bird",1060,{"$f":"IF(#REF!=A1114, \"Egyezik\", \"Nem egyezik\")","v":{"$error":"#REF!"}}]
["S3-3/10/1.8","Lengő csatlakozó, KÖNYÖK, 1.8 m, 3 x 1 mm2, szürke",1083,{"$f":"IF(#REF!=A1115, \"Egyezik\", \"Nem egyezik\")","v":{"$error":"#REF!"}}]
["S3-3/15/1.8","Lengő csatlakozó, KÖNYÖK, 1.8 m, 3 x 1.5 mm2, szürke",1335,{"$f":"IF(#REF!=A1116, \"Egyezik\", \"Nem egyezik\")","v":{"$error":"#REF!"}}]
["L3XRm18/11025","LEO  3XRm 1.8/11-0.25 szivattyú",38216,{"$f":"IF(#REF!=A1117, \"Egyezik\", \"Nem egyezik\")","v":{"$error":"#REF!"}}]
["LXJW9046","LEO XJWm (90/46) szivattyú",0,{"$f":"IF(#REF!=A1118, \"Egyezik\", \"Nem egyezik\")","v":{"$error":"#REF!"}}]
["09080010","Leszúrótüske 0,8l/h, 3mm",36,{"$f":"IF(#REF!=A1119, \"Egyezik\", \"Nem egyezik\")","v":{"$error":"#REF!"}}]
["Loctite 55","Loctite 55 teflonos menettömítő, 160 m",3227,{"$f":"IF(#REF!=A1120, \"Egyezik\", \"Nem egyezik\")","v":{"$error":"#REF!"}}]
["1064527","Lombfogó háló, 10m x 6m",6670,{"$f":"IF(#REF!=A1121, \"Egyezik\", \"Nem egyezik\")","v":{"$error":"#REF!"}}]
["LS24","Lombseprű 24 fog",1785,{"$f":"IF(#REF!=A1122, \"Egyezik\", \"Nem egyezik\")","v":{"$error":"#REF!"}}]
["MLuxLS","Lombseprű 70cm, 30 fog",2677,{"$f":"IF(#REF!=A1123, \"Egyezik\", \"Nem egyezik\")","v":{"$error":"#REF!"}}]
["EP22","Lombseprű TRUPER EP-22",2145,{"$f":"IF(#REF!=A1124, \"Egyezik\", \"Nem egyezik\")","v":{"$error":"#REF!"}}]
["PVRA 075","Lopásgátló 3/4x3/4",900,{"$f":"IF(#REF!=A1125, \"Egyezik\", \"Nem egyezik\")","v":{"$error":"#REF!"}}]
["166-25707","LPE bilincs, 10 mm",192,{"$f":"IF(#REF!=A1126, \"Egyezik\", \"Nem egyezik\")","v":{"$error":"#REF!"}}]
["166-25701","LPE bilincs, 16 mm",237,{"$f":"IF(#REF!=A1127, \"Egyezik\", \"Nem egyezik\")","v":{"$error":"#REF!"}}]
["166-25702","LPE bilincs, 21 mm",287,{"$f":"IF(#REF!=A1128, \"Egyezik\", \"Nem egyezik\")","v":{"$error":"#REF!"}}]
[1030023,"LPE cső, 16mm/3,2 bar, öntözőrendszerhez",57,{"$f":"IF(#REF!=A1129, \"Egyezik\", \"Nem egyezik\")","v":{"$error":"#REF!"}}]
[4373,"LPE cső, 16mm/3,2 bar, öntözőrendszerhez, 100m tekercsben, BARNA",9897,{"$f":"IF(#REF!=A1130, \"Egyezik\", \"Nem egyezik\")","v":{"$error":"#REF!"}}]
[1030073,"LPE cső, 20mm/3,2bar, öntözőrendszerhez",86,{"$f":"IF(#REF!=A1131, \"Egyezik\", \"Nem egyezik\")","v":{"$error":"#REF!"}}]
["MAXIPAW","Maxi-Paw kalapácsos öntözőfej cser. fúvó",13100,{"$f":"IF(#REF!=A1132, \"Egyezik\", \"Nem egyezik\")","v":{"$error":"#REF!"}}]
["MPAW-TOOL","Maxi-Paw szórófejhez kiemelő szerszám",3290,{"$f":"IF(#REF!=A1133, \"Egyezik\", \"Nem egyezik\")","v":{"$error":"#REF!"}}]
[475075,"Menetátalakító ACME-BSP 5/4\"",2355,{"$f":"IF(#REF!=A1134, \"Egyezik\", \"Nem egyezik\")","v":{"$error":"#REF!"}}]
[475100,"Menetátalakító ACME-BSP 6/4\"",2970,{"$f":"IF(#REF!=A1135, \"Egyezik\", \"Nem egyezik\")","v":{"$error":"#REF!"}}]
["MECO-X2","Messner Tószivattyú Eco-X2 20000",129528,{"$f":"IF(#REF!=A1136, \"Egyezik\", \"Nem egyezik\")","v":{"$error":"#REF!"}}]
["BUB_360","Mikroöntöző Bubbler 360°",250,{"$f":"IF(#REF!=A1137, \"Egyezik\", \"Nem egyezik\")","v":{"$error":"#REF!"}}]
["BUB_360 MEN","Mikroöntöző Bubbler 360°, menetes, ASTA pálcához",130,{"$f":"IF(#REF!=A1138, \"Egyezik\", \"Nem egyezik\")","v":{"$error":"#REF!"}}]
["10510150","Mikroöntöző CSATLAKOZÓ, bajonett, belső, 7",0,{"$f":"IF(#REF!=A1139, \"Egyezik\", \"Nem egyezik\")","v":{"$error":"#REF!"}}]
["10510140","Mikroöntöző CSATLAKOZÓ, bajonett, külső, 7",0,{"$f":"IF(#REF!=A1140, \"Egyezik\", \"Nem egyezik\")","v":{"$error":"#REF!"}}]
["65/2600+65/2871","Mikroöntöző CSATLAKOZÓ, belső + külső szett",45,{"$f":"IF(#REF!=A1141, \"Egyezik\", \"Nem egyezik\")","v":{"$error":"#REF!"}}]
["10510050","Mikroöntöző CSATLAKOZÓ, külső, 7",0,{"$f":"IF(#REF!=A1142, \"Egyezik\", \"Nem egyezik\")","v":{"$error":"#REF!"}}]
["01400040","Mikroöntöző CSŐ, lágy, PE, 3×1.0 mm",0,{"$f":"IF(#REF!=A1143, \"Egyezik\", \"Nem egyezik\")","v":{"$error":"#REF!"}}]
["01400070","Mikroöntöző CSŐ, lágy, PE, 4×1,5 mm",89,{"$f":"IF(#REF!=A1144, \"Egyezik\", \"Nem egyezik\")","v":{"$error":"#REF!"}}]
["3080 0506","Mikroöntöző CSŐ, lágy, PVC, 4×1,5 mm",75,{"$f":"IF(#REF!=A1145, \"Egyezik\", \"Nem egyezik\")","v":{"$error":"#REF!"}}]
["10140010","Mikroöntöző FEJ, Delta, barna",0,{"$f":"IF(#REF!=A1146, \"Egyezik\", \"Nem egyezik\")","v":{"$error":"#REF!"}}]
["RondoF132K","Mikroöntöző Fúvóka Rondo Fehér fúvóka, fordított Kék rotor, 132l/h",426,{"$f":"IF(#REF!=A1147, \"Egyezik\", \"Nem egyezik\")","v":{"$error":"#REF!"}}]
[8006410183,"Mikroöntöző IDOM, könyök 4×4mm",46,{"$f":"IF(#REF!=A1148, \"Egyezik\", \"Nem egyezik\")","v":{"$error":"#REF!"}}]
[8006410289,"Mikroöntöző IDOM, T-idom 4×4×4mm",46,{"$f":"IF(#REF!=A1149, \"Egyezik\", \"Nem egyezik\")","v":{"$error":"#REF!"}}]
[8006410197,"Mikroöntöző IDOM, végdugó 4mm",20,{"$f":"IF(#REF!=A1150, \"Egyezik\", \"Nem egyezik\")","v":{"$error":"#REF!"}}]
["XPL1117","Mikroöntöző IDOM, végdugó, bordás, 4mm",44,{"$f":"IF(#REF!=A1151, \"Egyezik\", \"Nem egyezik\")","v":{"$error":"#REF!"}}]
["0800 6410 287","Mikroöntöző LEÁLLÁS, #1, 1/2\" BM, vég",373,{"$f":"IF(#REF!=A1152, \"Egyezik\", \"Nem egyezik\")","v":{"$error":"#REF!"}}]
["0800 6410 285","Mikroöntöző LEÁLLÁS, #2, 1/2\" BM, vég",373,{"$f":"IF(#REF!=A1153, \"Egyezik\", \"Nem egyezik\")","v":{"$error":"#REF!"}}]
["O 61010","Mikroöntöző LEÁLLÁS, DripMaster, #1; 1/2\" KB, átfolyós",749,{"$f":"IF(#REF!=A1154, \"Egyezik\", \"Nem egyezik\")","v":{"$error":"#REF!"}}]
["O 61005","Mikroöntöző LEÁLLÁS, DripMaster, #2; 1/2\" KM, vég",618,{"$f":"IF(#REF!=A1155, \"Egyezik\", \"Nem egyezik\")","v":{"$error":"#REF!"}}]
["O 61006","Mikroöntöző LEÁLLÁS, DripMaster, #4; 1/2\" BM, állítható",2939,{"$f":"IF(#REF!=A1156, \"Egyezik\", \"Nem egyezik\")","v":{"$error":"#REF!"}}]
["O 61003","Mikroöntöző LEÁLLÁS, DripMaster, #4; 1/2\" KB, átfolyós",749,{"$f":"IF(#REF!=A1157, \"Egyezik\", \"Nem egyezik\")","v":{"$error":"#REF!"}}]
["O 61004","Mikroöntöző LEÁLLÁS, DripMaster, #4; 3/4\" KM, szűrővel 1/2\" BM, vég",1752,{"$f":"IF(#REF!=A1158, \"Egyezik\", \"Nem egyezik\")","v":{"$error":"#REF!"}}]
["O 94400","Mikroöntöző LEÁLLÁS, DripMaster, #8; 1/2\" BM, állítható",3511,{"$f":"IF(#REF!=A1159, \"Egyezik\", \"Nem egyezik\")","v":{"$error":"#REF!"}}]
["0800 6410 180","Mikroöntöző LEÁLLÁS, PC, Drip Star, #6, 3.8 l/p, 1/2\" BM, vég",1369,{"$f":"IF(#REF!=A1160, \"Egyezik\", \"Nem egyezik\")","v":{"$error":"#REF!"}}]
["0800 6410 181","Mikroöntöző LEÁLLÁS, PC, Drip Star, #6, 7.6 l/p, 1/2\" BM, vég",1369,{"$f":"IF(#REF!=A1161, \"Egyezik\", \"Nem egyezik\")","v":{"$error":"#REF!"}}]
["M_DRIP","Mikroöntöző MidiDrip",250,{"$f":"IF(#REF!=A1162, \"Egyezik\", \"Nem egyezik\")","v":{"$error":"#REF!"}}]
["0800 6410 274","Mikroöntöző PÁLCA, 30 cm, oldalsó csatlakozással",395,{"$f":"IF(#REF!=A1163, \"Egyezik\", \"Nem egyezik\")","v":{"$error":"#REF!"}}]
["10520020","Mikroöntöző PÁLCA, 50 cm, 8 mm",0,{"$f":"IF(#REF!=A1164, \"Egyezik\", \"Nem egyezik\")","v":{"$error":"#REF!"}}]
["0800 6410 204","Mikroöntöző PÁLCA, Hydro-Pop (23.5cm kiem.), 1/2\" KM",873,{"$f":"IF(#REF!=A1165, \"Egyezik\", \"Nem egyezik\")","v":{"$error":"#REF!"}}]
["0800 6410 227","Mikroöntöző PÁLCA, Hydro-Pop védőburkolat",95,{"$f":"IF(#REF!=A1166, \"Egyezik\", \"Nem egyezik\")","v":{"$error":"#REF!"}}]
[30640037,"Mikroöntöző RÖGZÍTŐ, tüske, 3-7 mm, 15 cm",34,{"$f":"IF(#REF!=A1167, \"Egyezik\", \"Nem egyezik\")","v":{"$error":"#REF!"}}]
["SHR_180","Mikroöntöző Shrubbler 180°",250,{"$f":"IF(#REF!=A1168, \"Egyezik\", \"Nem egyezik\")","v":{"$error":"#REF!"}}]
["SHR_360","Mikroöntöző Shrubbler 360°",250,{"$f":"IF(#REF!=A1169, \"Egyezik\", \"Nem egyezik\")","v":{"$error":"#REF!"}}]
["SPECT_360","Mikroöntöző Spectrum 360°",250,{"$f":"IF(#REF!=A1170, \"Egyezik\", \"Nem egyezik\")","v":{"$error":"#REF!"}}]
["miniclick","Mini Click esőérzékelő",10718,{"$f":"IF(#REF!=A1171, \"Egyezik\", \"Nem egyezik\")","v":{"$error":"#REF!"}}]
["H MWS","Mini meteorológiai állomás, 2 érzékelős (eső, szél)",74690,{"$f":"IF(#REF!=A1172, \"Egyezik\", \"Nem egyezik\")","v":{"$error":"#REF!"}}]
["H MWS-FR","Mini meteorológiai állomás, 3 érzékelős (eső, szél, fagy)",87238,{"$f":"IF(#REF!=A1173, \"Egyezik\", \"Nem egyezik\")","v":{"$error":"#REF!"}}]
["MP-1000-360","MP Rotator 1000 360°, R=2.5-4.6m (OLIVAZÖLD)",2875,{"$f":"IF(#REF!=A1174, \"Egyezik\", \"Nem egyezik\")","v":{"$error":"#REF!"}}]
["MP-1000-210270","MP Rotator 1000 áll. fúvóka 210-270°, R=2.5-4.6m (VILÁGOSKÉK)",2875,{"$f":"IF(#REF!=A1175, \"Egyezik\", \"Nem egyezik\")","v":{"$error":"#REF!"}}]
["MP-1000-4590","MP Rotator 1000 áll. fúvóka 45-105°, R=2.5-4.6m CORNER (TÜRKIZKÉK)",2875,{"$f":"IF(#REF!=A1176, \"Egyezik\", \"Nem egyezik\")","v":{"$error":"#REF!"}}]
["MP-1000-90210","MP Rotator 1000 áll. fúvóka 90-210°, R=2.5-4.6m (BORDÓ)",2875,{"$f":"IF(#REF!=A1177, \"Egyezik\", \"Nem egyezik\")","v":{"$error":"#REF!"}}]
["MP-2000-360","MP Rotator 2000 360°, R=4.0-6.4m (PIROS)",2875,{"$f":"IF(#REF!=A1178, \"Egyezik\", \"Nem egyezik\")","v":{"$error":"#REF!"}}]
["MP-2000-210270","MP Rotator 2000 áll. fúvóka 210-270°, R=4.0-6.4m (ZÖLD)",2875,{"$f":"IF(#REF!=A1179, \"Egyezik\", \"Nem egyezik\")","v":{"$error":"#REF!"}}]
["MP-2000-90210","MP Rotator 2000 áll. fúvóka 90-210°, R=4.0-6.4m (FEKETE)",2875,{"$f":"IF(#REF!=A1180, \"Egyezik\", \"Nem egyezik\")","v":{"$error":"#REF!"}}]
["MP-3000-360","MP Rotator 3000 360°, R=6.7-9.1m (SZÜRKE)",2875,{"$f":"IF(#REF!=A1181, \"Egyezik\", \"Nem egyezik\")","v":{"$error":"#REF!"}}]
["MP-3000-210270","MP Rotator 3000 áll. fúvóka 210-270°, R=6.7-9.1m (CITROMSÁRGA)",2875,{"$f":"IF(#REF!=A1182, \"Egyezik\", \"Nem egyezik\")","v":{"$error":"#REF!"}}]
["MP-3000-90210","MP Rotator 3000 áll. fúvóka 90-210°, R=6.7-9.1m (KÉK)",2875,{"$f":"IF(#REF!=A1183, \"Egyezik\", \"Nem egyezik\")","v":{"$error":"#REF!"}}]
["MP-3500-90210","MP Rotator 3500 áll. fúvóka 90-210°, R=9.4-10.7m (VILÁGOSBARNA)",2875,{"$f":"IF(#REF!=A1184, \"Egyezik\", \"Nem egyezik\")","v":{"$error":"#REF!"}}]
["MP-800SR-360","MP Rotator 800SR 360°, R=1.8-3.5m (LIME ZÖLD)",2875,{"$f":"IF(#REF!=A1185, \"Egyezik\", \"Nem egyezik\")","v":{"$error":"#REF!"}}]
["MP-800SR-90210","MP Rotator 800SR áll. fúvóka 90-210°, R=1.8-3.5m (NARANCS)",2875,{"$f":"IF(#REF!=A1186, \"Egyezik\", \"Nem egyezik\")","v":{"$error":"#REF!"}}]
["MP-815SR-360","MP Rotator 815SR 360°, R=4.2-4.8m (OLÍVAZÖLD)",2875,{"$f":"IF(#REF!=A1187, \"Egyezik\", \"Nem egyezik\")","v":{"$error":"#REF!"}}]
["MP-815SR-90210","MP Rotator 815SR áll. fúvóka 90-210°, R=4.2-4.8m (GESZTENYEBARNA)",2875,{"$f":"IF(#REF!=A1188, \"Egyezik\", \"Nem egyezik\")","v":{"$error":"#REF!"}}]
["MP ADAPTER","MP Rotator ADAPTER",810,{"$f":"IF(#REF!=A1189, \"Egyezik\", \"Nem egyezik\")","v":{"$error":"#REF!"}}]
["MP kulcs","MP Rotator Kulcs",330,{"$f":"IF(#REF!=A1190, \"Egyezik\", \"Nem egyezik\")","v":{"$error":"#REF!"}}]
["MP kulcs-vég","MP Rotator Kulcs, VÉG",882,{"$f":"IF(#REF!=A1191, \"Egyezik\", \"Nem egyezik\")","v":{"$error":"#REF!"}}]
["MP GAUGE 185200","MP Rotator NYOMÁSMÉRŐ, 7 BAR-os órával",3106,{"$f":"IF(#REF!=A1192, \"Egyezik\", \"Nem egyezik\")","v":{"$error":"#REF!"}}]
["MP-LEFT","MP Rotator sávszóró, BAL, SZ1.5m x H4.6m (ELEFÁNTCSONT FEHÉR)",2875,{"$f":"IF(#REF!=A1193, \"Egyezik\", \"Nem egyezik\")","v":{"$error":"#REF!"}}]
["MP-RIGHT","MP Rotator sávszóró, JOBB, SZ1.5m x H4.6m (RÉZBARNA)",2875,{"$f":"IF(#REF!=A1194, \"Egyezik\", \"Nem egyezik\")","v":{"$error":"#REF!"}}]
["MP-SIDE","MP Rotator sávszóró, OLDAL, SZ1.5m x H9.1m (BARNA)",2875,{"$f":"IF(#REF!=A1195, \"Egyezik\", \"Nem egyezik\")","v":{"$error":"#REF!"}}]
["MP szűrő","MP Rotator SZŰRŐ",80,{"$f":"IF(#REF!=A1196, \"Egyezik\", \"Nem egyezik\")","v":{"$error":"#REF!"}}]
["5000MPR-35","MPR 5000-es szf. fúvókakészlet 10,7 m, BÉZS",300,{"$f":"IF(#REF!=A1197, \"Egyezik\", \"Nem egyezik\")","v":{"$error":"#REF!"}}]
["5000MPR-25","MPR 5000-es szf. fúvókakészlet 7,6 m, PIROS",300,{"$f":"IF(#REF!=A1198, \"Egyezik\", \"Nem egyezik\")","v":{"$error":"#REF!"}}]
["5000MPR-30","MPR 5000-es szf. fúvókakészlet 9,1 m, ZÖLD",300,{"$f":"IF(#REF!=A1199, \"Egyezik\", \"Nem egyezik\")","v":{"$error":"#REF!"}}]
["MSBN-10F","MSBN-10F sugaras bokoröntöző fúv. Hunter",770,{"$f":"IF(#REF!=A1200, \"Egyezik\", \"Nem egyezik\")","v":{"$error":"#REF!"}}]
["MSBN-10H","MSBN-10H sugaras bokoröntöző fúv. Hunter",770,{"$f":"IF(#REF!=A1201, \"Egyezik\", \"Nem egyezik\")","v":{"$error":"#REF!"}}]
["MSBN-20F","MSBN-20F sugaras bokoröntöző fúv. Hunter",770,{"$f":"IF(#REF!=A1202, \"Egyezik\", \"Nem egyezik\")","v":{"$error":"#REF!"}}]
["MSBN-50H","MSBN-50H sugaras bokoröntöző fúv. Hunter",770,{"$f":"IF(#REF!=A1203, \"Egyezik\", \"Nem egyezik\")","v":{"$error":"#REF!"}}]
["H MN_360","MS-F Mikroszóró fúvóka 360°",1163,{"$f":"IF(#REF!=A1204, \"Egyezik\", \"Nem egyezik\")","v":{"$error":"#REF!"}}]
["H MN_180","MS-H Mikroszóró fúvóka 180°",1163,{"$f":"IF(#REF!=A1205, \"Egyezik\", \"Nem egyezik\")","v":{"$error":"#REF!"}}]
["H MN_90","MS-Q Mikroszóró fúvóka 90°",1163,{"$f":"IF(#REF!=A1206, \"Egyezik\", \"Nem egyezik\")","v":{"$error":"#REF!"}}]
["8433","MTD VG 40 BM motoros gyepszellőztető",50599,{"$f":"IF(#REF!=A1207, \"Egyezik\", \"Nem egyezik\")","v":{"$error":"#REF!"}}]
["MTT-100 RB","MTT-100 Rain Bird T elágazás szelepekhez",761,{"$f":"IF(#REF!=A1208, \"Egyezik\", \"Nem egyezik\")","v":{"$error":"#REF!"}}]
["AX-100","Multiméter, digitális, Axiomet",4409,{"$f":"IF(#REF!=A1209, \"Egyezik\", \"Nem egyezik\")","v":{"$error":"#REF!"}}]
["NB-45-2","Műanyag doboz, ütésálló, 26.3 x 20.6 x 15.6 cm, narancs",13028,{"$f":"IF(#REF!=A1210, \"Egyezik\", \"Nem egyezik\")","v":{"$error":"#REF!"}}]
["53897","Műfű Ragasztó 15kg",27103,{"$f":"IF(#REF!=A1211, \"Egyezik\", \"Nem egyezik\")","v":{"$error":"#REF!"}}]
["53896","Műfű Ragasztó szalag 100m",27405,{"$f":"IF(#REF!=A1212, \"Egyezik\", \"Nem egyezik\")","v":{"$error":"#REF!"}}]
["56572","Műfű Superior Green 20mm, 2m^2 (60m^2/tekercs)",10992,{"$f":"IF(#REF!=A1213, \"Egyezik\", \"Nem egyezik\")","v":{"$error":"#REF!"}}]
["56571","Műfű Superior Green 25mm, 2m^2 (50m^2/tekercs)",14500,{"$f":"IF(#REF!=A1214, \"Egyezik\", \"Nem egyezik\")","v":{"$error":"#REF!"}}]
["53830","Műfű Superior Green 32mm, 2m^2 (50m^2/tekercs)",16994,{"$f":"IF(#REF!=A1215, \"Egyezik\", \"Nem egyezik\")","v":{"$error":"#REF!"}}]
["N63XA04","NELSON 63XA szórófej HÁZ, 10 cm",822,{"$f":"IF(#REF!=A1216, \"Egyezik\", \"Nem egyezik\")","v":{"$error":"#REF!"}}]
["N77356","NELSON Állítókulcs N5500 szórófejhez",300,{"$f":"IF(#REF!=A1217, \"Egyezik\", \"Nem egyezik\")","v":{"$error":"#REF!"}}]
["N77577","NELSON Fúvóka készlet N5500 szórófejhez",488,{"$f":"IF(#REF!=A1218, \"Egyezik\", \"Nem egyezik\")","v":{"$error":"#REF!"}}]
["NODE100VALVEB","NODE-100 elemes vezérlő + PGV 100 BB, 1 zóna, 9V",35505,{"$f":"IF(#REF!=A1219, \"Egyezik\", \"Nem egyezik\")","v":{"$error":"#REF!"}}]
["NODE100","NODE-100 elemes vezérlő, 1 zóna, 9V",24948,{"$f":"IF(#REF!=A1220, \"Egyezik\", \"Nem egyezik\")","v":{"$error":"#REF!"}}]
["NODE100LS","NODE-100-LS elemes vezérlő, 1 zóna, 9V, Solenoid nélkül",25584,{"$f":"IF(#REF!=A1221, \"Egyezik\", \"Nem egyezik\")","v":{"$error":"#REF!"}}]
["NODE200","NODE-200 elemes vezérlő, 2 zóna, 9V",42320,{"$f":"IF(#REF!=A1222, \"Egyezik\", \"Nem egyezik\")","v":{"$error":"#REF!"}}]
["NODE400","NODE-400 elemes vezérlő, 4 zóna, 9V",49916,{"$f":"IF(#REF!=A1223, \"Egyezik\", \"Nem egyezik\")","v":{"$error":"#REF!"}}]
["NODE600","NODE-600 elemes vezérlő, 6 zóna, 9V",58313,{"$f":"IF(#REF!=A1224, \"Egyezik\", \"Nem egyezik\")","v":{"$error":"#REF!"}}]
["00870670","Nyomáscsökkentő Honeywell 1\" D06F, PN16, 1.5-6bar",24370,{"$f":"IF(#REF!=A1225, \"Egyezik\", \"Nem egyezik\")","v":{"$error":"#REF!"}}]
["00870670","Nyomáscsökkentő RinoxDue 1\" 7 bar",21252,{"$f":"IF(#REF!=A1226, \"Egyezik\", \"Nem egyezik\")","v":{"$error":"#REF!"}}]
["PSI-M15","Nyomáscsökkentő, Rain Bird, 1.05 bar, M-15 , BB 3/4\"",5150,{"$f":"IF(#REF!=A1227, \"Egyezik\", \"Nem egyezik\")","v":{"$error":"#REF!"}}]
["PSI-M20","Nyomáscsökkentő, Rain Bird, 1.40 bar, M-20, BB 3/4\"",5150,{"$f":"IF(#REF!=A1228, \"Egyezik\", \"Nem egyezik\")","v":{"$error":"#REF!"}}]
["PSI-M25","Nyomáscsökkentő, Rain Bird, 1.75 bar, M-25, BB 3/4\"",5150,{"$f":"IF(#REF!=A1229, \"Egyezik\", \"Nem egyezik\")","v":{"$error":"#REF!"}}]
["PSI-M30","Nyomáscsökkentő, Rain Bird, 2.10 bar, M-30, BB 3/4\"",5150,{"$f":"IF(#REF!=A1230, \"Egyezik\", \"Nem egyezik\")","v":{"$error":"#REF!"}}]
["PSI-M40","Nyomáscsökkentő, Rain Bird, 2.80 bar, M-40, BB 3/4\"",5150,{"$f":"IF(#REF!=A1231, \"Egyezik\", \"Nem egyezik\")","v":{"$error":"#REF!"}}]
["PSI-M50","Nyomáscsökkentő, Rain Bird, 3.50 bar, M-50, BB 3/4\"",5150,{"$f":"IF(#REF!=A1232, \"Egyezik\", \"Nem egyezik\")","v":{"$error":"#REF!"}}]
["0800 6410 222","Nyomáscsökkentő, Senninger, 1.40 bar, M-20, 0.4-30 l/p, BB 3/4\"",5150,{"$f":"IF(#REF!=A1233, \"Egyezik\", \"Nem egyezik\")","v":{"$error":"#REF!"}}]
["0800 6410 223","Nyomáscsökkentő, Senninger, 2.10 bar, M-30, 0.4-30 l/p, BB 3/4\"",5150,{"$f":"IF(#REF!=A1234, \"Egyezik\", \"Nem egyezik\")","v":{"$error":"#REF!"}}]
["PM5","Nyomáskapcsoló PM 1-5 bar",4053,{"$f":"IF(#REF!=A1235, \"Egyezik\", \"Nem egyezik\")","v":{"$error":"#REF!"}}]
["PM2-12","Nyomáskapcsoló PM 2-12 bar",5690,{"$f":"IF(#REF!=A1236, \"Egyezik\", \"Nem egyezik\")","v":{"$error":"#REF!"}}]
["PKIT_FUV","Nyomáskarakterisztika-mérő fúvókakészlet",17000,{"$f":"IF(#REF!=A1237, \"Egyezik\", \"Nem egyezik\")","v":{"$error":"#REF!"}}]
["PKIT 2","Nyomáskarakterisztika-mérő készlet",32000,{"$f":"IF(#REF!=A1238, \"Egyezik\", \"Nem egyezik\")","v":{"$error":"#REF!"}}]
["PKIT 1","Nyomáskarakterisztika-mérő készlet műanyag dobozban",43270,{"$f":"IF(#REF!=A1239, \"Egyezik\", \"Nem egyezik\")","v":{"$error":"#REF!"}}]
["PKIT Ö","Nyomáskarakterisztika-mérő készlet ÖSSZEÁLLÍTÁS",0,{"$f":"IF(#REF!=A1240, \"Egyezik\", \"Nem egyezik\")","v":{"$error":"#REF!"}}]
["14070020","Nyomásmérő óra, ÁLLÓ, 10 bar, glicerines, 1/4\" KM",4730,{"$f":"IF(#REF!=A1241, \"Egyezik\", \"Nem egyezik\")","v":{"$error":"#REF!"}}]
["M_01","Nyomásmérő óra, ÁLLÓ, 10 bar, száraz, 1/4\" KM",1588,{"$f":"IF(#REF!=A1242, \"Egyezik\", \"Nem egyezik\")","v":{"$error":"#REF!"}}]
["14070020","Nyomásmérő óra, ÁLLÓ, 16 bar, glicerines, 1/4\" KM",0,{"$f":"IF(#REF!=A1243, \"Egyezik\", \"Nem egyezik\")","v":{"$error":"#REF!"}}]
["413106","Nyomásmérő óra, ÁLLÓ, 6 bar, száraz, 1/4\" KM",1584,{"$f":"IF(#REF!=A1244, \"Egyezik\", \"Nem egyezik\")","v":{"$error":"#REF!"}}]
["MA10","Nyomásmérő óra, HÁTSÓ, 10 bar, száraz, 1/4\" KM",1321,{"$f":"IF(#REF!=A1245, \"Egyezik\", \"Nem egyezik\")","v":{"$error":"#REF!"}}]
["09070020","Nyomásszab. gombához elosztó",68,{"$f":"IF(#REF!=A1246, \"Egyezik\", \"Nem egyezik\")","v":{"$error":"#REF!"}}]
["51029011","Oleomac 2000 elektromos láncfűrész",23544,{"$f":"IF(#REF!=A1247, \"Egyezik\", \"Nem egyezik\")","v":{"$error":"#REF!"}}]
["61119006E1","Oleomac 755 Master bozótvágó",135355,{"$f":"IF(#REF!=A1248, \"Egyezik\", \"Nem egyezik\")","v":{"$error":"#REF!"}}]
["50079001E1","Oleomac 947 benzinmotoros láncfűrész",87323,{"$f":"IF(#REF!=A1249, \"Egyezik\", \"Nem egyezik\")","v":{"$error":"#REF!"}}]
["50089002E1","Oleomac 952 benzinmotoros láncfűrész",91260,{"$f":"IF(#REF!=A1250, \"Egyezik\", \"Nem egyezik\")","v":{"$error":"#REF!"}}]
["5001800E1A","Oleomac 956 3/8 benzinmotoros láncfűrész",113740,{"$f":"IF(#REF!=A1251, \"Egyezik\", \"Nem egyezik\")","v":{"$error":"#REF!"}}]
["61259002E1","Oleomac BC 420 T bozótvágó",102284,{"$f":"IF(#REF!=A1252, \"Egyezik\", \"Nem egyezik\")","v":{"$error":"#REF!"}}]
["66119050E1","Oleomac G 48 PK benzinmotoros fűnyírógép",50945,{"$f":"IF(#REF!=A1253, \"Egyezik\", \"Nem egyezik\")","v":{"$error":"#REF!"}}]
["66079037E1F","Oleomac G 53 PBX benzinmotoros fűnyírógép",94410,{"$f":"IF(#REF!=A1254, \"Egyezik\", \"Nem egyezik\")","v":{"$error":"#REF!"}}]
["12AI868F63","Oleomac G 55 VBX 4 in 1",82599,{"$f":"IF(#REF!=A1255, \"Egyezik\", \"Nem egyezik\")","v":{"$error":"#REF!"}}]
["50249011","Oleomac GS 350 benzinmotoros láncfűrész",39292,{"$f":"IF(#REF!=A1256, \"Egyezik\", \"Nem egyezik\")","v":{"$error":"#REF!"}}]
["50179021E2","Oleomac GS 410C benzinmotoros láncfűrész",48189,{"$f":"IF(#REF!=A1257, \"Egyezik\", \"Nem egyezik\")","v":{"$error":"#REF!"}}]
["50179111E2","Oleomac GS 410CX benzinmotoros láncfűrész",55040,{"$f":"IF(#REF!=A1258, \"Egyezik\", \"Nem egyezik\")","v":{"$error":"#REF!"}}]
["66030003A","Oleomac KÉSTARTÓ (G 48 PK)",3000,{"$f":"IF(#REF!=A1259, \"Egyezik\", \"Nem egyezik\")","v":{"$error":"#REF!"}}]
["MAX48TBXM","Oleomac MAX 48TBXM benzinmotoros fűnyíró",138504,{"$f":"IF(#REF!=A1260, \"Egyezik\", \"Nem egyezik\")","v":{"$error":"#REF!"}}]
["365280020E1","Oleomac MB 800 permetező",102283,{"$f":"IF(#REF!=A1261, \"Egyezik\", \"Nem egyezik\")","v":{"$error":"#REF!"}}]
["68609015","Oleomac MH190R Honda motoros kapálógép",167040,{"$f":"IF(#REF!=A1262, \"Egyezik\", \"Nem egyezik\")","v":{"$error":"#REF!"}}]
["3555001","Oleomac POLAR LUBE lánckenőolaj",1032,{"$f":"IF(#REF!=A1263, \"Egyezik\", \"Nem egyezik\")","v":{"$error":"#REF!"}}]
["001001407","Oleomac Prosint2 adagolható 2üt. olaj 1L",2633,{"$f":"IF(#REF!=A1264, \"Egyezik\", \"Nem egyezik\")","v":{"$error":"#REF!"}}]
["001001361","Oleomac Prosint2 kétütemű olaj 100ml",402,{"$f":"IF(#REF!=A1265, \"Egyezik\", \"Nem egyezik\")","v":{"$error":"#REF!"}}]
["61039119E2","Oleomac Sparta 250 T bozótvágó",51103,{"$f":"IF(#REF!=A1266, \"Egyezik\", \"Nem egyezik\")","v":{"$error":"#REF!"}}]
["61219071E2","Oleomac Sparta 380 T bozótvágó",78740,{"$f":"IF(#REF!=A1267, \"Egyezik\", \"Nem egyezik\")","v":{"$error":"#REF!"}}]
["001000677A","Oleomac Speciális szöghajtás zsír",1158,{"$f":"IF(#REF!=A1268, \"Egyezik\", \"Nem egyezik\")","v":{"$error":"#REF!"}}]
["4138428","Oleomac Zsírzó csavar Sparta 25,26, 750, 755",776,{"$f":"IF(#REF!=A1269, \"Egyezik\", \"Nem egyezik\")","v":{"$error":"#REF!"}}]
["SPB-025","Önmetsző csepegtető gomba SPB-025 R.B.",130,{"$f":"IF(#REF!=A1270, \"Egyezik\", \"Nem egyezik\")","v":{"$error":"#REF!"}}]
["1410500250","Párásító AQUA JET",7020,{"$f":"IF(#REF!=A1271, \"Egyezik\", \"Nem egyezik\")","v":{"$error":"#REF!"}}]
["BC5001K","Párásító Nagynyomású Készlet (szivattyú, 10 fúvóka, csövek, tart.)",0,{"$f":"IF(#REF!=A1272, \"Egyezik\", \"Nem egyezik\")","v":{"$error":"#REF!"}}]
["netcool4","Párásító NETAFIM Coolnet 4*8l/h",1196,{"$f":"IF(#REF!=A1273, \"Egyezik\", \"Nem egyezik\")","v":{"$error":"#REF!"}}]
["OR10106W","Párásító Orbit, acélbetétes réz fúvóka 1,5 l/h",738,{"$f":"IF(#REF!=A1274, \"Egyezik\", \"Nem egyezik\")","v":{"$error":"#REF!"}}]
["ORBIT BASIC","Párásító Orbit, ALAP készlet",8920,{"$f":"IF(#REF!=A1275, \"Egyezik\", \"Nem egyezik\")","v":{"$error":"#REF!"}}]
["BASIC BŐV","Párásító Orbit, BŐVÍTŐ készlet",7436,{"$f":"IF(#REF!=A1276, \"Egyezik\", \"Nem egyezik\")","v":{"$error":"#REF!"}}]
["Flex cobra","Párásító Orbit, FLEX COBRA",5318,{"$f":"IF(#REF!=A1277, \"Egyezik\", \"Nem egyezik\")","v":{"$error":"#REF!"}}]
["OR10056W","Párásító Orbit, fúvóka hosszabbító, acélbetétes réz fúvókával 1,5 l/h",1059,{"$f":"IF(#REF!=A1278, \"Egyezik\", \"Nem egyezik\")","v":{"$error":"#REF!"}}]
["OR 58101","Párásító Orbit, gyorscsatlakozó 3/4\" KM, Portable párásítóhoz",294,{"$f":"IF(#REF!=A1279, \"Egyezik\", \"Nem egyezik\")","v":{"$error":"#REF!"}}]
["OR 10115W","Párásító Orbit, légtelenítő szelep",1829,{"$f":"IF(#REF!=A1280, \"Egyezik\", \"Nem egyezik\")","v":{"$error":"#REF!"}}]
["OR 20066","Párásító Orbit, PORTABLE készlet, csíptetős",6422,{"$f":"IF(#REF!=A1281, \"Egyezik\", \"Nem egyezik\")","v":{"$error":"#REF!"}}]
["OR10107W","Párásító Orbit, rézdugó a fúvóka helyére",582,{"$f":"IF(#REF!=A1282, \"Egyezik\", \"Nem egyezik\")","v":{"$error":"#REF!"}}]
["OR 10127W","Párásító Orbit, réz-toldó, 3/8\" lágy csőhöz",1166,{"$f":"IF(#REF!=A1283, \"Egyezik\", \"Nem egyezik\")","v":{"$error":"#REF!"}}]
["filter cool","Párásító Orbit, vízlágyító és ioncserélő szűrő",5811,{"$f":"IF(#REF!=A1284, \"Egyezik\", \"Nem egyezik\")","v":{"$error":"#REF!"}}]
["H PCB-10","PCB 10 tőöntöző fúvóka Hunter",1635,{"$f":"IF(#REF!=A1285, \"Egyezik\", \"Nem egyezik\")","v":{"$error":"#REF!"}}]
["H PCB-20","PCB 20 tőöntöző fúvóka Hunter",1635,{"$f":"IF(#REF!=A1286, \"Egyezik\", \"Nem egyezik\")","v":{"$error":"#REF!"}}]
["H PCB-25","PCB 25 tőöntöző fúvóka Hunter",1635,{"$f":"IF(#REF!=A1287, \"Egyezik\", \"Nem egyezik\")","v":{"$error":"#REF!"}}]
["H PCB-50","PCB 50 tőöntöző fúvóka Hunter",1635,{"$f":"IF(#REF!=A1288, \"Egyezik\", \"Nem egyezik\")","v":{"$error":"#REF!"}}]
["H PCN-10","PCN 10 Tőöntöző fúvóka Hunter",780,{"$f":"IF(#REF!=A1289, \"Egyezik\", \"Nem egyezik\")","v":{"$error":"#REF!"}}]
["H PCN-20","PCN 20 Tőöntöző fúvóka Hunter",780,{"$f":"IF(#REF!=A1290, \"Egyezik\", \"Nem egyezik\")","v":{"$error":"#REF!"}}]
["H PCN-25","PCN 25 Tőöntöző fúvóka Hunter",780,{"$f":"IF(#REF!=A1291, \"Egyezik\", \"Nem egyezik\")","v":{"$error":"#REF!"}}]
["H PCN-50","PCN 50 Tőöntöző fúvóka Hunter",780,{"$f":"IF(#REF!=A1292, \"Egyezik\", \"Nem egyezik\")","v":{"$error":"#REF!"}}]
["PCZ10125","PCZ10125 Csepegtető bekötési szett",14007,{"$f":"IF(#REF!=A1293, \"Egyezik\", \"Nem egyezik\")","v":{"$error":"#REF!"}}]
["200-PEB","PEB 200 mágnesszelep 2\" BB 24V",62028,{"$f":"IF(#REF!=A1294, \"Egyezik\", \"Nem egyezik\")","v":{"$error":"#REF!"}}]
["452CT303CA","Pedrollo 2CP32/200C",198000,{"$f":"IF(#REF!=A1295, \"Egyezik\", \"Nem egyezik\")","v":{"$error":"#REF!"}}]
["49M41210LA1","Pedrollo 4BLOCKm 2/10 + 20 m kábel",85000,{"$f":"IF(#REF!=A1296, \"Egyezik\", \"Nem egyezik\")","v":{"$error":"#REF!"}}]
["49M41213LA1","Pedrollo 4BLOCKm 2/13 + 20 m kábel",90200,{"$f":"IF(#REF!=A1297, \"Egyezik\", \"Nem egyezik\")","v":{"$error":"#REF!"}}]
["49M41220LA1","Pedrollo 4BLOCKm 2/20 + 20 m kábel",117500,{"$f":"IF(#REF!=A1298, \"Egyezik\", \"Nem egyezik\")","v":{"$error":"#REF!"}}]
["49M41414LA1","Pedrollo 4BLOCKm 4/14 + 20 m kábel",108200,{"$f":"IF(#REF!=A1299, \"Egyezik\", \"Nem egyezik\")","v":{"$error":"#REF!"}}]
["49M41407LA1","Pedrollo 4BLOCKm 4/7 + 20 m kábel",85500,{"$f":"IF(#REF!=A1300, \"Egyezik\", \"Nem egyezik\")","v":{"$error":"#REF!"}}]
["49M41409LA1","Pedrollo 4BLOCKm 4/9 + 20 m kábel",90200,{"$f":"IF(#REF!=A1301, \"Egyezik\", \"Nem egyezik\")","v":{"$error":"#REF!"}}]
["49M41604LA1","Pedrollo 4BLOCKm 6/4 + 20 m kábel",87600,{"$f":"IF(#REF!=A1302, \"Egyezik\", \"Nem egyezik\")","v":{"$error":"#REF!"}}]
["49M41606LA1","Pedrollo 4BLOCKm 6/6 + 20 m kábel",94100,{"$f":"IF(#REF!=A1303, \"Egyezik\", \"Nem egyezik\")","v":{"$error":"#REF!"}}]
["49M41609LA1","Pedrollo 4BLOCKm 6/9 + 20 m kábel",116400,{"$f":"IF(#REF!=A1304, \"Egyezik\", \"Nem egyezik\")","v":{"$error":"#REF!"}}]
["49412N19WLA","Pedrollo 4SR12/19-PD",228800,{"$f":"IF(#REF!=A1305, \"Egyezik\", \"Nem egyezik\")","v":{"$error":"#REF!"}}]
["49412N25WLA","Pedrollo 4SR12/25-PD",302300,{"$f":"IF(#REF!=A1306, \"Egyezik\", \"Nem egyezik\")","v":{"$error":"#REF!"}}]
["49412N07WLA","Pedrollo 4SR12/7-PD",119300,{"$f":"IF(#REF!=A1307, \"Egyezik\", \"Nem egyezik\")","v":{"$error":"#REF!"}}]
["4940113WLA1","Pedrollo 4SR1m/13-PD",97900,{"$f":"IF(#REF!=A1308, \"Egyezik\", \"Nem egyezik\")","v":{"$error":"#REF!"}}]
["4940227WLA1","Pedrollo 4SR2m/27-PD",142300,{"$f":"IF(#REF!=A1309, \"Egyezik\", \"Nem egyezik\")","v":{"$error":"#REF!"}}]
["4940418WLA1","Pedrollo 4SR4m/18-PD",133500,{"$f":"IF(#REF!=A1310, \"Egyezik\", \"Nem egyezik\")","v":{"$error":"#REF!"}}]
["4940613WLA","Pedrollo 4SR6/13-PD",119600,{"$f":"IF(#REF!=A1311, \"Egyezik\", \"Nem egyezik\")","v":{"$error":"#REF!"}}]
["4940623WLA","Pedrollo 4SR6/23-PD",183800,{"$f":"IF(#REF!=A1312, \"Egyezik\", \"Nem egyezik\")","v":{"$error":"#REF!"}}]
["4940613WLA1","Pedrollo 4SR6m/13-PD",130900,{"$f":"IF(#REF!=A1313, \"Egyezik\", \"Nem egyezik\")","v":{"$error":"#REF!"}}]
["4940617WLA1","Pedrollo 4SR6m/17-PD",159300,{"$f":"IF(#REF!=A1314, \"Egyezik\", \"Nem egyezik\")","v":{"$error":"#REF!"}}]
["4940813WLA","Pedrollo 4SR8/13-PD",132300,{"$f":"IF(#REF!=A1315, \"Egyezik\", \"Nem egyezik\")","v":{"$error":"#REF!"}}]
["4940817WLA","Pedrollo 4SR8/17-PD",166100,{"$f":"IF(#REF!=A1316, \"Egyezik\", \"Nem egyezik\")","v":{"$error":"#REF!"}}]
["4940813WLA1","Pedrollo 4SR8m/13-PD",149800,{"$f":"IF(#REF!=A1317, \"Egyezik\", \"Nem egyezik\")","v":{"$error":"#REF!"}}]
["496B1809A","Pedrollo 6SR18/9-PD",462700,{"$f":"IF(#REF!=A1318, \"Egyezik\", \"Nem egyezik\")","v":{"$error":"#REF!"}}]
["44CI00A1","Pedrollo CPm100 szivattyú",31600,{"$f":"IF(#REF!=A1319, \"Egyezik\", \"Nem egyezik\")","v":{"$error":"#REF!"}}]
["44CI03A1","Pedrollo CPm130 szivattyú",32700,{"$f":"IF(#REF!=A1320, \"Egyezik\", \"Nem egyezik\")","v":{"$error":"#REF!"}}]
["44CI160A1","Pedrollo CPm150",44500,{"$f":"IF(#REF!=A1321, \"Egyezik\", \"Nem egyezik\")","v":{"$error":"#REF!"}}]
["44CI16A1","Pedrollo CPm158 szivattyú",44500,{"$f":"IF(#REF!=A1322, \"Egyezik\", \"Nem egyezik\")","v":{"$error":"#REF!"}}]
["4SKm100E","Pedrollo DAVIS",85500,{"$f":"IF(#REF!=A1323, \"Egyezik\", \"Nem egyezik\")","v":{"$error":"#REF!"}}]
["PDRYTEK15","Pedrollo DRYTEK-Tri/15 vezérlő doboz, 7.5-15kW",77000,{"$f":"IF(#REF!=A1324, \"Egyezik\", \"Nem egyezik\")","v":{"$error":"#REF!"}}]
["50066/415","Pedrollo Easy Small II.",11800,{"$f":"IF(#REF!=A1325, \"Egyezik\", \"Nem egyezik\")","v":{"$error":"#REF!"}}]
["50066/215","Pedrollo EasyPress II.",17400,{"$f":"IF(#REF!=A1326, \"Egyezik\", \"Nem egyezik\")","v":{"$error":"#REF!"}}]
["50066/215P","Pedrollo EasyPress II. + NYOMÁSMÉRŐ ÓRA",18900,{"$f":"IF(#REF!=A1327, \"Egyezik\", \"Nem egyezik\")","v":{"$error":"#REF!"}}]
["EasyPress2.2","Pedrollo EasyPress II. 2.2 BAR",15900,{"$f":"IF(#REF!=A1328, \"Egyezik\", \"Nem egyezik\")","v":{"$error":"#REF!"}}]
["EasyPress","Pedrollo EasyPress II. B panel",8500,{"$f":"IF(#REF!=A1329, \"Egyezik\", \"Nem egyezik\")","v":{"$error":"#REF!"}}]
["50068/201","Pedrollo EasyPro",38000,{"$f":"IF(#REF!=A1330, \"Egyezik\", \"Nem egyezik\")","v":{"$error":"#REF!"}}]
["50013/10","Pedrollo Flexibilis cső 1\" TFG-600",3380,{"$f":"IF(#REF!=A1331, \"Egyezik\", \"Nem egyezik\")","v":{"$error":"#REF!"}}]
["46JSRM21A1","Pedrollo JCRm 2A szivattyú",56100,{"$f":"IF(#REF!=A1332, \"Egyezik\", \"Nem egyezik\")","v":{"$error":"#REF!"}}]
["46JSNP1AA1","Pedrollo JSWm 1AX szivattyú",31400,{"$f":"IF(#REF!=A1333, \"Egyezik\", \"Nem egyezik\")","v":{"$error":"#REF!"}}]
["46JSNP1CA1","Pedrollo JSWm 1CX szivattyú",30900,{"$f":"IF(#REF!=A1334, \"Egyezik\", \"Nem egyezik\")","v":{"$error":"#REF!"}}]
["46JSN7A15A1","Pedrollo JSWm 2A szivattyú",44300,{"$f":"IF(#REF!=A1335, \"Egyezik\", \"Nem egyezik\")","v":{"$error":"#REF!"}}]
["46JSN7AH15A1","Pedrollo JSWm 2AH szivattyú",53200,{"$f":"IF(#REF!=A1336, \"Egyezik\", \"Nem egyezik\")","v":{"$error":"#REF!"}}]
["46JSNP7A15A1","Pedrollo JSWm 2AX szivattyú",39100,{"$f":"IF(#REF!=A1337, \"Egyezik\", \"Nem egyezik\")","v":{"$error":"#REF!"}}]
["46JSNP7A12A1","Pedrollo JSWm 2BX szivattyú",44500,{"$f":"IF(#REF!=A1338, \"Egyezik\", \"Nem egyezik\")","v":{"$error":"#REF!"}}]
["46JSNP7A10A1","Pedrollo JSWm 2CX szivattyú",35600,{"$f":"IF(#REF!=A1339, \"Egyezik\", \"Nem egyezik\")","v":{"$error":"#REF!"}}]
["46JS8AL15A1","Pedrollo JSWm 3AL szivattyú",98400,{"$f":"IF(#REF!=A1340, \"Egyezik\", \"Nem egyezik\")","v":{"$error":"#REF!"}}]
["46JS8AH10A1","Pedrollo JSWm 3BH szivattyú",90400,{"$f":"IF(#REF!=A1341, \"Egyezik\", \"Nem egyezik\")","v":{"$error":"#REF!"}}]
["46JS8AL10A1","Pedrollo JSWm 3BL szivattyú",86100,{"$f":"IF(#REF!=A1342, \"Egyezik\", \"Nem egyezik\")","v":{"$error":"#REF!"}}]
["46JS8AM10A1","Pedrollo JSWm 3BM szivattyú",86100,{"$f":"IF(#REF!=A1343, \"Egyezik\", \"Nem egyezik\")","v":{"$error":"#REF!"}}]
["JSWm15.24CL","Pedrollo JSWm2AX-24CL, házi vízmű",56300,{"$f":"IF(#REF!=A1344, \"Egyezik\", \"Nem egyezik\")","v":{"$error":"#REF!"}}]
["48SN0110A1","Pedrollo NKm 2/2 ásottkút szivattyú",102700,{"$f":"IF(#REF!=A1345, \"Egyezik\", \"Nem egyezik\")","v":{"$error":"#REF!"}}]
["48SN2110A1","Pedrollo NKm 2/2-GE ásottkút szivattyú",105300,{"$f":"IF(#REF!=A1346, \"Egyezik\", \"Nem egyezik\")","v":{"$error":"#REF!"}}]
["48SN0115A1","Pedrollo NKm 2/3 ásottkút szivattyú",105300,{"$f":"IF(#REF!=A1347, \"Egyezik\", \"Nem egyezik\")","v":{"$error":"#REF!"}}]
["48SN2115A1","Pedrollo NKm 2/3-GE ásottkút szivattyú",108000,{"$f":"IF(#REF!=A1348, \"Egyezik\", \"Nem egyezik\")","v":{"$error":"#REF!"}}]
["48SN2120A1","Pedrollo NKm 2/4-GE ásottkút szivattyú",113200,{"$f":"IF(#REF!=A1349, \"Egyezik\", \"Nem egyezik\")","v":{"$error":"#REF!"}}]
["48SN0140A1","Pedrollo NKm 4/3 ásottkút szivattyú",105300,{"$f":"IF(#REF!=A1350, \"Egyezik\", \"Nem egyezik\")","v":{"$error":"#REF!"}}]
["48SN2140A1","Pedrollo NKm 4/3-GE ásottkút szivattyú",108000,{"$f":"IF(#REF!=A1351, \"Egyezik\", \"Nem egyezik\")","v":{"$error":"#REF!"}}]
["48SN0145A1","Pedrollo NKm 4/4 ásottkút szivattyú",110600,{"$f":"IF(#REF!=A1352, \"Egyezik\", \"Nem egyezik\")","v":{"$error":"#REF!"}}]
["48SN2150A1","Pedrollo NKm 4/5-GE ásottkút szivattyú",117200,{"$f":"IF(#REF!=A1353, \"Egyezik\", \"Nem egyezik\")","v":{"$error":"#REF!"}}]
["50018/8","Pedrollo NYOMÁSKAPCSOLÓ PM5/PSG-1",2500,{"$f":"IF(#REF!=A1354, \"Egyezik\", \"Nem egyezik\")","v":{"$error":"#REF!"}}]
["41PNK60A1","Pedrollo PKm60",22200,{"$f":"IF(#REF!=A1355, \"Egyezik\", \"Nem egyezik\")","v":{"$error":"#REF!"}}]
["41PNK67A1","Pedrollo PKm65",26600,{"$f":"IF(#REF!=A1356, \"Egyezik\", \"Nem egyezik\")","v":{"$error":"#REF!"}}]
["43PJA1004A1","Pedrollo PLURIJETm 4/100 szivattyú",51800,{"$f":"IF(#REF!=A1357, \"Egyezik\", \"Nem egyezik\")","v":{"$error":"#REF!"}}]
["43PJA5104A1","Pedrollo PLURIJETm 4/100-N szivattyú",56100,{"$f":"IF(#REF!=A1358, \"Egyezik\", \"Nem egyezik\")","v":{"$error":"#REF!"}}]
["43PJD20048A1","Pedrollo PLURIJETm 4/200 szivattyú",126896,{"$f":"IF(#REF!=A1359, \"Egyezik\", \"Nem egyezik\")","v":{"$error":"#REF!"}}]
["43PJA6084A1","Pedrollo PLURIJETm 4/80 szivattyú",46800,{"$f":"IF(#REF!=A1360, \"Egyezik\", \"Nem egyezik\")","v":{"$error":"#REF!"}}]
["41PNQ60A1","Pedrollo PQm60",21300,{"$f":"IF(#REF!=A1361, \"Egyezik\", \"Nem egyezik\")","v":{"$error":"#REF!"}}]
["41PNK67A1","Pedrollo PQm65",26600,{"$f":"IF(#REF!=A1362, \"Egyezik\", \"Nem egyezik\")","v":{"$error":"#REF!"}}]
["48TXVG13A1","Pedrollo RX VORTEX 3/20-GM",61700,{"$f":"IF(#REF!=A1363, \"Egyezik\", \"Nem egyezik\")","v":{"$error":"#REF!"}}]
["PSP M/M 8.5E","Pedrollo SteadyPres M/M 8.5 E 1\"G V2.0",79900,{"$f":"IF(#REF!=A1364, \"Egyezik\", \"Nem egyezik\")","v":{"$error":"#REF!"}}]
["PSP T/T 08E","Pedrollo SteadyPres T/T 08 E (2.0); 3 fázis, 3kW-ig, max.200 liter/perc",207500,{"$f":"IF(#REF!=A1365, \"Egyezik\", \"Nem egyezik\")","v":{"$error":"#REF!"}}]
[500668,"Pedrollo TARTÁLY Easy Small-hoz",3590,{"$f":"IF(#REF!=A1366, \"Egyezik\", \"Nem egyezik\")","v":{"$error":"#REF!"}}]
["48TOP12A1","Pedrollo TOP 2",28400,{"$f":"IF(#REF!=A1367, \"Egyezik\", \"Nem egyezik\")","v":{"$error":"#REF!"}}]
["48TOPV12A1","Pedrollo TOP 2 VORTEX",31600,{"$f":"IF(#REF!=A1368, \"Egyezik\", \"Nem egyezik\")","v":{"$error":"#REF!"}}]
["48TOPV12A1SJR","Pedrollo TOP 2 VORTEX-GM",40200,{"$f":"IF(#REF!=A1369, \"Egyezik\", \"Nem egyezik\")","v":{"$error":"#REF!"}}]
["48TOP12A1SJR","Pedrollo TOP 2-GM",36800,{"$f":"IF(#REF!=A1370, \"Egyezik\", \"Nem egyezik\")","v":{"$error":"#REF!"}}]
["48TOP13A1","Pedrollo TOP 3",35600,{"$f":"IF(#REF!=A1371, \"Egyezik\", \"Nem egyezik\")","v":{"$error":"#REF!"}}]
["48TOPF11A1","Pedrollo TOP FLOOR 1",31800,{"$f":"IF(#REF!=A1372, \"Egyezik\", \"Nem egyezik\")","v":{"$error":"#REF!"}}]
["48TPM070A1U","Pedrollo TOP Multi 2",53500,{"$f":"IF(#REF!=A1373, \"Egyezik\", \"Nem egyezik\")","v":{"$error":"#REF!"}}]
["48TPMA070A1U","Pedrollo TOP Multi Tech 2",77200,{"$f":"IF(#REF!=A1374, \"Egyezik\", \"Nem egyezik\")","v":{"$error":"#REF!"}}]
["ASSKITUPFO","Pedrollo UP Telepítő készlet vízszintes működéshez",20800,{"$f":"IF(#REF!=A1375, \"Egyezik\", \"Nem egyezik\")","v":{"$error":"#REF!"}}]
["48SP2115A1","Pedrollo UPm 2/3-GE",97900,{"$f":"IF(#REF!=A1376, \"Egyezik\", \"Nem egyezik\")","v":{"$error":"#REF!"}}]
["48SP0120A1","Pedrollo UPm 2/4",100600,{"$f":"IF(#REF!=A1377, \"Egyezik\", \"Nem egyezik\")","v":{"$error":"#REF!"}}]
["48SP2120A1","Pedrollo UPm 2/4-GE",103200,{"$f":"IF(#REF!=A1378, \"Egyezik\", \"Nem egyezik\")","v":{"$error":"#REF!"}}]
["48SP2125A1","Pedrollo UPm 2/5-GE",109900,{"$f":"IF(#REF!=A1379, \"Egyezik\", \"Nem egyezik\")","v":{"$error":"#REF!"}}]
["48SP2145A1","Pedrollo UPm 4/4-GE",103200,{"$f":"IF(#REF!=A1380, \"Egyezik\", \"Nem egyezik\")","v":{"$error":"#REF!"}}]
["48SP0150A1","Pedrollo UPm 4/5",106700,{"$f":"IF(#REF!=A1381, \"Egyezik\", \"Nem egyezik\")","v":{"$error":"#REF!"}}]
["48SP2150A1","Pedrollo UPm 4/5-GE",109900,{"$f":"IF(#REF!=A1382, \"Egyezik\", \"Nem egyezik\")","v":{"$error":"#REF!"}}]
["48SP2155A1","Pedrollo UPm 4/6-GE",116600,{"$f":"IF(#REF!=A1383, \"Egyezik\", \"Nem egyezik\")","v":{"$error":"#REF!"}}]
["48SDZE4AA1","Pedrollo ZXm 1A/40 szivattyú",56200,{"$f":"IF(#REF!=A1384, \"Egyezik\", \"Nem egyezik\")","v":{"$error":"#REF!"}}]
["054007","Permetező Suptec SP 415 S motoros, háti",25080,{"$f":"IF(#REF!=A1385, \"Egyezik\", \"Nem egyezik\")","v":{"$error":"#REF!"}}]
["100-PGA 24V","PGA 100 24V mágnesszelep, 1\" BB, átf. szab.",10938,{"$f":"IF(#REF!=A1386, \"Egyezik\", \"Nem egyezik\")","v":{"$error":"#REF!"}}]
["150-PGA","PGA 150 24V mágnesszelep, 6/4\" BB, átf. szab.",17376,{"$f":"IF(#REF!=A1387, \"Egyezik\", \"Nem egyezik\")","v":{"$error":"#REF!"}}]
["PGA1509V","PGA 150 9V mágnesszelep, 6/4\" BB, átf. szab.",29056,{"$f":"IF(#REF!=A1388, \"Egyezik\", \"Nem egyezik\")","v":{"$error":"#REF!"}}]
["200-PGA","PGA 200 24V mágnesszelep, 2\" BB, átf. szab.",30818,{"$f":"IF(#REF!=A1389, \"Egyezik\", \"Nem egyezik\")","v":{"$error":"#REF!"}}]
["PGA2009V","PGA 200 9V mágnesszelep, 2\" BB, átf. szab.",44030,{"$f":"IF(#REF!=A1390, \"Egyezik\", \"Nem egyezik\")","v":{"$error":"#REF!"}}]
["PGJ 04","PGJ 00 szórófej, Junior áll kiem.",3101,{"$f":"IF(#REF!=A1391, \"Egyezik\", \"Nem egyezik\")","v":{"$error":"#REF!"}}]
["PGJ 04","PGJ 04 szórófej, 10cm kiemelkedés, áll. 40-360°",3553,{"$f":"IF(#REF!=A1392, \"Egyezik\", \"Nem egyezik\")","v":{"$error":"#REF!"}}]
["PGJ-04-V","PGJ 04 VFG szórófej, 10cm kiemelkedés, 40-360°",5250,{"$f":"IF(#REF!=A1393, \"Egyezik\", \"Nem egyezik\")","v":{"$error":"#REF!"}}]
["PGJ12-A","PGJ 12 szórófej, 30cm kiemelkedés, áll. 40-360°",11520,{"$f":"IF(#REF!=A1394, \"Egyezik\", \"Nem egyezik\")","v":{"$error":"#REF!"}}]
["PGP-ADJ","PGP szórófej, 10cm kiemelkedés, áll. 40-360°",4364,{"$f":"IF(#REF!=A1395, \"Egyezik\", \"Nem egyezik\")","v":{"$error":"#REF!"}}]
["PGP04 Ultra","PGP Ultra szórófej, 10cm kiemelkedés, áll. 0-360°",4443,{"$f":"IF(#REF!=A1396, \"Egyezik\", \"Nem egyezik\")","v":{"$error":"#REF!"}}]
["PGP04CV","PGP Ultra VFG szórófej, 10 cm kiemelkedés, áll. 0-360°",5536,{"$f":"IF(#REF!=A1397, \"Egyezik\", \"Nem egyezik\")","v":{"$error":"#REF!"}}]
["PGP12CV","PGP Ultra VFG szórófej, 30 cm kiemelkedés, áll. 0-360°",13256,{"$f":"IF(#REF!=A1398, \"Egyezik\", \"Nem egyezik\")","v":{"$error":"#REF!"}}]
[444800,"PGP Ultra, Magas vízhozamú fúvókakészlet",625,{"$f":"IF(#REF!=A1399, \"Egyezik\", \"Nem egyezik\")","v":{"$error":"#REF!"}}]
["PGP U SRN","PGP Ultra, Rövid sugarú fúvókakészlet",638,{"$f":"IF(#REF!=A1400, \"Egyezik\", \"Nem egyezik\")","v":{"$error":"#REF!"}}]
["052-332","PGP, Alacsony szögű fúvókakészlet",388,{"$f":"IF(#REF!=A1401, \"Egyezik\", \"Nem egyezik\")","v":{"$error":"#REF!"}}]
["PGV 100BB","PGV 24V mágnesszelep, 1\" BB",6311,{"$f":"IF(#REF!=A1402, \"Egyezik\", \"Nem egyezik\")","v":{"$error":"#REF!"}}]
["PGV 100","PGV 24V mágnesszelep, 1\" KK",5332,{"$f":"IF(#REF!=A1403, \"Egyezik\", \"Nem egyezik\")","v":{"$error":"#REF!"}}]
["PGV 101","PGV 24V mágnesszelep, 1\" KK, átf. szab.",5891,{"$f":"IF(#REF!=A1404, \"Egyezik\", \"Nem egyezik\")","v":{"$error":"#REF!"}}]
["PGV-201B","PGV 24V mágnesszelep, 2\" BB, átf. szab.",23698,{"$f":"IF(#REF!=A1405, \"Egyezik\", \"Nem egyezik\")","v":{"$error":"#REF!"}}]
["PGV-151B","PGV 24V mágnesszelep, 6/4\" BB, átf. szab.",16562,{"$f":"IF(#REF!=A1406, \"Egyezik\", \"Nem egyezik\")","v":{"$error":"#REF!"}}]
["PGV100JTMMB","PGV 24V mágnesszelep, JAR TOP, 1\" KK",6695,{"$f":"IF(#REF!=A1407, \"Egyezik\", \"Nem egyezik\")","v":{"$error":"#REF!"}}]
["PGV100DC","PGV 9V mágnesszelep, 1\" KK",12890,{"$f":"IF(#REF!=A1408, \"Egyezik\", \"Nem egyezik\")","v":{"$error":"#REF!"}}]
["PGV201DC","PGV 9V mágnesszelep, 2\" BB",38941,{"$f":"IF(#REF!=A1409, \"Egyezik\", \"Nem egyezik\")","v":{"$error":"#REF!"}}]
["332100SP","PGV MEMBRÁN 1\"",2786,{"$f":"IF(#REF!=A1410, \"Egyezik\", \"Nem egyezik\")","v":{"$error":"#REF!"}}]
["PSZ1\"+G","Pisztolyszelep 1\" Golyóval",5368,{"$f":"IF(#REF!=A1411, \"Egyezik\", \"Nem egyezik\")","v":{"$error":"#REF!"}}]
["A90917","PITOT csöves nyomásmérő",5809,{"$f":"IF(#REF!=A1412, \"Egyezik\", \"Nem egyezik\")","v":{"$error":"#REF!"}}]
["PRF-075 BB","PRF-075 nyomácsökkentő és szűrő, PSI-30 (2.1 bar) 3/4\" KK",4824,{"$f":"IF(#REF!=A1413, \"Egyezik\", \"Nem egyezik\")","v":{"$error":"#REF!"}}]
["PRF-100 BB","PRF-100 nyomácsökkentő és szűrő, PSI-40 (2.8 bar) 1\" KK",5420,{"$f":"IF(#REF!=A1414, \"Egyezik\", \"Nem egyezik\")","v":{"$error":"#REF!"}}]
["PRN 45-270","PRN -TA R= 4-8m 45-270",3716,{"$f":"IF(#REF!=A1415, \"Egyezik\", \"Nem egyezik\")","v":{"$error":"#REF!"}}]
["PCC901iE","PRO-C CONVENTIONAL, BELTÉRI, 9 zónás FIX vezérlő",70723,{"$f":"IF(#REF!=A1416, \"Egyezik\", \"Nem egyezik\")","v":{"$error":"#REF!"}}]
["PCC1201E","PRO-C CONVENTIONAL, KÜLTÉRI, 12 zónás FIX vezérlő",91032,{"$f":"IF(#REF!=A1417, \"Egyezik\", \"Nem egyezik\")","v":{"$error":"#REF!"}}]
["PCC1501E","PRO-C CONVENTIONAL, KÜLTÉRI, 15 zónás FIX vezérlő",117585,{"$f":"IF(#REF!=A1418, \"Egyezik\", \"Nem egyezik\")","v":{"$error":"#REF!"}}]
["PCC901E","PRO-C CONVENTIONAL, KÜLTÉRI, 9 zónás FIX vezérlő",78535,{"$f":"IF(#REF!=A1419, \"Egyezik\", \"Nem egyezik\")","v":{"$error":"#REF!"}}]
["PC-401i-E old","PRO-C, BELTÉRI, moduláris vezérlő 3-15 zónáig, RÉGI",41355,{"$f":"IF(#REF!=A1420, \"Egyezik\", \"Nem egyezik\")","v":{"$error":"#REF!"}}]
["PC-401i-E","PRO-C, BELTÉRI, moduláris vezérlő 4-16 zónáig",43454,{"$f":"IF(#REF!=A1421, \"Egyezik\", \"Nem egyezik\")","v":{"$error":"#REF!"}}]
["PC-401-E","PRO-C, KÜLTÉRI, moduláris vezérlő 4-16 zónáig",56522,{"$f":"IF(#REF!=A1422, \"Egyezik\", \"Nem egyezik\")","v":{"$error":"#REF!"}}]
["PCM-300","PRO-C, PCM-300, 3 zónás bővítő modul",11189,{"$f":"IF(#REF!=A1423, \"Egyezik\", \"Nem egyezik\")","v":{"$error":"#REF!"}}]
["PCM-900","PRO-C, PCM-900, 9 zónás bővítő modul",43635,{"$f":"IF(#REF!=A1424, \"Egyezik\", \"Nem egyezik\")","v":{"$error":"#REF!"}}]
["PHC-1201E","PRO-HC, KÜLTÉRI, 12 zónás Wi-Fi képes vezérlő",103470,{"$f":"IF(#REF!=A1425, \"Egyezik\", \"Nem egyezik\")","v":{"$error":"#REF!"}}]
["PHC-2401E","PRO-HC, KÜLTÉRI, 24 zónás Wi-Fi képes vezérlő",181267,{"$f":"IF(#REF!=A1426, \"Egyezik\", \"Nem egyezik\")","v":{"$error":"#REF!"}}]
["PHC-601E","PRO-HC, KÜLTÉRI, 6 zónás Wi-Fi képes vezérlő",84281,{"$f":"IF(#REF!=A1427, \"Egyezik\", \"Nem egyezik\")","v":{"$error":"#REF!"}}]
["PROS-00","PROS-00, shrub adapter, 1/2\" BM",330,{"$f":"IF(#REF!=A1428, \"Egyezik\", \"Nem egyezik\")","v":{"$error":"#REF!"}}]
["PROS-04-PRS30-CV","Pro-Spray PRS-30-CV szórófej HÁZ, 10 cm, 2.1bar",2823,{"$f":"IF(#REF!=A1429, \"Egyezik\", \"Nem egyezik\")","v":{"$error":"#REF!"}}]
["PROS-04-PRS40-CV","Pro-Spray PRS-40-CV szórófej HÁZ, 10 cm, 2.8bar",2498,{"$f":"IF(#REF!=A1430, \"Egyezik\", \"Nem egyezik\")","v":{"$error":"#REF!"}}]
["PROS-04","Pro-Spray szórófej HÁZ, 10 cm",890,{"$f":"IF(#REF!=A1431, \"Egyezik\", \"Nem egyezik\")","v":{"$error":"#REF!"}}]
["PROS-06","Pro-Spray szórófej HÁZ, 15 cm",3428,{"$f":"IF(#REF!=A1432, \"Egyezik\", \"Nem egyezik\")","v":{"$error":"#REF!"}}]
["PROS-12","Pro-Spray szórófej HÁZ, 30 cm",4828,{"$f":"IF(#REF!=A1433, \"Egyezik\", \"Nem egyezik\")","v":{"$error":"#REF!"}}]
["PROS-02","Pro-Spray szórófej HÁZ, 5 cm",940,{"$f":"IF(#REF!=A1434, \"Egyezik\", \"Nem egyezik\")","v":{"$error":"#REF!"}}]
["PROS-03","Pro-Spray szórófej HÁZ, 7,5cm",940,{"$f":"IF(#REF!=A1435, \"Egyezik\", \"Nem egyezik\")","v":{"$error":"#REF!"}}]
["PRS-DIAL","PRS-DIAL nyomásszabályozó (PGA, PEB)",21957,{"$f":"IF(#REF!=A1436, \"Egyezik\", \"Nem egyezik\")","v":{"$error":"#REF!"}}]
["PSU0410A","PS 04 Ultra 10A",1360]
["PSU0412A","PS 04 Ultra 12A",1360]
["PSU0415A","PS 04 Ultra 15A",1360]
["PSU0417A","PS 04 Ultra 17A",1360]
["PSU-04","PS 04 Ultra szórófejház",855]
["127287","Purhab 750ml Soudal, Akna, Kút, Csatorna",2018]
["QS00000018","Quickstop Advance, úszókapcsoló KM 3/4\"",4568]
["R-50-3.0","R-50-es szórófej,10cm,30-360,RainCurtai",9150]
["HO 44314","Racsnis bilincs, 16 mm, LPE csőhöz, műanyag",97]
["HO 44315","Racsnis bilincs, 20 mm, LPE csőhöz, műanyag",58]
["O61254","Racsnis bilincs, 6 mm, mikro csőhöz, műanyag",92]
["Y05100","Rain Bird Állító kulcs (csavarhúzó)",938]
["RAINCLIK","Rain Clik esőérzékelő",8613]
[505900,"Rain Clik-hez duzzadókorong",2161]
["SGM","Rain Clik-hez eresz rögzítő adapter SGM",1087]
["10-HE VAN AKCIÓS","RB AKCIÓ 10 HE VAN áll. fúvóka Rain Bird",625]
["12-HE VAN AKCIÓS","RB AKCIÓ 12 HE VAN áll. fúvóka Rain Bird",625]
["15-HE VAN AKCIÓS","RB AKCIÓ 15 HE VAN áll. fúvóka Rain Bird",625]
["5000E AKCIÓS","RB AKCIÓ 5004 FEKETE szórófej, 10cm kiemelkedés",3923]
["8-HE VAN AKCIÓS","RB AKCIÓ 8 HE VAN áll. fúvóka Rain Bird",625]
["XFD2333100 AKCIÓS","RB AKCIÓ Csepegtető CSŐ, PC, LPE 16mm/30cm, Rain Bird",156]
["RZX4i AKCIÓS","RB AKCIÓ ESP-RZX4i Rain Bird vezérlő, BELTÉRI",21310]
["100-HV-MM AKCIÓS","RB AKCIÓ HV-100 24V mágnesszelep, 1\" KK",5015]
["RB RVAN 13-18 AKCIÓS","RB AKCIÓ Rotary R-VAN 13-18 fúvóka Rain Bird, (R=4.0-5.5m; 45-270°)",2331]
["RB RVAN 17-24 AKCIÓS","RB AKCIÓ Rotary R-VAN 17-24 fúvóka Rain Bird, (R=5.2-7.3m; 45-270°)",2331]
["RSD-BEX AKCIÓS","RB AKCIÓ RSD-BEX esőérzékelő",8600]
["H RCS-515","RCS-515 fúvóka Hunter, (SZ1.5m x H4.5m)",530]
["100.4400911","RN150 mágnesszelep, 1\" KK 24V",3392]
["100.4400711","RN150 mágnesszelep, 3/4\" KK, 24V",3432]
["100.1560911","RN155 átf. szab. mágnesszelep, 1\" KK 24V",4130]
["100.1560916","RN155 átf. szab. mágnesszelep, 1\" KM x HOLL 24V",4271]
["100.5701511","RN160 mágnesszelep, 6/4\" BB 24V",10279]
["ROAM-KIT","ROAM távirányító Hunter vezérlőkhöz",65470]
["ROAMXL-KIT","ROAM-XL távirányító Hunter vezérlőkhöz",226054]
["RB RN 13-18 F","Rotary RN13-18 F fúvóka Rain Bird, (R=4.0-5.6m; 360°)",2380]
["RB RN 13-18 H","Rotary RN13-18 H fúvóka Rain Bird, (R=4.0-5.6m; 180°)",2380]
["RB RN 13-18 Q","Rotary RN13-18 Q fúvóka Rain Bird, (R=4.0-5.6m; 360°)",2380]
["RB RN 17-24 F","Rotary RN17-24 F fúvóka Rain Bird, (R=5.2-7.4m; 360°)",2380]
["RB RN 17-24 H","Rotary RN17-24 H fúvóka Rain Bird, (R=5.2-7.4m; 180°)",2380]
["RB RN 17-24 Q","Rotary RN17-24 Q fúvóka Rain Bird, (R=5.2-7.4m; 90°)",2380]
["RB RVAN 14","Rotary R-VAN 14 fúvóka Rain Bird, (R=2.4-4.3m; 45-270°)",2380]
["RB RVAN 17-24","Rotary R-VAN 17-24 fúvóka Rain Bird, (R=5.2-7.3m; 45-270°)",2380]
["RB RVAN 18","Rotary R-VAN 18 fúvóka Rain Bird, (R=4.0-5.5m; 45-270°)",2380]
["RSD-BEX","RSD-BEX esőérzékelő",10274]
["RWS-BGX","RWS-BGX faöntöző, 91cm",11125]
["RWS-M-BG","RWS-M-BG faöntöző, 45cm",7744]
["RWS-S-BG","RWS-S-BG faöntöző, 25cm",4622]
["RWS-SOCK","RWS-SOCK szűrőkosár faöntözőhöz (6 db)",11720]
["210.5005300","RX esőérzékelő",6755]
["280.1300400","S020 szórófej HÁZ, 10 cm",490]
["280.1290102","S050-S szórófej, 10.5cm kiemelkedés, állítható 40-360°",3750]
["280.1150100","S075 szórófej, 10.2cm kiemelkedés, állítható 40-360°",3372]
["H S-16A","S-16'A sugaras áll. fúvóka Hunter",530]
["H S-8A","S-8'A sugaras áll. fúvóka Hunter",530]
["89-7875","SB-B180-PC fúvóka Toro",598]
["89-7877","SB-F360-PC fúvóka Toro",598]
["89-78651","SB-H180-PC fúvóka Toro",598]
["89-7865","SB-Q90-PC fúvóka Toro",598]
["N8250SHRPWIHUN","Signature EZ CONNECT 8250 internetes vezérlő, BELTÉRI",63576]
["N8690","Signature EZ PRO 20 zóna",84801]
["N8279 5329","Signature EZ PRO JUNIOR beltéri vezérlő,  9 zóna",0]
["N8382","Signature EZ PRO JUNIOR kültéri vezérlő,  12 zóna",41051]
["N8379","Signature EZ PRO JUNIOR kültéri vezérlő,  9 zóna",41354]
["N7916","SIGNATURE Mágnesszelep 1\" BM 24VAC,10bar",6468]
["SMRT-Y","SMRT-Y talajnedvesség érzékelő",72678]
["64392","Soil Clik talajnedvesség érzékelő",41458]
["SOLARSYNCSEN","SolarSync ET érzékelő MODUL NÉLKÜL",33675]
["SOLARSYNC","SolarSync ET érzékelő Pro-C és ICC-hez",41325]
["916400SP","Spray szórófej elzáró, fúvóka, BM",720]
[8006410085,"Spray szórófej elzáró, univerzális",384]
["SRM-04","SRM-04 (PGM-4)",4673]
["H SRS-04","SRS szórófej, 10 cm kiemelkedés",740]
["H SS-530","SS-530 fúvóka Hunter, (SZ1.5m x H9.0m)",530]
["SS918","SS-918 fúvóka Hunter, (SZ2.7m x H5.5m)",530]
["64.061.002","Storz csatlakozó BM 2\", 052-C",1380]
["64.060.002","Storz kupak, 052-C",1879]
["STPi4Plus","STP 4 Plus Rain Bird beltéri vezérlő",24360]
["STPi9Plus","STP 9 Plus Rain Bird beltéri vezérlő",31130]
["65529","STRATUS II: DECODER UPGRADE",6118212]
["PLA101003723","Súly Rondó Mikroszóró Fúvókához",287]
["SJ-12-150-23","Swing Joint 12 150 23",17695]
["SJ-12-100-22","Swing Joint 18 125 23",12213]
["SJ-12-150-23","Swing Joint 18 150 23",15234]
["HWUA00003","Szárazonfutás védelem LP3/15",4398]
["A.POZ.06R","Szelepdoboz  Jumbo (SZ:46cm x H:61cm x M:30cm)",7861]
["SUPER JUMBO","Szelepdoboz  Jumbo SUPER",29094]
["A.POZ.02C","Szelepdoboz  Junior (ÁTM:30cm x M:25cm)",1645]
["A.POZ.01C","Szelepdoboz  Mini (ÁTM:17cm x M:23cm)",970]
["A.POZ.04R","Szelepdoboz  Standard (SZ:37cm x H:47cm x M:30cm)",4419]
["IPCZ02C","Szelepdoboz IRRITEC Junior (ÁTM:25cm)",1654]
["IPCZ04R","Szelepdoboz IRRITEC Standard (38.5x25cm)",5220]
["210.3007115","Szelepdoboz RAIN,  Jumbo",7861]
["210.3007113","Szelepdoboz RAIN,  Standard",4419]
["210.3001115","Szelepdoboz RAIN, Jumbo EzOpen (SZ:50cm x H:66cm x M:33cm)",7861]
["210.3001250","Szelepdoboz RAIN, Junior EzOpen (ÁTM:33,4cm x M:26cm)",1645]
["210.3001150","Szelepdoboz RAIN, Mini EzOpen (ÁTM:24,2cm x M:22,8cm)",970]
["210.3001113","Szelepdoboz RAIN, Standard EzOpen (SZ:39,5cm x H:52,5cm x M:33cm)",4419]
["125.8000600","Szelepdoboz RAIN, Szerelvény rendező (Jumbo mérethez)",3444]
["125.8000500","Szelepdoboz RAIN, Szerelvény rendező (Standard mérethez)",2184]
["27997","Szelepdoboz-fedél CEPEX Standard",3220]
["IGCP02C","Szelepdoboz-FEDÉL IRRITEC Junior (d=25 cm)",672]
["IGCP04R","Szelepdoboz-FEDÉL IRRITEC Standard",2080]
[15010103,"Szelepdoboz-FEDÉL Jumbo (35x50 cm)",2520]
["IGCP06R","Szelepdoboz-FEDÉL Jumbo (35x50 cm), IRRITEC",3726]
[15010102,"Szelepdoboz-FEDÉL Junior (d=24 cm)",656]
[15010101,"Szelepdoboz-FEDÉL Mini (d=16 cm)",702]
["210.2100115","Szelepdoboz-FEDÉL RAIN Jumbo, EzOpen (SZ:38,4cm x H:55,3cm)",3592]
["125.0125010","Szelepdoboz-FEDÉL RAIN Junior, EzOpen (ÁTM:25,6cm)",868]
["125.0115010","Szelepdoboz-FEDÉL RAIN Mini, EzOpen (ÁTM:16,3cm)",482]
["210.2107113","Szelepdoboz-FEDÉL RAIN Standard (SZ:27,5cm x H:40,5cm)",1810]
["210.2100113","Szelepdoboz-FEDÉL RAIN Standard, EzOpen (SZ:27,5cm x H:40,5cm)",2360]
["A11434","Szelepdoboz-FEDÉL RB VB Jumbo",8126]
[15010090,"Szelepdoboz-FEDÉL Standard (26x38 cm)",1513]
["IGCP04R","Szelepdoboz-FEDÉL Standard Irritec",2058]
[17107,"Szelepdoboz-MAGASÍTÓ Jumbo (30x43x17 cm)",6156]
[17101,"Szelepdoboz-MAGASÍTÓ Standard (40x54x17 cm)",3123]
["41856","Szelepkötő \"O\" gyűrűs közcsavar 1\"",345]
["145.8100000","Szelepkötő Idom RAIN, Kereszt, 1\", 3xBM/1xKM",1225]
["145.8000000","Szelepkötő Idom RAIN, Kereszt, 1\", 4xBM",1350]
["145.7100000","Szelepkötő Idom RAIN, Könyök, 1\", 1xBM/1xKM",599]
["145.7000000","Szelepkötő Idom RAIN, Könyök, 1\", 2xBM",736]
["600.5002015","Szelepkötő Idom RAIN, Közcsavar, 1\",  \"O\" gyűrűs",295]
["145.1100000","Szelepkötő Idom RAIN, T-idom,  1\", 2xBM/1xKM",787]
["145.2000000","Szelepkötő Idom RAIN, T-idom, 1\", 2 utas",1627]
["145.3000000","Szelepkötő Idom RAIN, T-idom, 1\", 3 utas",2414]
["145.4000000","Szelepkötő Idom RAIN, T-idom, 1\", 4 utas",3191]
["145.6100000","Szelepkötő Idom RAIN, Toldó, 1\", 1xBM/1xKM",443]
["145.6000000","Szelepkötő Idom RAIN, Toldó, 1\", 2xBM",709]
["145.1000000","Szelepkötő Idom RAIN, Végdugó, 1\", BM",268]
["4224/3033","Szelepkötő Idom, T-idom, 1\", 3 utas",2981]
["4224/4033","Szelepkötő Idom, T-idom, 1\", 4 utas",3974]
["Wind-Clik","Szélérzékelő Hunter Wind Clik",48978]
["QSR 12/24","Szintérzékelő relé QSR 12/24V",19170]
["QSR 230","Szintérzékelő relé QSR 230V",20129]
["QSR SZONDA","Szintérzékelő SZONDA QSR reléhez",2998]
["SZKVL_10M","Szintkapcsoló 10m kábellel",8235]
["SZKVL_15M","Szintkapcsoló 15m kábellel",10231]
["SZKVL_1M","Szintkapcsoló 1m kábellel",3502]
["SZKVL_20M","Szintkapcsoló 20m kábellel",12618]
["SZKVL_2M","Szintkapcsoló 3m kábellel",4727]
["SZKVL_5M","Szintkapcsoló 5m kábellel",5729]
["AGMAW","Szintkapcsoló AGMA W 5m 3x1",10344]
["RD252","Szintkapcsoló P520",10237]
["REKA","Szintszabályozó, Kapacitív REKA",12450]
["T6x5","Szivattyú akna műanyag, szellőzött, ÁTM:60 cm x M:50 cm",27300]
["T7x6","Szivattyú akna műanyag, szellőzött, ÁTM:70 cm x M:60 cm",33900]
["PSR-22","Szivattyú indító relé Hunter PSR-22",26618]
["PSR-52","Szivattyú indító relé Hunter PSR-52",29874]
["IFC-004","Szivattyú védő elektronika IFC-004",3500]
["IFC-003","Szivattyú védő relé Aqua Start",12800]
["HIDROMAT","Szivattyú vezérlő doboz 4 KW-ig HIDROMAT",44800]
["HUNTER-SOL","Szolenoid HUNTER mágnesszelephez 24V",4055]
["458200","Szolenoid HUNTER mágnesszelephez 9V",9000]
["OR 57241","Szolenoid ORBIT mágnesszelephez 24V",6417]
["PGA-SOL","Szolenoid PGA mágnesszelephez 24V",9443]
["DV-SOL-24V","Szolenoid RAIN BIRD DV mágnesszelephez 24V",4598]
["DV-SOL-9V","Szolenoid RAIN BIRD DV mágnesszelephez 9V",7453]
["PGA-SOL-24V","Szolenoid RAIN BIRD PGA mágnesszelephez 24V",4598]
["RNSOL220V","Szolenoid RAIN mágnesszelephez 220V",0]
["101.1001101","Szolenoid RAIN mágnesszelephez 24V",3021]
["101.3507000","Szolenoid RAIN mágnesszelephez 9V",3357]
["N7962","Szolenoid SIGNATURE mágnesszelephez 24V",3000]
["TORO-SOL","Szolenoid TORO mágnesszelephez 24V",4900]
["TORO-9VSOL","Szolenoid TORO mágnesszelephez 9V",13032]
["PL.GRP.16","Szorító sapka 16mm tokos LPE-fittinghez",54]
["PL.GRP.20","Szorító sapka 20mm tokos LPE-fittinghez",54]
["2670","Szórófej Állvány 1\"",7800]
[2801,"Szórófej Állvány 3/4\" (1/2\" BM adapterrel)",4550]
["E 110 5040","SZT PN16, CE, 50×32 szűkítő toldó",985]
[7962651168,"SZT PN16, NO, 32×25 szűkítő toldó",520]
[7962651171,"SZT PN16, NO, 40×32 szűkítő toldó",921]
["E110 3225","SZT PN16, PO, 32×25 szűkítő toldó",601]
["E110 4032","SZT PN16, PO, 40×32 szűkítő toldó",843]
["E 110 5040","SZT PN16, PO, 50×40 szűkítő toldó",1135]
["E 110 6332","SZT PN16, PO, 63×32 szűkítő toldó",1498]
["63x40","SZT PN16, PO, 63×40 szűkítő toldó",1579]
["02060080","SZT PN16, PO, 63×50 szűkítő toldó",1543]
["75x63","SZT PN16, PO, 75×63 szűkítő toldó",2812]
["90x63","SZT PN16, PO, 90×63 szűkítő toldó",3961]
["241-36V","Szűkítő KB HORGANYZOTT, 2\"x1\"",468]
["241-38V","Szűkítő KB HORGANYZOTT, 2\"x6/4\"",485]
["IR.623.0301","Szűkítő KB MŰA, 1\"x1/2\"",76]
["IR.623.0302","Szűkítő KB MŰA, 1\"x3/4\"",80]
["IR.623.0603","Szűkítő KB MŰA, 2\"x1\"",315]
["IR.623.0602","Szűkítő KB MŰA, 2\"x3/4\"",308]
["IR.623.0604","Szűkítő KB MŰA, 2\"x5/4\"",313]
["IR.623.0605","Szűkítő KB MŰA, 2\"x6/4\"",366]
["I62375G","Szűkítő KB MŰA, 2.5\"x2\"",608]
["I62390G","Szűkítő KB MŰA, 3\"x2\"",883]
["IR.623.0201","Szűkítő KB MŰA, 3/4\"x1/2\"",80]
["IR.623.0403","Szűkítő KB MŰA, 5/4\"x1\"",134]
["IR.623.0401","Szűkítő KB MŰA, 5/4\"x1/2\"",214]
["IR.623.0402","Szűkítő KB MŰA, 5/4\"x3/4\"",214]
["IR.623.0503","Szűkítő KB MŰA, 6/4\"x1\"",390]
["IR.623.0501","Szűkítő KB MŰA, 6/4\"x1/2\"",250]
["szKB1.1/2x2","Szűkítő KB MŰA, 6/4\"x2\"",544]
["IR.623.0502","Szűkítő KB MŰA, 6/4\"x3/4\"",250]
["IR.623.0504","Szűkítő KB MŰA, 6/4\"x5/4\"",162]
["RR.623.01005","Szűkítő KB RÉZ, 1/2\"x1/4\"",283]
["VG-266493","Szűkítő KB RÉZ, 3/4\"x1/2\"",340]
["VÍZSZB10M","Szűrő 1\" BB 10BAR, átlátszó házzal",5622]
["VÍZSZB10MCS","Szűrő 1\" BB 10BAR, átlátszó házzal, csapos",13252]
[1850002,"Szűrő 1\" BB 10BAR, CSERÉLHETŐ BETÉT",1070]
["XP-FCPS1-1","Szűrő 1\" BB 10BAR, CSERÉLHETŐ BETÉT, 1 MICRON",903]
["XP-FCPS1-1","Szűrő 1\" BB 10BAR, CSERÉLHETŐ BETÉT, AKTÍV SZÉNNEL, 10 MICRON",1908]
[1860002,"Szűrő 1\" BB 10BAR, MOSHATÓ BETÉT",2891]
["IYDVDDL","Szűrő 1\" KK LAMELLÁS, 5m^3 120 Mesh",1645]
["IYDVDIL","Szűrő 1\" KK, HÁLÓS, 5m^3, 120 Mesh",1645]
["IYDVDPL","Szűrő 1\" KK, POLYHÁLÓS, 5m^3, 120 Mesh",1330]
["BVSZ1\"autom","Szűrő 1\" Öntisztító",99110]
["IYFVGIL","Szűrő 2\" KK KICSI HÁLÓS, 20m^3",2838]
["AQ20","Szűrő 2\" KK KICSI LAMELLÁS, 20m^3",5322]
["20364","Szűrő 2\" KK LAMELLÁS TWISTER hydrociklonikus",43860]
["46548","Szűrő 2\" KK LAMELLÁS TWISTER hydrociklonikus LARGE",51150]
["IYHGGDL","Szűrő 2\" KK LAMELLÁS, 25m^3, anya",22966]
["AQ25","Szűrő 2\" KK LAMELLÁS, 25m^3, csatos",31440]
["20365","Szűrő 3\" KK LAMELLÁS TWISTER hydrociklonikus",57504]
["08030020","Szűrő 3\" KKK LAMELLÁS",35381]
["IYDVCIL","Szűrő 3/4\" KK, HÁLÓS, 5m^3, 120 Mesh",1557]
["Szűrő5/4HÁL","Szűrő 5/4\" KK HÁLÓS, 10m^3",1682]
["Szűrő5/4LAM","Szűrő 5/4\" KK LAMELLÁS, 10m^3",2699]
["IYFVFIL","Szűrő 6/4\" KK HÁLÓS 15m^3",2800]
["Szűrő6/4HÁL","Szűrő 6/4\" KK HÁLÓS, 10m^3",1794]
["Szűrő6/4HÁL15","Szűrő 6/4\" KK HÁLÓS, 15m^3",2878]
["Szűrő6/4LAM","Szűrő 6/4\" KK LAMELLÁS, 10m^3",2302]
["AHD2","Szűrő Azud Helix 2\"",34531]
["SZB-F 2col","Szűrő betét fémhálós, 120 MESH, 2\"",1336]
["SZB-F 6/4col","Szűrő betét fémhálós, 120 MESH, 6/4\"",1425]
["SZB-F 2col 60","Szűrő betét fémhálós, 60 MESH, 2\"",1991]
["SZB-F 13","Szűrő betét fémhálós,13cm,120 MESH",708]
["SZB-F 16","Szűrő betét fémhálós,16cm,120 MESH",761]
["SZB-F 10","Szűrő betét fémhálós,9.5cm,120 MESH",313]
["IFMDY12","Szűrő betét IRRITEC, 120 mesh, 1\" HÁLÓS, 5m^3",762]
["IFMDD12","Szűrő betét IRRITEC, 120 mesh, 1\" LAMELLÁS, 5m^3",1091]
["IFMFY12","Szűrő betét IRRITEC, 120 mesh, 2\", 20m^3",1516]
["IFMEY12","Szűrő betét IRRITEC, 120 mesh, 5/4\", 10m^3",1040]
["IFMFY03","Szűrő betét IRRITEC, 30 mesh, 2\"",1535]
["IFMDY07","Szűrő betét IRRITEC, 75 mesh, 1\"",760]
["IFMFY07","Szűrő betét IRRITEC, 75 mesh, 2\"",1481]
["IFMEY07","Szűrő betét IRRITEC, 75 mesh, 5/4\"",1336]
["IR FLD 1","Szűrő FLD 1\" KK 120 Mesh inox háló",1130]
["IR FLD 1CS","Szűrő FLD 1\" KK 120 Mesh inox háló tisztítócsapos",2026]
["08010040","Szűrő FLD 1\" KK 120 Mesh inox háló, 6.5 m^3",1067]
["SZ6/4","Szűrő FLD 6/4\" KK 120 Mesh",2731]
["Sz6/4","Szűrő FLD 6/4\" KK Mesh inox tisztító csappal",4002]
["01260610","Szűrő Visszaöblíthető 1\" Manométerrel RA",6063]
["464716SP","Szűrő, Hunter fúvókához, szürke",56]
["130-8V","T BM HORGANYZOTT, 6/4\"",731]
["IR.630.03","T BM MŰA, 1\"",278]
["IR.630.06","T BM MŰA, 2\"",1213]
["IR.630.02","T BM MŰA, 3/4\"",228]
["IR.630.04","T BM MŰA, 5/4\"",476]
["IR.630.05","T BM MŰA, 6/4\"",824]
["TB1","T BM RÉZ, 1\"",1852]
["TBM1051","T BM RÉZ, 1\"x1/2\"x1\"",2641]
["264321","T BM RÉZ, 2\"",4798]
["TBM 3/4","T BM RÉZ, 3/4\"",1263]
["5T","T BM RÉZ, 5 utas",1701]
["50016V6","T BM RÉZ, 5 utas hosszú",1933]
["IP.616.160416","T elem 16 x 04 x 16",62]
["IP.606.161616","T elem 16x16x16",29]
["IP.606.202020","T elem 20x20x20",41]
["I606250","T elem 25x25x25",75]
["IP.616.162016","T elem bővített 16x20x16",86]
["IP.616.201620","T elem szűkített 20x16x20",55]
["3KBB1","T KBB RÉZ, 1\", 3 utas",1399]
["05310040","T KBK MŰA, 3/4\"",284]
["I605320","T KM MŰA, 1\"",188]
["06140140","T KM MŰA, 2\"",1081]
[33110222,"T KM MŰA, 3/4\"",85]
["PL.629.020102","T KM MŰA, 3/4\"x1/2\"x3/4\"",137]
["0796 2103 347","T PN10, NO, 25x25×25 t-idom",473]
["0796 2103 348","T PN10, NO, 32x32×32 t-idom",638]
[7962651011,"T PN16, NO, 25x25×25 t-idom",639]
[7962651012,"T PN16, NO, 32x32×32 t-idom",823]
[7962651013,"T PN16, NO, 40x40×40 t-idom",1418]
["E 80 252525","T PN16, PO, 25x25×25 t-idom",739]
["E 80 323232","T PN16, PO, 32x32×32 t-idom",969]
["E 80 404040","T PN16, PO, 40x40×40 t-idom",1270]
["E 80 505050","T PN16, PO, 50x50×50 t-idom",1722]
["E 80 636363","T PN16, PO, 63x63×63 t-idom",2449]
["757575","T PN16, PO, 75x75×75 t-idom",4262]
["05110100","T PN16, PO, 90x90×90 t-idom",7056]
["053191","T szerszám Hunter rotoros szórófejekhez",400]
["ez flo táp","Tápanyag Ez-Flo adagolóhoz 4,5 l pázsit",3800]
["ez-flo 5,7","Tápoldat-adagoló Ez-Flo 5,7 liter",72540]
["ez-flo kerti","Tápoldat-adagoló Ez-Flo kerti csapos",27879]
["140.1000100/140.2000100","Tápoldat-adagoló készlet, Venturi 1\"",8312]
["Venturi5/4","Tápoldat-adagoló készlet, Venturi 6/4\"",18000]
["TEF2802504","Tápoldat-adagoló Mix-Rite 2504",79157]
["TEF-TF5","Tápoldat-adagoló Mix-Rite TF-5",0]
["TC-MR-LN","TC Fáklya - Lexington | Tart.: 1db asztali talp, 6-részes kiem. pálca, 3db h.l.,",11500]
["TC-MR-F","TC Kézi készülék - fehér | Tart.: 3db hatóanyag lap (4h/db), 1db bután patron",7713]
["TC-MR-O","TC Kézi készülék - olívazöld | Tart.: 3db hatóanyag lap (4h/db), 1db bután patro",7713]
["TC-MR-SZ","TC Kézi készülék - szürke | Tart.: 3db hatóanyag lap (4h/db), 1db bután patron",0]
["TC-MR-XG","TC Kézi készülék - Xtra® zöld | Tart.: 3db hatóanyag lap (4h/db), 1db bután p.",8358]
["TC-LED","TC Kézi készülék kiegészítő - LED lámpa",3148]
["TC-TOK-O","TC Kézi készülék kiegészítő - olívazöld vízálló tok",2698]
["TC-TOK-XG","TC Kézi készülék kiegészítő - Xtra® zöld vízálló tok",3112]
["TC-MR-BL","TC Lámpás - Bristol | Tart.: 3db hatóanyag lap (4h/db), 1db bután patron",8048]
["TC-MR-CE","TC Lámpás - Cambridge | Tart.: 3db hatóanyag lap (4h/db), 1db bután patron",9391]
["TC-MR-OR","TC Lámpás - Outdoor | Tart.: 3db hatóanyag lap (4h/db), 1db bután patron",9391]
["TC-MR-ST","TC Túra lámpás - Scout | Tart.: 3db hatóanyag lap (4h/db), 1db bután patron",13958]
["TC-MR-TR","TC Túra lámpás - Trailblazer | Tart.: 3db hatóanyag lap (4h/db), 1db bután p.",16709]
["TC-UT-BP","TC Utántöltő - bután patron | Tart.: 2db bután patron",1873]
["TC-UT-ES","TC Utántöltő - Earth Scent (48 h) | Tart.: 12db ható. lap (4h/db), 4db bután p.",6075]
["TC-UT-ML","TC Utántöltő - Max Life (48 h) | Tart.: 4db ható. lap (12h/db), 4db bután p.",6834]
["TC-UT-MP","TC Utántöltő - Mega Pack (120 h) | Tart.: 30db ható. lap (4h/db), 10db bután p.",0]
["TC-UT-VP","TC Utántöltő - Value Pack (48 h) | Tart.: 12db ható. lap (4h/db), 4db bután p.",6297]
["2007019_THC","Teflonszalag, 12mmx12m, 0,1mm",202]
["MOD212-02","TMC-212 bővítőmodul 2 zónás",10920]
["TMC-212ID","TMC-212 vezérlő, 4-12 zónáig bővíthető, BELTÉRI",44920]
["TMC-212OD","TMC-212 vezérlő, 4-12 zónáig bővíthető, KÜLTÉRI",71991]
["TSM-4","TMC-424 bővítő modul 4 zónás",23450]
["TSM-8","TMC-424 bővítő modul 8 zónás",46892]
["TMC 424","TMC-424 kültéri vezérlő, 24 zónáig bővíthető",117445]
["212123","Tófólia FIRESTONE EPDM 1,02mm; 12,2m",25543]
["212109","Tófólia FIRESTONE EPDM 1,02mm; 6,1m",12420]
["212119","Tófólia FIRESTONE EPDM 1,02mm; 9,15m",18625]
["2514","Tófóliához Ecolat tóperem 25m x 14 cm x 0,7 cm",23915]
["H4038","Tófóliához Ecopic H profilú cölöp 4 cm x 4 cm x 38 cm",606]
["210600","Tófóliához Firestone 3\" Quickseam Splice Tape 1,5m",2235]
["210690","Tófóliához Firestone Dörzsi Quicksrubber Pad",138]
["210610","Tófóliához Firestone Quick Prime 0,5l",2535]
["210710","Tófóliához Firestone Quicksrubber Nyél",1827]
["IP.604.1616","Toldó 16x16",27]
["IP.603.2016","Toldó 20x16",34]
["IP.604.2020","Toldó 20x20",36]
["05020010","Toldó 4×4mm",24]
["06010010","Toldó 4mm (3*1.0 kapillár csőhöz)",24]
["07060010","Tolózár 1\" BB",5251]
["07060020","Tolózár 2\" BB",10044]
["07060050","Tolózár 3\" BB",23297]
["07500020","Tolózár 5/4\" BB",3882]
["07060015","Tolózár 6/4\" BB",7010]
["9510E2","Tolózár beépítési készlet teleszkópos 1,3-1,8m",14391]
["4340-1818-30","Tolózár COMBI-T karimás, 100/100",167505]
["1750","Tolózár Csapszekrény",10543]
["7800-1800-01","Tolózár Kézi kerék NA100",5529]
["4041-1819-30","Tolózár-E2 SYSTEM 2000 karimás-tokos PE, PVC, 100-110, PN16",82657]
["263524","Tóporszívó Oase PondoVac Classic",59959]
["260490","Tószivattyú Oase AquaMax Eco Premium 12000 szűrő és patakpumpa",130979]
["GP040175","Tószivattyúhoz Atlantis Double wire 6/4\" bilincs",404]
["1353089","Tószivattyúhoz Ubbink Spirál tömlő erősített zöld 6/4\"",946]
["PP5000","Tószűrő Pontec PondoPress 5000",41197]
["TG1218","Tömítő gumi 12*18; 1/2\"",10]
["TG1624","Tömítő gumi 16*24; 3/4\"",21]
["TG1930","Tömítő gumi 19*30; 1\"",20]
["TG25","Tömítő gumi tartályhoz 25 mm",708]
["TG32","Tömítő gumi tartályhoz 32 mm",708]
["Tomlobordo1/2","Tömlő BORDÓ 1/2\" 25m",2902]
["Tomlobordo3/4","Tömlő BORDÓ 3/4\" 25m",5150]
["tomlogyorscsati1/2","Tömlő GYORSCSATLAKOZÓ 1/2\"",490]
["tomloosszekoto1/2","Tömlő ÖSSZEKÖTŐ 1/2\"",380]
["tomloosszekoto3/4","Tömlő ÖSSZEKÖTŐ 3/4\"",380]
["Tomlosarga3/4","Tömlő Sárga 3/4\" 25m",7252]
["K11YR","Tömlő SUGÁRCSŐ",342]
["Tomloszurke1/2","Tömlő SZÜRKE 1/2\" 25m",4500]
["Tomloszurke3/4","Tömlő SZÜRKE 3/4\" 25m",8348]
["TSZ M-20 7-12","Tömszelence, M-20, IP68, 7-12 mm, sötétszürke, X-Core/Pro-C/PSR/ESP",175]
["TSZ M-25 11-18","Tömszelence, M-25, IP68, 11-18 mm, sötétszürke, Pro-C/ESP",307]
["TSZ M-25 7-17","Tömszelence, M-25, IP68, 7-17 mm, fekete, Pro-C/ESP",480]
["TSZ M-32 7-17","Tömszelence, M-32, IP68, 7-17 mm, sötétszürke, I-CORE",522]
["TRAFÓ ICC","Trafó HUNTER, ICC vezérlőhöz",10559]
["545700","Trafó HUNTER, Pro-C, XC vezérlőhöz beltéri",10160]
["545800","Trafó HUNTER, Pro-C,XC vezérlőhöz kültéri",10160]
["363-3664","Trafó RAIN, 220/24V AC vezérlőhöz",4398]
["850-74","TRS esőérzékelő Toro",12324]
[7962651182,"TSZ PN16, NO, 32x25×32 szűkítő t-idom",1018]
[7962651184,"TSZ PN16, NO, 40x32×40 szűkítő t-idom",1418]
["02140090","TSZ PN16, PO, 25x32×25 szűkítő t-idom",980]
["E 75 32 25 32","TSZ PN16, PO, 32x25×32 szűkítő t-idom",1018]
["E75 40 32 40","TSZ PN16, PO, 40x32×40 szűkítő t-idom",1604]
["84249000","TSZ PN16, PO, 50x32×50 szűkítő t-idom",2091]
["2140060","TSZ PN16, PO, 50x40×50 szűkítő t-idom",1867]
["02140070","TSZ PN16, PO, 63x50×63 szűkítő t-idom",2897]
["U10F","U 10'F fúvóka Rain Bird",700]
["U10H","U 10'H fúvóka RainBird",700]
["U10Q","U 10'Q fúvóka Rain Bird",700]
["RU12-F","U 12'F fúvóka Rain Bird",700]
["RU12-H","U 12'H fúvóka Rain Bird",700]
["RU12-Q","U 12'Q fúvóka Rain Bird",700]
["RU15-F","U 15'F fúvóka Rain Bird",700]
["RU15-H","U 15'H fúvóka Rain Bird",700]
["RU15-Q","U 15'Q fúvóka Rain Bird",700]
["RU8-F","U 8'F fúvóka Rain Bird",700]
["U8H","U 8'H fúvóka Rain Bird",700]
["U8Q","U 8'Q fúvóka Rain Bird",700]
["USP64.40","Ubbink Spirál tömlő fekete 6/4\" / 40mm",770]
["UPC38.42","Ubbink Tömlőbilincs 38-42 mm 1 pár",910]
["US-400","UniSpray szórófej HÁZ, 10cm kiem.",610]
["US-410","UniSpray szórófej HÁZ, 10cm kiem. + 10VAN fúvóka",906]
["US-412","UniSpray szórófej HÁZ, 10cm kiem. + 12VAN fúvóka",906]
["US-415","UniSpray szórófej HÁZ, 10cm kiem. + 15VAN fúvóka",906]
["US-418","UniSpray szórófej HÁZ, 10cm kiem. + 18VAN fúvóka",906]
["0796 2103 338","V PN10, NO, 25 végdugó",203]
["0796 2103 339","V PN10, NO, 32 végdugó",248]
[7962651005,"V PN16, NO, 25 végdugó",283]
[7962651006,"V PN16, NO, 32 végdugó",344]
[7962651007,"V PN16, NO, 40 végdugó",567]
["E115 25","V PN16, PO, 25 végdugó",321]
["E115 32","V PN16, PO, 32 végdugó",392]
["E115 40","V PN16, PO, 40 végdugó",532]
["E115 50","V PN16, PO, 50 végdugó",786]
["E115 63","V PN16, PO, 63 végdugó",1067]
["V75","V PN16, PO, 75 végdugó",2473]
["102-2247","V1550 nyaktömítés",2237]
["IPRS200","Vágható hidráns 1/2\"x1/2\"x15cm",91]
["IPRS20C","Vágható hidráns 1/2\"x3/4\"x15cm",92]
["IPRS250","Vágható hidráns 3/4\"x3/4\"x15cm",103]
["VAKH-PP3-1x100T","Vakondháló 1 m x 100 m, 19x19mm, PP3 (tekercsben)",12900]
["VAKH","Vakondháló 2m 19x19mm",216]
["VAKH-PP3","Vakondháló 2m 19x19mm PP3",258]
["695.4039000","Vari-Jet Asta pálca 32 cm",173]
["695.4038000+40995","Vari-Jet Asta toldat 30 cm",222]
["XS_180","Vari-Jet FEJ, 180° átf. mikroszóró, 0-4 m",270]
["XS_360","Vari-Jet FEJ, 360° átf. mikroszóró, 0-4 m",270]
["XS_90","Vari-Jet FEJ, 90° átf. mikroszóró, 0-4 m",270]
["695.4132001","Vari-Jet KOMPLETT, 180° átf. mikroszóró, 0-4 m",993]
["695.4134001","Vari-Jet KOMPLETT, 360° átf. mikroszóró, 0-4 m",993]
["695.4131001","Vari-Jet KOMPLETT, 90° átf. mikroszóró, 0-4 m",993]
["695.4035000","Vari-Mist FEJ, párásító mikroszóró, 0-4 m",270]
["VR_360","Vari-Rotor FEJ, forgó mikroszóró, 0-4 m",339]
["IR.609.03","Végdugó BM MŰA, 1\"",72]
["IR.609.01","Végdugó BM MŰA, 1/2\"",32]
["IR.609.06","Végdugó BM MŰA, 2\"",198]
["IR.609.02","Végdugó BM MŰA, 3/4\"",40]
["IR.609.04","Végdugó BM MŰA, 5/4\"",116]
["IR.609.05","Végdugó BM MŰA, 6/4\"",214]
["VDBM1/4Cu","Végdugó BM RÉZ, 1/4\"",149]
["290-8V","Végdugó KM HORGANYZOTT, 6/4\"",255]
["IR.610.03","Végdugó KM MŰA, 1\"",92]
["IR.610.01","Végdugó KM MŰA, 1/2\"",42]
["IR.610.06","Végdugó KM MŰA, 2\"",176]
[33310002,"Végdugó KM MŰA, 3/4\"",42]
["IR.610.04","Végdugó KM MŰA, 5/4\"",114]
["IR.610.05","Végdugó KM MŰA, 6/4\"",152]
["II.AFL.160","Végelzáró 16-os csepegtető csőhöz",24]
["II.AFL.200","Végelzáró 20-as csepegtető csőhöz",33]
["VCC100","Velda Clear Control 100 szűrő KOI tavakhoz",164840]
["VFPCC100","Velda Szűrő közeg Clear Control 100 szűrőhöz",48094]
["UVC-55W","Velda UV-C lámpa, 55 W",45824]
["HRC WL","Vezeték nélküli Rain-Clik esőérzékelő",27009]
["WSSSEN","Vezeték nélküli SolarSync, Modul nélkül",64283]
["WR2-RFC","Vezeték nélküli WR2 eső- és fagyérzékelő",39421]
["VSZ5/4GG","Visszacsapó Gumigolyós 5/4\"",9449]
["VDSZ INOX","Visszacsapó szelep fém belső 1\"",2825]
["VCS2","Visszacsapó szelep fém belső 2\"",9080]
["VDSZ INOX 3/4","Visszacsapó szelep fém belső 3/4\"",2273]
["VSZ5/4","Visszacsapó szelep fém belső 5/4\"",4590]
["VCS6/4","Visszacsapó szelep fém belső 6/4\"",5985]
["VCSpvc2","Visszacsapó szelep PVC 2\" rugós",7167]
["US-SAM-KIT","Visszafolyásgátló \"SAM\" szelep UniSpray",405]
["R5000SAM","Visszafolyásgátló 5000 Plus szórófejhez",1895]
["053-025","Visszafolyásgátló PGJ szórófejhez",350]
["051-423","Visszafolyásgátló PGP szórófejhez",455]
["437-400","Visszafolyásgátló Pro-Spray szórófejekhez",313]
["051-843","Visszafolyásgátló PS szórófejhez",350]
["162900","Visszafolyásgátló PS SZŰRŐ",156]
["270.1010503","Visszafolyásgátló S050-hez",234]
["270.1010502","Visszafolyásgátló S075-höz",234]
["WS VK K","Vízkonnektor KULCS, bronz, 90°",1098]
["HK-55","Vízkonnektor KULCS, bronz, KM 1\"",9182]
["WSI-QCK34","Vízkonnektor KULCS, bronz, KM 3/4\"",1098]
["ICHS250","Vízkonnektor KULCS, műanyag, KM 3/4\"",476]
["IIDS025","Vízkonnektor, műanyag, KM 3/4\"",1516]
["TAR-3M","Vízmentes csatlakozó 2-es",100]
["H RP-KU316","Vízmentes csatlakozó, 3M 316IR, 3x 0.5-1.5 mm2, max 600 V",275]
["3MDBOB6","Vízmentes csatlakozó, 3M DBO/B-6, 0.75-2.5 mm2, max 600 V",547]
["DBRY6","Vízmentes csatlakozó, 3M DBR/Y-6, 0.75-2.5 mm2, max 600 V",690]
["80610253660","Vízmentes csatlakozó, 3M SL-314, 3x 0.5-1.5 mm2, max 600 V",290]
["210.6011001","Vízmentes csatlakozó, BLAZING BVS-1, 3x 0.5-1.5 mm2 , max 300 V (kék)",275]
["210.6039001","Vízmentes csatlakozó, BLAZING LV9000, max 30 V, (sárga)",520]
["210.6039501","Vízmentes csatlakozó, BLAZING LV9500, max 30 V, (fekete)",455]
["RB-DB","Vízmentes csatlakozó, RB DB",956]
["RB-KING","Vízmentes csatlakozó, RB KING",360]
["VÓ1\"","Vízóra 1\" Hideg, szárazonfutó",16316]
["P34BV35DB1F1","Vízóra 3/4\" Hideg vízre, Impulzus jeladóval, hitelesíthető",0]
["HR321","Vízóra 3/4\" Hideg, szárazonfutó",7380]
["TVA1000","Vízóra akna műanyag 1000x1000 Szellőzővel",53300]
["BM1H","Vízóra B Meters 1\" Hideg, impulzus jeladóval",13203]
["BM2H","Vízóra B Meters 2\" Hideg",54678]
["4/3","Vízóra GMD 1\" 25mm",24015]
["21/4","Vízóra GMD 5/4\" 32mm",25436]
["VO HOLL 1\"","Vízóra HOLLANDER 1\"",2551]
["VO HOLL 5/4\"","Vízóra HOLLANDER 5/4\"",4635]
["TAN-X5 100 IMP","Vízóra NA100 Hideg Szennyvíz Karimás, Impulzus jeladóval",119552]
["TAN-X5","Vízóra NA50 Hideg Szennyvíz Karimás 2\"BM",71075]
["JWP1KIT","WP-1 elemes vezérlő, 1 zóna, JTV-100 BB szeleppel, 9V",31787]
["WP6","WP-6 elemes vezérlő, 6 zóna, 9V",53394]
["WP8","WP-8 elemes vezérlő, 8 zóna, 9V",57205]
["WPX1","WPX1 elemes vezérlő, 1 zóna, 9V",25160]
["WPX2","WPX2 elemes vezérlő, 2 zóna, 9V",43399]
["WPX4","WPX4 elemes vezérlő, 4 zóna, 9V",47440]
["WPX6","WPX6 elemes vezérlő, 6 zóna, 9V",52610]
["WPXDVKIT","WPX-DV kit, elemes vezérlő + DV BB 1\" szelep, 1 zóna, 9V",27931]
["XCH-1200","XC HYBRID, 12 zónás vezérlő",81458]
["XCH-400","XC HYBRID, 4 zónás vezérlő",51770]
["XCH-800","XC HYBRID, 8 zónás vezérlő",57948]
["XC-401-iE","X-Core, BELTÉRI, 4 zónás vezérlő",23970]
["XC-601-iE","X-Core, BELTÉRI, 6 zónás vezérlő",26963]
["XC-801-iE","X-Core, BELTÉRI, 8 zónás vezérlő",34456]
["XC-401-E","X-Core, KÜLTÉRI, 4 zónás vezérlő",34848]
["XC-601-E","X-Core, KÜLTÉRI, 6 zónás vezérlő",40527]
["XC-801-E","X-Core, KÜLTÉRI, 8 zónás vezérlő",48950]
["XS TECO_180","XS KOMPLETT, TECO 180° átf. mikroszóró, 0-4 m",656]
["XS TECO_360","XS KOMPLETT, TECO 360° átf. mikroszóró, 0-4 m",656]
["XS TECO_90","XS KOMPLETT, TECO 90° átf. mikroszóró, 0-4 m",656]
["Yara Mila C","Yara Mila műtrágya, COMPLEX 25kg",8819]